Workbook

Sheet 6月分
A1: ６月彦根 現金
A2: 日付 | C2: 用途 | E2: 支出金 | F2: 担当 | G2: 備考
A3: 46174 | C3: 消耗品費 | E3: 1280 | F3: 伊藤 | G3: カインズ 資機材 立替
C4: 消耗品費 | E4: 5120 | F4: 社長 | G4: カインズ 資機材
C5: 燃料費 | E5: 4837 | F5: 社長 | G5: ガソリン代
C6: 燃料費 | E6: 2940 | F6: 社長 | G6: ガソリン代
C7: 福利厚生費 | E7: 1250 | F7: 社長 | G7: 飲食代
C8: 福利厚生費 | E8: 7195 | F8: 社長 | G8: お弁当代
C9: 接待交際費 | E9: 4968 | F9: 社長 | G9: 手土産代
A10: 46177 | C10: 燃料費 | E10: 3000 | F10: 社長 | G10: ガソリン代
C11: 租税公課 | E11: 2100 | F11: 社長 | G11: 滋賀県交通安全協会 道路使用
E21: =SUM(E3:E20) -> 32690
A23: ６月彦根 カード
A24: 日付 | C24: 用途 | E24: 支出金 | F24: 担当 | G24: 備考
A25: 46176 | C25: 福利厚生費 | E25: 10084 | F25: 社長 | G25: 彦根キャッスル
E41: =SUM(E25:E40) -> 10084

Sheet 経費合計
B1: 改 | C1: 現金 | E1: カード | I1: ６月 | J1: 合計
A2: 宿泊費 | E2: =宿泊!E19 -> 374674 | I2: 0 | J2: =E2+I2 -> 374674 | M2: 宿泊
A3: 燃料費 | C3: =ガソリン!E21 -> 30802 | E3: =ガソリン!E41 -> 47312 | I3: 0 | J3: =C3+E3+I3+C4+E4+E5 -> 195434 | M3: 車両
A4: 車両費 | C4: =車両!E5 -> 30800 | E4: =車両!E3+車両!E4 -> 54780 | G4: レンタカー
A5: ETC | E5: =車両!E33 -> 31740
A6: 飲食 | C6: =飲食!E30 -> 79022 | E6: =飲食!E39 -> 16250 | I6: 0 | J6: =C6+E6+I6+C7+E7+I7+C10 -> 245536 | M6: 資機材
A7: 資機材 | C7: =資機材!E21 -> 45206 | E7: =資機材!E36 -> 105058 | I7: 0
A8: その他 | C8: =その他!E25 -> 30405 | E8: =その他!E36 -> 0 | G8: 接待交際費 駐車料金等 | I8: 0 | J8: =C8+E8+I8 -> 30405 | M8: その他
A9: 合計 | C9: =C2+C3+C4+C7+C8+D5+C6 -> 216235 | E9: =E3+E4+E7+E8+E5+E6 -> 255140 | I9: 0
A11: 総合計 | C11: =C9+E9+C10+I9+E2 -> 846049 | G11: =C9+E9 -> 471375 | I11: 宿泊以外の経費
G12: =E2 -> 374674 | I12: 宿泊
B14: 元本 | C14: 現金 | E14: カード | I14: ６月 | J14: 合計
A15: 宿泊費 | E15: 478544 | I15: 10450 | J15: =E15+I15 -> 488994 | M15: 宿泊
A16: 燃料費 | C16: 30802 | E16: 54780 | I16: 10777 | J16: =C16+E16+I16+C17+E17+E18 -> 190639 | M16: 車両
A17: 車両費 | C17: 30800 | E17: 31740 | G17: レンタカー
A18: ETC | E18: 31740
A19: 飲食 | C19: 108579 | E19: 49238 | I19: 8445 | J19: =C19+E19+I19+C20+E20+I20+C23 -> 455740 | M19: 資機材
A20: 資機材 | C20: 50464 | E20: 105058 | I20: 6400
A21: その他 | C21: 105268 | E21: 10834 | G21: 接待交際費 駐車料金等 | I21: 7068 | J21: =C21+E21+I21 -> 123170 | M21: その他
A22: 合計 | C22: 325913 | E22: 777506 | I22: =I15+I16+I19+I20+I21 -> 43140
A23: 出金 | C23: 127556 | G23: 紅善
A24: 総合計 | C24: =C22+E22+C23+I22 -> 1274115 | H24: =C24-J15 -> 785121

Sheet その他
A1: その他
A2: 日付 | C2: 用途 | E2: 支出金 | F2: 担当 | G2: 備考
A3: 1日 | C3: 租税公課 | E3: 2100 | F3: 社長 | G3: 彦根交通安全協会
A4: 10日 | C4: 交通費 | E4: 200 | F4: 前川 | G4: 駐車料金
A5: 13日 | C5: 交通費 | E5: 440 | F5: 社長 | G5: 駐車料金
A6: 13日 | C6: 交通費 | E6: 220 | F6: 前川 | G6: 駐車料金
A7: 14日 | C7: 交通費 | E7: 1000 | F7: 社長 | G7: 駐車料金
A8: 23日 | C8: 交通費 | E8: 400 | F8: 伊藤 | G8: 駐車料金
C9: 交通費 | E9: 400 | F9: 伊藤 | G9: 駐車料金
C10: 交通費 | E10: 400 | F10: 前川 | G10: 駐車料金
C11: 交通費 | E11: 220 | F11: 前川 | G11: 駐車料金
A12: 24日 | C12: 交通費 | E12: 400 | F12: 前川 | G12: 駐車料金
C13: 接待交際費 | E13: 4060 | F13: 前川 | G13: 手土産代
C14: 接待交際費 | E14: 7057 | F14: 前川 | G14: 来客用飲料 熱中症対策
A15: ２７日 | C15: 交通費 | E15: 600 | F15: 前川 | G15: 駐車料金
A16: 28日 | C16: 交通費 | E16: 600 | F16: 前川 | G16: 駐車料金
A17: 29日 | C17: 交通費 | E17: 600 | F17: 前川 | G17: 駐車料金
C18: 接待交際費 | E18: 928 | F18: 前川 | G18: 茶菓子
C19: 接待交際費 | E19: 280 | F19: 前川 | G19: 茶菓子
C20: 接待交際費 | E20: 5100 | F20: 前川 | G20: イベント関係者と食事
A21: 30日 | C21: 交通費 | E21: 400 | F21: 前川 | G21: 駐車料金
C22: 交通費 | E22: 400 | F22: 社長 | G22: 駐車料金
A23: 31日 | C23: 交通費 | E23: 400 | F23: 前川 | G23: 駐車料金 | I23: 前川 | J23: =E4+E6+E10+E11+E12+E13+E14+E15+E16+E17+E18+E19+E20+E21+E23+E24 -> 25665
C24: 接待交際費 | E24: 4200 | F24: 前川 | G24: イベント関係者と食事 | I24: 伊藤 | J24: =E8+E9 -> 800
E25: =SUM(E3:E24) -> 30405
A28: その他カード
A29: 日付 | C29: 用途 | E29: 支出金 | F29: 担当 | G29: 備考
E36: =SUM(E30:E35) -> 0

Sheet 宿泊
A1: 宿泊
A2: 日付 | C2: 用途 | E2: 支出金 | F2: 担当 | G2: 備考
A3: 46149 | C3: 福利厚生費 | E3: 7400 | F3: カード | G3: スーパーホテル
A4: 46160 | C4: 福利厚生費 | E4: 25415 | F4: カード | G4: ホテルルートイン彦根
A5: 46161 | C5: 福利厚生費 | E5: 12420 | F5: カード | G5: コンフォートホテル彦根
A6: 46163 | C6: 福利厚生費 | E6: 18600 | F6: カード | G6: コンフォートホテル彦根
A7: 46164 | C7: 福利厚生費 | E7: 50490 | F7: カード | G7: ルートイン彦根
A8: 46165 | C8: 福利厚生費 | E8: 164290 | F8: カード | G8: ルートイン彦根
C9: 福利厚生費 | E9: 50108 | F9: カード | G9: 亀の井ホテル彦根
A10: 46173 | C10: 福利厚生費 | E10: 22815 | F10: 現金 | G10: ルートイン彦根
C11: 福利厚生費 | E11: 23136 | F11: カード | G11: agoda
E19: =SUM(E3:E18) -> 374674

Sheet 飲食
A1: 飲食
A2: 日付 | C2: 用途 | E2: 支出金 | F2: 担当 | G2: 備考
A3: 14日 | C3: 福利厚生費 | E3: 9790 | F3: 社長 | G3: 食事代
A4: 19日 | C4: 福利厚生費 | E4: 4140 | F4: 社長 | G4: 食事代 | I4: 伊藤
A5: 22日 | C5: 福利厚生費 | E5: 2900 | F5: 社長 | G5: 食事代 | I5: =E13+E14+E15+E20+E23+E25 -> 6876
C6: 福利厚生費 | E6: 4370 | F6: 社長 | G6: 食事代
A7: 46163 | C7: 福利厚生費 | E7: 3250 | F7: 社長 | G7: 食事代
A8: 23日 | C8: 福利厚生費 | E8: 5600 | F8: 社長 | G8: 食事代 | I8: 前川
C9: 福利厚生費 | E9: 1857 | F9: 社長 | G9: 食事代 | I9: =E16+E18+E19+E21+E24+E26+E27 -> 15490
C10: 福利厚生費 | E10: 2993 | F10: 社長 | G10: 食事代
C11: 福利厚生費 | E11: 6734 | F11: 社長 | G11: 食事代
A12: 24日 | C12: 福利厚生費 | E12: 2100 | F12: 社長 | G12: 食事代
C13: 福利厚生費 | E13: 1300 | F13: 伊藤 | G13: 食事代
C14: 福利厚生費 | E14: 900 | F14: 伊藤 | G14: 食事代
A15: ２５日 | C15: 福利厚生費 | E15: 1594 | F15: 伊藤 | G15: 食事代
C16: 福利厚生費 | E16: 4000 | F16: 前川 | G16: 食事代
A17: 26日 | C17: 福利厚生費 | E17: 1797 | F17: 社長 | G17: 食事代
A18: ２７日 | C18: 福利厚生費 | E18: 2120 | F18: 前川 | G18: 食事代
C19: 福利厚生費 | E19: 2760 | F19: 前川 | G19: 食事代
A20: 28日 | C20: 福利厚生費 | E20: 1518 | F20: 伊藤 | G20: 食事代
C21: 福利厚生費 | E21: 1650 | F21: 前川 | G21: 食事代
A22: 29日 | C22: 福利厚生費 | E22: 1750 | F22: 社長 | G22: 食事代
C23: 福利厚生費 | E23: 724 | F23: 伊藤 | G23: 食事代
C24: 福利厚生費 | E24: 1100 | F24: 前川 | G24: 食事代
A25: 30日 | C25: 福利厚生費 | E25: 840 | F25: 伊藤 | G25: 食事代
C26: 福利厚生費 | E26: 1650 | F26: 前川 | G26: 食事代
C27: 福利厚生費 | E27: 2210 | F27: 前川 | G27: 食事代
A28: 31日 | C28: 福利厚生費 | E28: 4438 | F28: 社長 | G28: 食事代
C29: 福利厚生費 | E29: 4937 | F29: 社長 | G29: 食事代
E30: =SUM(E3:E29) -> 79022
A31: 飲食 カード
A33: 日付 | C33: 用途 | E33: 支出金 | F33: 担当 | G33: 備考
A34: 46150 | C34: 福利厚生費 | E34: 12100 | F34: 社長 | G34: 食事代
A35: 46155 | C35: 福利厚生費 | E35: 4150 | F35: 社長 | G35: 食事代
E39: =SUM(E34:E38) -> 16250

Sheet 車両
A1: 車両
A2: 日付 | C2: 用途 | E2: 支出金 | G2: 備考
A3: 5日 | C3: 車両費 | E3: 15180 | F3: カード | G3: レンタカー
A4: 22日 | C4: 車両費 | E4: 39600 | F4: カード | G4: レンタカー
A5: 31日 | C5: 車両費 | E5: 30800 | F5: 現金 | G5: レンタカー
E20: =SUM(E3:E19) -> 85580
A22: ETC
A23: 46143 | C23: 交通費 | E23: 3290 | F23: 社長 | G23: etc
A24: 46149 | C24: 交通費 | E24: 3070 | F24: 社長 | G24: etc
A25: 46150 | C25: 交通費 | E25: 5600 | F25: 社長 | G25: etc
A26: 46151 | C26: 交通費 | E26: 6650 | F26: 社長 | G26: etc
A27: 46151 | C27: 交通費 | E27: 1270 | F27: 社長 | G27: etc
A28: 46154 | C28: 交通費 | E28: 3290 | F28: 社長 | G28: etc
A29: 46154 | C29: 交通費 | E29: 1370 | F29: 事務 | G29: etc
A30: 46157 | C30: 交通費 | E30: 3010 | F30: 事務 | G30: etc
C31: 交通費 | E31: 2260 | F31: 事務 | G31: etc
C32: 交通費 | E32: 1930 | F32: 社長 | G32: etc
E33: =SUM(E23:E32) -> 31740

Sheet 資機材
A1: 資機材 現金
A2: 日付 | C2: 用途 | E2: 支出金 | F2: 担当 | G2: 備考
A3: 13日 | C3: 消耗品費 | E3: 525 | F3: 社長 | G3: アヤハディオ
A4: 21日 | C4: 消耗品費 | E4: 5432 | F4: 社長 | G4: コーナン
C5: 消耗品費 | E5: 5874 | F5: 社長 | G5: コーナン
C6: 消耗品費 | E6: 9793 | F6: 社長 | G6: コーナン
A7: 22日 | C7: 消耗品費 | E7: 616 | F7: 前川 | G7: コメリ
C8: 消耗品費 | E8: 1900 | F8: 社長 | G8: ワークマン
A9: 23日 | C9: 消耗品費 | E9: 5520 | F9: 前川 | G9: カインズ
C10: 消耗品費 | E10: 7083 | F10: 前川 | G10: カインズ
A11: 26日 | C11: 消耗品費 | E11: 1695 | F11: 社長 | G11: ドン・キホーテ
A12: 28日 | C12: 消耗品費 | E12: 6768 | F12: 社長 | G12: ニトリ
E21: =SUM(E3:E20) -> 45206
A22: 資機材 カード
A23: 日付 | C23: 用途 | E23: 支出金 | F23: 担当 | G23: 備考
A24: 13日 | C24: 消耗品費 | E24: 6073 | F24: 社長 | G24: アヤハディオ
A25: 20日 | C25: 消耗品費 | E25: 8204 | F25: 社長 | G25: コーナン
A26: 21日 | C26: 消耗品費 | E26: 5874 | F26: 社長 | G26: コーナン
C27: 消耗品費 | E27: 5874 | F27: 社長 | G27: コーナン
A28: 22日 | C28: 消耗品費 | E28: 2080 | F28: 社長 | G28: カインズ
A29: 23日 | C29: 消耗品費 | E29: 8005 | F29: 社長 | G29: カインズ
C30: 消耗品費 | E30: 8908 | F30: 社長 | G30: コーナン
A31: 24日 | C31: 消耗品費 | E31: 58164 | F31: 社長 | G31: コメリ
A32: 29日 | C32: 消耗品費 | E32: 1876 | F32: 社長 | G32: カインズ
E36: =SUM(E24:E32) -> 105058

Sheet ガソリン
A1: ガソリン
A2: 日付 | C2: 用途 | E2: 支出金 | F2: 担当 | G2: 備考
A3: 18日 | C3: 燃料費 | E3: 4110 | F3: 社長 | G3: ガソリン代
A4: 23日 | C4: 燃料費 | E4: 6300 | F4: 社長 | G4: ガソリン代
C5: 燃料費 | E5: 3260 | F5: 伊藤 | G5: ガソリン代
A6: 24日 | C6: 燃料費 | E6: 1590 | F6: 社長 | G6: ガソリン代
C7: 燃料費 | E7: 1656 | F7: 伊藤 | G7: ガソリン代 | I7: =E5+E7+E9+E11 -> 7310
C8: 燃料費 | E8: 5637 | F8: 大先 | G8: ガソリン代 軽油
A9: 26日 | C9: 燃料費 | E9: 1394 | F9: 伊藤 | G9: ガソリン代
A10: 30日 | C10: 燃料費 | E10: 5855 | F10: 社長 | G10: ガソリン代
C11: 燃料費 | E11: 1000 | F11: 伊藤 | G11: ガソリン代
E21: =SUM(E3:E20) -> 30802
A23: ガソリン カード
A24: 日付 | C24: 用途 | E24: 支出金 | F24: 担当 | G24: 備考
A25: 1日 | C25: 燃料費 | E25: 2649 | F25: 前川 | G25: ガソリン
A26: 7日 | C26: 燃料費 | E26: 6203 | F26: 社長 | G26: ガソリン
A27: ９日 | C27: 燃料費 | E27: 3629 | F27: 前川 | G27: ガソリン
A28: 12日 | C28: 燃料費 | E28: 7997 | F28: 社長 | G28: ガソリン
A29: 18日 | C29: 燃料費 | E29: 6228 | F29: 社長 | G29: ガソリン
A30: 21日 | C30: 燃料費 | E30: 5614 | F30: 社長 | G30: ガソリン
A31: 22日 | C31: 燃料費 | E31: 2743 | F31: 前川 | G31: ガソリン
A32: 26日 | C32: 燃料費 | E32: 3904 | F32: 前川 | G32: ガソリン
A33: 28日 | C33: 燃料費 | E33: 5081 | F33: 社長 | G33: ガソリン
A34: 29日 | C34: 燃料費 | E34: 3264 | F34: 前川 | G34: ガソリン
E41: =SUM(E25:E40) -> 47312
