Workbook

Sheet 総計祇園
A1: 祇園祭
A2: 日付 | B2: 用途 | C2: 支出 | E2: 備考
A3: 46219 | B3: 福利厚生費 | C3: 37200 | E3: 共立メンテナンス
C27: =SUM(C3:C26) -> 37200

Sheet 総計亀岡
A1: 亀岡
A2: 現金 | B2: 入金 | C2: 出金 | D2: 残高 | E2: 備考
A3: ７月 | C3: 60000 | E3: 印紙
C4: 2000 | E4: 飲食
C5: 4708 | E5: 資機材
C6: 500 | E6: 交通費
A7: ８月 | C7: 16812 | E7: 燃料費
C8: 153829 | E8: 飲食
C9: 90601 | E9: 資機材
C10: 61407 | E10: その他
C11: 2640 | E11: 交通費
D15: 7月合計 | E15: =C3+C4+C5+C6 -> 67208
D16: ８月合計 | E16: =C7+C8+C9+C10+C11 -> 325289
C26: =SUM(C3:C25) -> 392497

Sheet 総計びわ湖
A1: びわ湖
A2: 現金 | B2: 入金 | C2: 出金 | D2: 残高 | E2: 備考
A3: 祇園 | C3: =' 現金 祇園祭'!D26 -> 9832 | E3: 合計
C4: ='ホテル 現金'!D17 -> 431794 | E4: 宿泊費
A5: 7月 | C5: =がそりん!D29 -> 32426 | E5: 燃料費
C6: =資機材!D32 -> 367549 | E6: 資機材
C7: =飲食・飲料!D29 -> 93350 | E7: 飲食①
C8: =飲食・飲料!D59 -> 71185 | E8: 飲食②
A9: 1359917 | C9: =車両関係!D30 -> 12980 | E9: 交通費 | F9: ７月合計
C10: =飲食・飲料!D151 -> 66786 | E10: 飲料 | F10: =C5+C6+C7+C8+C9+C10+C11+C4 -> 1359917
C11: =その他!D29 -> 283847 | E11: その他
A12: ８月 | C12: =飲食・飲料!D175 -> 127991 | E12: 飲料 | F12: ８月合計 | G12: =F10+F13 -> 3114282
C13: =がそりん!D59 -> 87383 | E13: 燃料費 | F13: =C12+C13+C14+C15+C16+C17+C19+C20+C18 -> 1754365
C14: =資機材!D57 -> 156173 | E14: 資機材
C15: =飲食・飲料!D93 -> 402649 | E15: 飲食①
C16: =飲食・飲料!D127 -> 212855 | E16: 飲食②
A17: 1754365 | C17: =車両関係!D88 -> 47220 | E17: 交通費
C18: =車両関係!D55 -> 35000 | E18: レンタカー
C19: ='ホテル 現金'!D35 -> 570563 | E19: 宿泊費
C20: =その他!D51 -> 114531 | E20: その他
C21: =SUM(C4:C20) -> 3114282
A26: 出金済み経費
A28: 現金 | B28: 通帳 | C28: 出金 | D28: 入金 | E28: 備考
A29: 46239 | B29: メイン | C29: 178000 | E29: ホテルアルファーワン
A30: 46239 | B30: メイン | C30: 18000 | E30: ホテルアルファーワン
A31: 46247 | B31: メイン | C31: =資機材!D67 -> 0 | D31: 8505 | E31: ホテルアルファーワン 返金
A32: 46244 | B32: 税金用 | C32: 167412 | E32: 株式会社中野 氷
A33: 46260 | B33: 税金用 | C33: 281600 | E33: 西脇レンタカー
A34: 46260 | B34: 税金用 | C34: 142597 | E34: 関西フォークリフト
C35: ='ホテル 現金'!D45 -> 0
C36: =その他!D61 -> 0
C37: =SUM(C29:C36) -> 787609

Sheet 総計カード
A1: カード
B2: 用途 | C2: 金額 | D2: カード会社 | E2: 備考
B3: 祇園祭 | C3: =カード祇園祭!D26 -> 99979 | E3: 祇園合計 ￥99979
A4: ６月 | B4: 交通費 | C4: 20440 | E4: ６月合計 ￥20440
A5: ７月 | B5: 宿泊費 | C5: =ホテルカードびわこ!E29 -> 1107256
B6: 資機材 | C6: ='資機材 カード'!D23 -> 916994
B7: 飲料ネット購入 | C7: ='飲食・飲料 カード'!D59 -> 150318
B8: レンタカー | C8: ='車両関係 カード'!D58 -> 54800 | F8: 楽天合計
B9: 救護用品 | C9: ='救護用品 カード'!D24 -> 158040 | F9: =31597+31040 -> 62637
B10: 交通費 | C10: ='車両関係 カード'!D83+'車両関係 カード'!D109 -> 98640
B11: 燃料費 | C11: ='がそりん カード'!D24 -> 38281 | E11: 7月びわこ合計 | F11: 楽天別
B12: 飲食 | C12: ='飲食・飲料 カード'!D30 -> 65153 | E12: =C5+C6+C7+C8+C9+C10+C11+C12 -> 2589482 | F12: =C5+C6+C7+C8+C9+C10+C11+C12-F9 -> 2526845
A13: ８月 | B13: 宿泊費 | C13: =ホテルカードびわこ!E57 -> 771917
B14: 資機材 | C14: ='資機材 カード'!D48 -> 123309
B15: レンタカー | C15: ='車両関係 カード'!D29 -> 169500
B16: 飲食 | C16: ='飲食・飲料 カード'!D80 -> 89004 | E16: ８月びわこ合計
B17: 飲料 熱中症対策 | C17: ='飲食・飲料 カード'!D101 -> 42218 | E17: =C13+C14+C15+C16+C17+C19+C18 -> 1319938
B18: 交通費 | C18: 75877
B19: 燃料費 | C19: ='がそりん カード'!D50 -> 48113
C20: =SUM(C4:C19) -> 3929860

Sheet カード祇園祭
A1: 7月 カード 祇園
A2: 日付 | B2: 用途 | D2: 支出 | F2: 備考
A3: 46206 | B3: 消耗品費 | D3: 44584 | E3: 領収書有 | F3: コーナン資機材
A4: 46215 | B4: 福利厚生費 | D4: 32700 | E4: 領収書有 | F4: 御宿野乃
A5: 46215 | B5: 福利厚生費 | D5: 22695 | E5: 領収書有 | F5: 夕食 お弁当等
D26: =SUM(D3:D7) -> 99979

Sheet  現金 祇園祭
A1: 7月 現金 祇園
A2: 日付 | B2: 用途 | D2: 支出 | F2: 備考
A3: 46206 | B3: 交通費 | D3: 800 | E3: 領収書有 | F3: 駐車場
A4: 46213 | B4: 交通費 | D4: 700 | E4: 領収書有 | F4: 駐車場
A5: 46216 | B5: 交通費 | D5: 1600 | E5: 領収書有 | F5: 駐車場
A6: 46219 | B6: 福利厚生費 | D6: 6107 | E6: 領収書有 | F6: お弁当代
A7: 46220 | B7: 福利厚生費 | D7: 625 | E7: 領収書有 | F7: 飲料代
D26: =SUM(D3:D7) -> 9832

Sheet ホテル 現金
A1: ７月現金 びわこ宿泊
A2: 日付 | B2: 用途 | C2: 預り金 | D2: 支出金 | E2: 備考
A3: ２１日 | B3: 福利厚生費 | D3: 32150 | E3: ドーミーイン京都
A4: ２１日 | B4: 福利厚生費 | D4: 70100 | E4: ブルーレイク
A5: ２２日 | B5: 福利厚生費 | D5: 9600 | E5: ブルーレイク
A6: 23日 | B6: 福利厚生費 | D6: 15672 | E6: びわ湖大津プリンスホテル
A7: ２３日 | B7: 福利厚生費 | D7: 15672 | E7: びわ湖大津プリンスホテル
A8: ２７日 | B8: 福利厚生費 | D8: 66000 | E8: アヤハレークサイド
A9: ２９日 | B9: 福利厚生費 | D9: 33000 | E9: アヤハレークサイド
A10: ２９日 | B10: 福利厚生費 | D10: 75000 | E10: スーパーホテル
A11: ２９日 | B11: 福利厚生費 | D11: 12600 | E11: 御宿野乃
A12: 30日 | B12: 福利厚生費 | D12: 30000 | E12: 琵琶湖ホテル
A13: 30日 | B13: 福利厚生費 | D13: 32400 | E13: ブルーレイク
A14: ３１日 | B14: 福利厚生費 | D14: 22000 | E14: ブルーレイク
A15: ３１日 | B15: 福利厚生費 | D15: 17600 | E15: アヤハレークサイド
D17: =SUM(D3:D16) -> 431794
A19: 8月現金 びわこ宿泊
A20: 日付 | B20: 用途 | C20: 預り金 | D20: 支出金 | E20: 備考
A21: １日 | B21: 福利厚生費 | D21: 71250 | E21: ブルーレイク
A22: ２日 | B22: 福利厚生費 | D22: 19000 | E22: 草津第一
A23: ５日 | B23: 福利厚生費 | D23: 7500 | E23: ブルーレイク
A24: ５日 | B24: 福利厚生費 | D24: 29568 | E24: 共立リゾート
A25: ７日 | B25: 福利厚生費 | D25: 54760 | E25: ブルーレイク
A26: ７日 | B26: 福利厚生費 | D26: 24200 | E26: 共立リゾート
A27: ７日 | B27: 福利厚生費 | D27: 26800 | E27: 共立メンテナンス
A28: ９日 | B28: 福利厚生費 | D28: 20400 | E28: ルートイン加西
A29: １０日 | B29: 福利厚生費 | D29: 141715 | E29: 琵琶湖グランドホテル
A30: １２日 | B30: 福利厚生費 | D30: 124000 | E30: 共立メンテナンス
A31: １３日 | B31: 福利厚生費 | D31: 41400 | E31: 共立メンテナンス
A32: １７日 | B32: 福利厚生費 | D32: 9970 | E32: スーパーホテル大津
D35: =SUM(D21:D32) -> 570563

Sheet ホテルカードびわこ
A1: ７月 | B1: 花火 | D1: ホテル | H1: paypay
A2: 日付 | B2: 用途 | C2: 預り金 | E2: 支出金 | I2: 備考
A3: 1日 | B3: 福利厚生費 | E3: 67400 | F3: 領収書有 | I3: ピアザ
A4: 2日 | B4: 福利厚生費 | E4: 49200 | F4: 領収書有 | I4: ピアザ
B5: 福利厚生費 | E5: 35300 | F5: 領収書有 | I5: ピアザ
A6: 3日 | B6: 福利厚生費 | E6: 68400 | F6: 領収書有 | I6: trip.com
A7: 12日 | B7: 福利厚生費 | E7: 100350 | F7: 領収書有 | I7: アヤハ
B8: 福利厚生費 | E8: 15250 | F8: 明細 | I8: 御宿野乃
A9: 46246 | B9: 福利厚生費 | E9: 32700 | F9: 領収書有 | I9: 御宿野乃
A10: 13日 | B10: 福利厚生費 | E10: 298200 | F10: 領収書有 | I10: ピアザ
A11: 13日 | B11: 福利厚生費 | E11: 7161 | F11: 領収書有 | I11: ホテルロイヤルヒル福知山
A12: 15日 | B12: 福利厚生費 | E12: 13129 | F12: 領収書有 | I12: 楽天トラベル
B13: 福利厚生費 | E13: 15120 | F13: 領収書有 | I13: ルートイン加東
B14: 福利厚生費 | E14: 17450 | F14: 領収書有 | I14: ドーミーイン京都
A15: 16日 | B15: 福利厚生費 | E15: 19500 | F15: 領収書有 | I15: ドーミーイン
A16: 16日 | B16: 福利厚生費 | E16: 24436 | F16: 領収書有 | I16: 京都 花伝抄
A17: 18日 | B17: 福利厚生費 | E17: 69150 | F17: 領収書有 | I17: Agoda
B18: 福利厚生費 | E18: 34150 | F18: 領収書有 | I18: ドーミーイン
A19: 30日 | B19: 福利厚生費 | E19: 9400 | F19: 領収書有 | I19: ブルーレイク
A20: 31日 | B20: 福利厚生費 | E20: 17900 | F20: 領収書有 | I20: アヤハ
B21: 福利厚生費 | E21: 213060 | F21: 領収書有 | I21: アパホテル
C29: 合計 | E29: =SUM(E3:E28) -> 1107256 | F29: 株式会社CSILead
A31: ８月 | B31: 花火 | D31: ホテル
A32: 日付 | B32: 用途 | C32: 預り金 | E32: 支出金 | I32: 備考
A33: 46235 | B33: 福利厚生費 | E33: 9800 | F33: 領収書有 | I33: ブルーレイク
B34: 福利厚生費 | E34: 15178 | F34: 領収書有 | I34: Agoda
A35: 46236 | B35: 福利厚生費 | E35: 10350 | F35: 領収書有 | I35: ドーミーイン京都
B36: 福利厚生費 | E36: 30138 | F36: 領収書有 | I36: Agoda
A37: 46237 | B37: 福利厚生費 | E37: 21488 | F37: 領収書有 | I37: trip.com
B38: 福利厚生費 | E38: 19400 | F38: カード明細 | I38: ブルーレイク
B39: 福利厚生費 | E39: 10890 | F39: カード明細 | I39: ルートイン加東
A40: 46238 | B40: 福利厚生費 | E40: 7500 | F40: 領収書有 | I40: ブルーレイク
A41: 46239 | B41: 福利厚生費 | E41: 22668 | F41: 領収書有 | I41: 花伝抄
A42: 46240 | B42: 福利厚生費 | E42: 140000 | F42: 領収書有 | I42: 東横イン
B43: 福利厚生費 | E43: 10890 | F43: カード明細 | I43: ルートイン加東
B44: 福利厚生費 | E44: 34000 | F44: 領収書有 | I44: ホテルテトラ
B45: 福利厚生費 | E45: 8100 | F45: カード明細 | I45: ブルーレイク
A46: 46241 | B46: 福利厚生費 | E46: 119700 | F46: 領収書有 | I46: 一休
B47: 福利厚生費 | E47: 84000 | F47: 領収書有 | I47: 一休
B48: 福利厚生費 | E48: 30320 | F48: 領収書有 | I48: 一休
...

Sheet 氷
A1: ８月 現金 株式会社中野 氷・ドライアイス
A2: 日付 | B2: 用途 | C2: 預り金 | D2: 支出金 | F2: 備考
A3: 8日 | B3: 消耗品費 | D3: 48900 | E3: 現金 | F3: 中野
B4: 消耗品費 | D4: 30440 | E4: 現金 | F4: 中野
B5: 消耗品費 | D5: 66672 | E5: 現金 | F5: 中野
B6: 消耗品費 | D6: 78468 | E6: 現金 | F6: 中野
C31: 合計 | D31: =SUM(D3:D30) -> 224480 | E31: 株式会社CSILead

Sheet その他
A1: 7月 現金 びわ湖 その他
A2: 日付 | B2: 用途 | C2: 預り金 | D2: 支出金 | F2: 備考
A3: １日 | B3: 接待交際費 | D3: 215500 | E3: 前川 | F3: チケット代
A4: ２１日 | B4: 接待交際費 | D4: 2450 | E4: 社長 | F4: 手土産代
A5: ２１日 | B5: 通信費 | D5: 110 | E5: 前川 | F5: 切手代
A6: 27日 | B6: 消耗品費 | D6: 12830 | E6: 事務 | F6: ワークマン シャツ、インナー等
A7: ２８日 | B7: 消耗品費 | D7: 17662 | E7: 事務 | F7: 熱中症対策用品
A8: ２９日 | B8: 接待交際費 | D8: 2080 | E8: 事務 | F8: 和菓子 さかもと 手土産
A9: 31日 | B9: 通信費 | D9: 8000 | E9: 事務 | F9: 印紙
A10: ３１日 | B10: 通信費 | D10: 14600 | E10: 事務 | F10: 印紙、切手
A11: ３１日 | B11: 福利厚生費 | D11: 10615 | E11: 社長 | F11: 熱中症対策用品
C29: 合計 | D29: =SUM(D3:D28) -> 283847 | E29: 株式会社CSILead
A31: 8月 現金 びわ湖 その他
A32: 日付 | B32: 用途 | C32: 預り金 | D32: 支出金 | F32: 備考
A33: 1日 | B33: 接待交際費 | D33: 11930 | E33: 領収書有 | F33: モテナス 手土産
B34: 接待交際費 | D34: 2400 | E34: 領収書有 | F34: さかもと 差し入れ
B35: 福利厚生費 | D35: 10740 | E35: 領収書有 | F35: ワークマン 衣類
B36: 通信費 | D36: 9450 | E36: 領収書有 | F36: 切手代
A37: ３日 | B37: 福利厚生費 | D37: 4990 | E37: 領収書有 | F37: ユニクロ 衣類
B38: 消耗品費 | D38: 200 | E38: 領収書有 | F38: セブンイレブン 書類コピー
B39: 消耗品費 | D39: 20 | E39: 領収書有 | F39: セブンイレブン 書類コピー
A40: ４日 | B40: 接待交際費 | D40: 5294 | E40: 領収書有 | F40: たねや お菓子代 | G40: 前川
B41: 福利厚生費 | D41: 7106 | E41: 領収書有 | F41: イオン 衣類
A42: ５日 | B42: 通信費 | D42: 810 | E42: 領収書有 | F42: 切手代
A43: ６日 | B43: 通信費 | D43: 450 | E43: 領収書有 | F43: 切手代
A44: ７日 | B44: 消耗品費 | D44: 1105 | E44: 領収書有 | F44: 洗濯用 ハンガー | G44: 理恵
B45: 接待交際費 | D45: 21208 | E45: 領収書有 | F45: フロマージュ ギフトセット３件分 | G45: シズカ
A46: ８日 | B46: 接待交際費 | D46: 22928 | E46: 領収書有 | F46: 味工房志野 手土産代 ５件分
A47: １８日 | B47: 接待交際費 | D47: 15900 | E47: 領収書有 | F47: 加門 手土産代
C51: 合計 | D51: =SUM(D33:D50) -> 114531 | E51: 株式会社CSILead

Sheet 救護用品 カード
A1: 7月 カード びわ湖 救護用品
A2: 日付 | B2: 用途 | C2: 預り金 | D2: 支出金 | F2: 備考
A3: 17日 | B3: 消耗品費 | D3: 4680 | E3: 領収書有 | F3: 速攻冷却
A4: １８日 | B4: 消耗品費 | D4: 8940 | E4: 領収書有 | F4: 血圧計
A5: １８日 | B5: 消耗品費 | D5: 60920 | E5: 領収書有 | F5: OS1
A6: 20日 | B6: 消耗品費 | D6: 10360 | E6: 領収書有 | F6: アイスノン
A7: 20日 | B7: 消耗品費 | D7: 3273 | E7: 領収書有 | F7: 冷感アームカバー
A8: 20日 | B8: 消耗品費 | D8: 1580 | E8: 領収書有 | F8: 毛布
A9: ２１日 | B9: 消耗品費 | D9: 14300 | E9: 領収書有 | F9: 瞬間冷却
A10: ２１日 | B10: 消耗品費 | D10: 1580 | E10: 領収書有 | F10: 冷感タオル
A11: ２７日 | B11: 消耗品費 | D11: 23807 | E11: 領収書有 | F11: アイスノン
A12: 30日 | B12: 消耗品費 | D12: 28600 | E12: 領収書有 | F12: 速攻冷却
C24: 合計 | D24: =SUM(D3:D23) -> 158040 | E24: 株式会社CSILead

Sheet 車両関係 カード
A1: 8月 カード びわ湖 レンタカー
A2: 日付 | B2: 用途 | C2: 預り金 | D2: 支出金 | F2: 備考
A3: ３日 | B3: 車両費 | D3: 121100 | E3: 領収書有 | F3: 日邦レンタカー
A4: ５日 | B4: 車両費 | D4: 43900 | E4: カード明細 | F4: 日邦レンタカー
A5: ８日 | B5: 車両費 | D5: 4500 | E5: 領収書有 | F5: 日邦レンタカー
C29: 合計 | D29: =SUM(D3:D28) -> 169500 | E29: 株式会社CSILead
A31: 7月 カード びわ湖 レンタカー
A32: 日付 | B32: 用途 | C32: 預り金 | D32: 支出金 | F32: 備考
A33: 14日 | B33: 車両費 | D33: 15520 | E33: 領収書有 | F33: 楽天レンタカー
A34: １４日 | B34: 車両費 | D34: 15520 | E34: 領収書有 | F34: 楽天レンタカー
A35: 23日 | B35: 車両費 | D35: 23760 | E35: 領収書有 | F35: ステップ
C58: 合計 | D58: =SUM(D33:D57) -> 54800 | E58: 株式会社CSILead
A59: 7月カード ① びわ湖 交通費
A60: 日付 | B60: 用途 | C60: 預り金 | D60: 支出金 | F60: 備考
A61: ２日 | B61: 交通費 | D61: 1740 | E61: 明細 | F61: ETC
B62: 交通費 | D62: 1370 | E62: 明細 | F62: ETC
B63: 交通費 | D63: 890 | E63: 明細 | F63: ETC
A64: ３日 | B64: 交通費 | D64: 3290 | E64: 明細 | F64: ETC
A65: ４日 | B65: 交通費 | D65: 470 | E65: 明細 | F65: ETC
A66: 6日 | B66: 交通費 | D66: 3530 | E66: 明細 | F66: ETC
B67: 交通費 | D67: 3290 | E67: 明細 | F67: ETC
B68: 交通費 | D68: 520 | E68: 明細 | F68: ETC
A69: 7日 | B69: 交通費 | D69: 3530 | E69: 明細 | F69: ETC
B70: 交通費 | D70: 590 | E70: 明細 | F70: ETC
B71: 交通費 | D71: 490 | E71: 明細 | F71: ETC
A72: 8日 | B72: 交通費 | D72: 3290 | E72: 明細 | F72: ETC
A73: 9日 | B73: 交通費 | D73: 3290 | E73: 明細 | F73: ETC
A74: 12日 | B74: 交通費 | D74: 2800 | E74: 明細 | F74: ETC
B75: 交通費 | D75: 2800 | E75: 明細 | F75: ETC
A76: 13日 | B76: 交通費 | D76: 1630 | E76: 明細 | F76: ETC
B77: 交通費 | D77: 890 | E77: 明細 | F77: ETC
B78: 交通費 | D78: 520 | E78: 明細 | F78: ETC
A79: 14日 | B79: 交通費 | D79: 3070 | E79: 明細 | F79: ETC
B80: 交通費 | D80: 1630 | E80: 明細 | F80: ETC
B81: 交通費 | D81: 520 | E81: 明細 | F81: ETC
A82: 15日 | B82: 交通費 | D82: 2150 | E82: 明細 | F82: ETC
C83: 合計 | D83: =SUM(D61:D82) -> 42300 | E83: 株式会社CSILead
A84: 7月カード ② びわ湖 交通費
A85: 日付 | B85: 用途 | C85: 預り金 | D85: 支出金 | F85: 備考
A86: 7日 | B86: 交通費 | D86: 990 | E86: 領収書有 | F86: 駐車料金
...

Sheet 車両関係
A1: 7月 現金 びわ湖 交通費
A2: 日付 | B2: 用途 | C2: 預り金 | D2: 支出金 | F2: 備考
A3: １２日 | B3: 交通費 | D3: 1600 | E3: 社長 | F3: 駐車料金
A4: 14日 | B4: 交通費 | D4: 1200 | E4: 社長 | F4: 駐車料金
B5: 交通費 | D5: 1500 | E5: 社長 | F5: 駐車料金
A6: 16日 | B6: 交通費 | D6: 500 | E6: 社長 | F6: 駐車料金
B7: 交通費 | D7: 700 | E7: 社長 | F7: 駐車料金
B8: 交通費 | D8: 1600 | E8: 社長 | F8: 駐車料金
A9: 17日 | B9: 交通費 | D9: 440 | E9: 社長 | F9: 駐車料金
A10: 22日 | B10: 交通費 | D10: 700 | E10: 専務 | F10: 駐車料金
A11: ２３日 | B11: 交通費 | D11: 1000 | E11: 社長 | F11: 駐車料金
A12: ２６日 | B12: 交通費 | D12: 200 | E12: 前川 | F12: 駐車料金
A13: 28日 | B13: 交通費 | D13: 600 | E13: 社長 | F13: 駐車料金
A14: 29日 | B14: 交通費 | D14: 700 | E14: 社長 | F14: 駐車料金
B15: 交通費 | D15: 1600 | E15: 社長 | F15: 駐車料金
A16: 30日 | B16: 交通費 | D16: 200 | E16: 専務 | F16: 駐車料金
A17: 31日 | B17: 交通費 | D17: 440 | E17: 社長 | F17: 駐車料金
C30: 合計 | D30: =SUM(D3:D29) -> 12980 | E30: 株式会社CSILead
A31: 8月 現金 びわ湖 レンタカー
A32: 日付 | B32: 用途 | C32: 預り金 | D32: 支出金 | F32: 備考
A33: ６日 | B33: 車両費 | D33: 22900 | E33: 領収書有 | F33: 日邦レンタカー
A34: １８日 | B34: 車両費 | D34: 12100 | E34: 領収書有 | F34: 日邦レンタカー
C55: 合計 | D55: =SUM(D33:D54) -> 35000 | E55: 株式会社CSILead
A57: 8月 現金 びわ湖 交通費
A58: 日付 | B58: 用途 | C58: 預り金 | D58: 支出金 | F58: 備考
A59: １日 | B59: 交通費 | D59: 880 | E59: 専務 | F59: 駐車料金
A60: 2日 | B60: 交通費 | D60: 5400 | E60: 社長 | F60: 駐車料金
B61: 交通費 | D61: 1600 | E61: 社長 | F61: 駐車料金
A62: ３日 | B62: 交通費 | D62: 1600 | E62: 社長 | F62: 駐車料金
B63: 交通費 | D63: 2400 | E63: 社長 | F63: 駐車料金
A64: 4日 | B64: 交通費 | D64: 1260 | E64: 社長 | F64: 駐車料金
B65: 交通費 | D65: 3240 | E65: 香山 | F65: 高速料金 | G65: 香山
B66: 交通費 | D66: 800 | E66: 香山 | F66: 駐車料金 | G66: 香山
B67: 交通費 | D67: 1500 | E67: 専務 | F67: 駐車料金
A68: 5日 | B68: 交通費 | D68: 630 | E68: 社長 | F68: 駐車料金
B69: 交通費 | D69: 1500 | E69: 松下 | F69: 駐車料金 | G69: 松下
A70: 6日 | B70: 交通費 | D70: 900 | E70: 松下 | F70: 駐車料金 | G70: 松下
B71: 交通費 | D71: 2400 | E71: 社長 | F71: 駐車料金
B72: 交通費 | D72: 600 | E72: 専務 | F72: 駐車料金
A73: ８日 | B73: 交通費 | D73: 3240 | E73: 香山 | F73: 高速料金
...

Sheet 飲食・飲料 カード
A1: 7月 カード びわ湖 飲 食
A2: 日付 | B2: 用途 | C2: 預り金 | D2: 支出金 | F2: 担当 | G2: 備考
A3: 6日 | B3: 福利厚生費 | D3: 5684 | E3: 明細 | F3: 社長 | G3: 焼肉特急亀岡
A4: １１日 | B4: 福利厚生費 | D4: 23530 | E4: 領収書有 | F4: 社長 | G4: カラカラ牛旨
A5: １２日 | B5: 福利厚生費 | D5: 9339 | E5: 領収書有 | F5: 社長 | G5: ロイヤルホスト
A6: ２１日 | B6: 福利厚生費 | D6: 9750 | E6: 領収書有 | F6: 社長 | G6: 吉倉加東店
A7: 21日 | B7: 福利厚生費 | D7: 10100 | E7: 領収書有 | F7: 社長 | G7: あたか飯店
A8: ２２日 | B8: 福利厚生費 | D8: 6750 | E8: 領収書有 | F8: 社長 | G8: erika
C30: 合計 | D30: =SUM(D3:D29) -> 65153
A31: 7月 カード びわ湖 飲 料
A32: 日付 | B32: 用途 | C32: 預り金 | D32: 支出金 | F32: 備考
A33: 8日 | B33: 福利厚生費 | D33: 5184 | E33: 領収書有 | F33: ヤフーショッピング 飲料
A34: 10日 | B34: 福利厚生費 | D34: 5184 | E34: 領収書有 | F34: ヤフーショッピング 飲料
B35: 福利厚生費 | D35: 5184 | E35: 領収書有 | F35: ヤフーショッピング 飲料
B36: 福利厚生費 | D36: 4178 | E36: 領収書有 | F36: ヤフーショッピング 飲料
A37: 11日 | B37: 福利厚生費 | D37: 15518 | E37: 領収書有 | F37: ヤフーショッピング 飲料
B38: 福利厚生費 | D38: 12952 | E38: 領収書有 | F38: ヤフーショッピング 飲料
B39: 福利厚生費 | D39: 5184 | E39: 領収書有 | F39: ヤフーショッピング 飲料
A40: 14日 | B40: 福利厚生費 | D40: 19800 | E40: 領収書有 | F40: ヤフーショッピング 飲料
A41: 15日 | B41: 福利厚生費 | D41: 3300 | E41: 領収書有 | F41: ヤフーショッピング 飲料
A42: ２０日 | B42: 福利厚生費 | D42: 5184 | E42: 領収書有 | F42: ヤフーショッピング 飲料
A43: 22日 | B43: 福利厚生費 | D43: 15520 | E43: 領収書有 | F43: ヤフーショッピング 飲料
A44: 27日 | B44: 福利厚生費 | D44: 5480 | E44: 領収書有 | F44: ヤフーショッピング 飲料
B45: 福利厚生費 | D45: 5084 | E45: 領収書有 | F45: ヤフーショッピング 飲料
A46: 30日 | B46: 福利厚生費 | D46: 11220 | E46: 領収書有 | F46: ヤフーショッピング 飲料
A47: 31日 | B47: 福利厚生費 | D47: 11793 | E47: 領収書有 | F47: ヤフーショッピング 飲料
B48: 福利厚生費 | D48: 7440 | E48: 領収書有 | F48: ヤフーショッピング 飲料
B49: 福利厚生費 | D49: 7361 | E49: 領収書有 | F49: ヤフーショッピング 飲料
B50: 福利厚生費 | D50: 4752 | E50: 領収書有 | F50: ヤフーショッピング 飲料
C59: 合計 | D59: =SUM(D33:D58) -> 150318 | E59: 株式会社CSILead
A60: 8月 カード びわ湖 飲 食
A61: 日付 | B61: 用途 | C61: 預り金 | D61: 支出金 | F61: 備考
A62: ５日 | B62: 福利厚生費 | D62: 3300 | E62: 明細 | F62: 琵琶湖ホテル 食事代
A63: ５日 | B63: 福利厚生費 | D63: 1000 | E63: 明細 | F63: ブルーレイク 食事代
A64: ５日 | B64: 福利厚生費 | D64: 15000 | E64: 領収書 | F64: 琵琶湖ホテル 食事代
A65: 6日 | B65: 福利厚生費 | D65: 3000 | E65: 領収書 | F65: ホテルテトラ朝食代
A66: 7日 | B66: 福利厚生費 | D66: 42724 | E66: 領収書 | F66: 牛角
A67: ８日 | B67: 福利厚生費 | D67: 23980 | E67: 領収書 | F67: PeekABoo
C80: 合計 | D80: =SUM(D62:D79) -> 89004 | E80: 株式会社CSILead
A81: 8月 カード びわ湖 飲 料
...

Sheet 飲食・飲料
A1: 7月 現金 ① びわ湖 飲 食
A2: 日付 | B2: 用途 | C2: 預り金 | D2: 支出金 | F2: 備考
A3: 13日 | B3: 福利厚生費 | D3: 1178 | E3: 社長 | F3: 飲料 | G3: イオン
A4: 13日 | B4: 福利厚生費 | D4: 3200 | E4: 社長 | F4: 飲料 | G4: えびのや
A5: 14日 | B5: 福利厚生費 | D5: 2249 | E5: 社長 | F5: 昼食 | G5: ジョイフル
A6: 14日 | B6: 福利厚生費 | D6: 5180 | E6: 社長 | F6: 夕食 | G6: 仁左衛門
A7: １５日 | B7: 福利厚生費 | D7: 3980 | E7: 事務 | F7: 弁当 | G7: ハローズ
A8: １６日 | B8: 福利厚生費 | D8: 2530 | E8: 社長 | F8: 昼食 | G8: 大阪王将
A9: １７日 | B9: 福利厚生費 | D9: 5520 | E9: 事務 | F9: 弁当 | G9: ほっともっと
A10: 21日 | B10: 福利厚生費 | D10: 105 | E10: 山中 | F10: 飲料 | G10: イオン
A11: 21日 | B11: 福利厚生費 | D11: 4730 | E11: 専務 | F11: 夕食 | G11: えびのや
A12: 21日 | B12: 福利厚生費 | D12: 3113 | E12: 前川 | F12: 昼食 | G12: ロイヤルホスト
A13: 22日 | B13: 福利厚生費 | D13: 644 | E13: 山中 | F13: 夕食 | G13: ローソン
A14: 22日 | B14: 福利厚生費 | D14: 4434 | E14: 専務 | F14: 飲料 | G14: イオン
... A28: 26日 | B28: 福利厚生費 | D28: 5160 | E28: 事務 | F28: 弁当 | G28: ほっともっと
D29: =SUM(D3:D28) -> 93350
A30: 7月 現金 ② びわ湖 飲 食
A31: 日付 | B31: 用途 | C31: 預り金 | D31: 支出金 | F31: 備考
A32: 27日 | B32: 福利厚生費 | D32: 2140 | E32: 専務 | F32: 夕食 | G32: イオン
A33: 27日 | B33: 福利厚生費 | D33: 449 | E33: 山中 | F33: 夕食 | G33: イオン
A34: 28日 | B34: 福利厚生費 | D34: 2646 | E34: 専務 | F34: 夕食 | G34: イオン
A35: 28日 | B35: 福利厚生費 | D35: 403 | E35: 山中 | F35: 夕食 | G35: イオン
A36: 28日 | B36: 福利厚生費 | D36: 9450 | E36: 事務 | F36: 昼食 | G36: 創作キッチン紡
A37: 29日 | B37: 福利厚生費 | D37: 709 | E37: 油谷 | F37: 飲料 | G37: ファミリーマート
A38: 29日 | B38: 福利厚生費 | D38: 1747 | E38: 専務 | F38: 夕食 | G38: イオン
A39: 29日 | B39: 福利厚生費 | D39: 894 | E39: 山中 | F39: 夕食 | G39: イオン
A40: 29日 | B40: 福利厚生費 | D40: 3377 | E40: 社長 | F40: 軽食 | G40: ローソン
A41: 29日 | B41: 福利厚生費 | D41: 16860 | E41: 社長 | F41: 夕食 | G41: OKAKI ビエラ大津店
A42: 30日 | B42: 福利厚生費 | D42: 999 | E42: 社長 | F42: 飲料 | G42: ローソン
A43: 30日 | B43: 福利厚生費 | D43: 4805 | E43: 社長 | F43: 夕食 | G43: ココ壱番屋
... A52: 31日 | B52: 福利厚生費 | D52: 4060 | E52: 社長 | F52: 飲料 | G52: イオン
C59: 合計 | D59: =SUM(D32:D58) -> 71185 | E59: 株式会社CSILead
A60: 8月 現金① びわ湖 飲 食
A61: 日付 | B61: 用途 | C61: 預り金 | D61: 支出金 | E61: 担当 | F61: 備考
A62: １日 | B62: 福利厚生費 | D62: 4997 | E62: 社長 | F62: 夕食 | G62: 和食さと
B63: 福利厚生費 | D63: 513 | E63: 専務 | F63: 飲料 | G63: セブンイレブン
B64: 福利厚生費 | D64: 7392 | E64: 社長 | F64: 昼食 | G64: ロイヤルホスト
B65: 福利厚生費 | D65: 943 | E65: 社長 | F65: 飲料 | G65: セブンイレブン
A66: 2日 | B66: 福利厚生費 | D66: 3840 | E66: 領収書 | F66: 夕食 | G66: キラメキノトリ西大津
B67: 福利厚生費 | D67: 8184 | E67: 社長 | F67: 昼食 | G67: ロイヤルホスト
...

Sheet 資機材 カード
A1: 7月 カード びわ湖 資 機 材
A2: 日付 | B2: 用途 | C2: 預り金 | D2: 支出金 | F2: 備考
A3: ６日 | B3: 消耗品費 | D3: 15400 | E3: 領収書有 | F3: 養生テープ
A4: ６日 | B4: 消耗品費 | D4: 9157 | E4: 領収書有 | F4: 養生テープ
A5: 10日 | B5: 消耗品費 | D5: 11406 | E5: 領収書有 | F5: PPテープ
A6: １５日 | B6: 消耗品費 | D6: 32412 | E6: 領収書有 | F6: コーナン
A7: 17日 | B7: 消耗品費 | D7: 7732 | E7: 領収書有 | F7: ジュンテンドー
A8: 17日 | B8: 消耗品費 | D8: 4598 | E8: 領収書有 | F8: コーナン
A9: 18日 | B9: 消耗品費 | D9: 5764 | E9: 明細 | F9: コーナン
A10: １９日 | B10: 消耗品費 | D10: 63877 | E10: 領収書有 | F10: ヤマダ電機
A11: 21日 | B11: 消耗品費 | D11: 7470 | E11: 領収書有 | F11: 養生テープ
A12: 22日 | B12: 消耗品費 | D12: 699292 | E12: 領収書有 | F12: コーナン
A13: 24日 | B13: 消耗品費 | D13: 2398 | E13: 明細 | F13: アヤハディオ
A14: 30日 | B14: 消耗品費 | D14: 23173 | E14: 明細 | F14: コーナン
... A16: ３１日 | B16: 消耗品費 | D16: 14615 | E16: 領収書有 | F16: アヤハディオ
C23: 合計 | D23: =D3+D4+D5+D7+D8+D9+D10+D11+D12+D14+D15+D16+D13+D6 -> 916994 | E23: 株式会社CSILead
A25: 8月 カード びわ湖 資 機 材
A26: 日付 | B26: 用途 | C26: 預り金 | D26: 支出金 | F26: 備考
A27: １日 | B27: 消耗品費 | D27: 30900 | E27: 領収書有 | F27: ソーラーパネル
A28: ２日 | B28: 消耗品費 | D28: 7780 | E28: 領収書有 | F28: ワークマン
B29: 消耗品費 | D29: 13723 | E29: 領収書有 | F29: アヤハディオ
A30: 3日 | B30: 消耗品費 | D30: 36880 | E30: 領収書有 | F30: クーラーボックス
A31: ５日 | B31: 消耗品費 | D31: 12246 | E31: 領収書有 | F31: スギ薬局
A32: ６日 | B32: 消耗品費 | D32: 21780 | E32: 領収書有 | F32: アヤハディオ
C48: 合計 | D48: =SUM(D27:D44) -> 123309 | E48: 株式会社CSILead

Sheet 資機材
A1: 7月 現金 びわ湖 資 機 材
A2: 日付 | B2: 用途 | C2: 預り金 | D2: 支出金 | F2: 備考
A3: 2日 | B3: 消耗品費 | D3: 980 | E3: 領収書有 | F3: ジュンテンドー
A4: 11日 | B4: 消耗品費 | D4: 220 | E4: 領収書有 | F4: ダイソー | G4: 理恵
B5: 消耗品費 | D5: 6147 | E5: 領収書有 | F5: コーナン
A6: 13日 | B6: 消耗品費 | D6: 2679 | E6: 領収書有 | F6: ワークマン
A7: 17日 | B7: 消耗品費 | D7: 220 | E7: 領収書有 | F7: セリア
B8: 消耗品費 | D8: 110 | E8: 領収書有 | F8: セリア
A9: １８日 | B9: 消耗品費 | D9: 5764 | E9: 領収書有 | F9: コーナン
B10: 消耗品費 | D10: 506 | E10: 領収書有 | F10: アングラーズ
B11: 消耗品費 | D11: 1198 | E11: 領収書有 | F11: ジュンテンドー
B12: 消耗品費 | D12: 816 | E12: 領収書有 | F12: タカミヤ
A13: ２２日 | B13: 消耗品費 | D13: 220 | E13: 領収書有 | F13: セリア
A14: 23日 | B14: 消耗品費 | D14: 277992 | E14: 領収書有 | F14: コーナン レジャーシート、クッション６６８個
A15: ２４日 | B15: 消耗品費 | D15: 8622 | E15: 領収書有 | F15: コーナン | G15: 宮内
B16: 消耗品費 | D16: 2095 | E16: 領収書有 | F16: ダイソー | G16: 宮内
B17: 消耗品費 | D17: 6590 | E17: 領収書有 | F17: ジュンテンドー
A18: ２５日 | B18: 消耗品費 | D18: 14256 | E18: 領収書有 | F18: コーナン
A19: 26日 | B19: 消耗品費 | D19: 968 | E19: 領収書有 | F19: コーナン
A20: 28日 | B20: 消耗品費 | D20: 20341 | E20: 領収書有 | F20: コーナン
B21: 消耗品費 | D21: 220 | E21: 領収書有 | F21: セリア
B22: 消耗品費 | D22: 2705 | E22: 領収書有 | F22: アヤハディオ
A23: 29日 | B23: 消耗品費 | D23: 6608 | E23: 領収書有 | F23: アヤハディオ
B24: 消耗品費 | D24: 3379 | E24: 領収書有 | F24: アヤハディオ
A25: 31日 | B25: 消耗品費 | D25: 4913 | E25: 領収書有 | F25: コーナン
C32: 合計 | D32: =SUM(D3:D31) -> 367549 | E32: 株式会社CSILead
A33: 8月 現金 びわ湖 資 機 材
A34: 日付 | B34: 用途 | C34: 預り金 | D34: 支出金 | F34: 備考
A35: 2日 | B35: 消耗品費 | D35: 10383 | E35: 領収書有 | F35: アヤハディオ
A36: ３日 | B36: 消耗品費 | D36: 15560 | E36: 領収書有 | F36: ワークマン
B37: 消耗品費 | D37: 8372 | E37: 領収書有 | F37: ニトリ
A38: ４日 | B38: 消耗品費 | D38: 8096 | E38: 領収書有 | F38: アヤハディオ
B39: 消耗品費 | D39: 6513 | E39: 領収書有 | F39: アヤハディオ
B40: 消耗品費 | D40: 7634 | E40: 領収書有 | F40: アヤハディオ
B41: 消耗品費 | D41: 3684 | E41: 領収書有 | F41: アヤハディオ
B42: 消耗品費 | D42: 4376 | E42: 領収書有 | F42: アヤハディオ
A43: ５日 | B43: 消耗品費 | D43: 17406 | E43: 領収書有 | F43: コーナン | G43: 宏稀立替
B44: 消耗品費 | D44: 7283 | E44: 領収書有 | F44: アヤハディオ
B45: 消耗品費 | D45: 11990 | E45: 領収書有 | F45: アヤハディオ
B46: 消耗品費 | D46: 33917 | E46: 領収書有 | F46: アヤハディオ
...

Sheet がそりん カード
A1: ７月 びわ湖 燃 料 費
A2: 日付 | B2: 用途 | C2: 預り金 | D2: 支出金 | F2: 備考
A3: 12日 | B3: 燃料費 | D3: 5871 | E3: 領収書有 | F3: 軽油 トラックガソリン代
A4: 14日 | B4: 燃料費 | D4: 4942 | E4: 明細 | F4: ガソリン代
A5: １６日 | B5: 燃料費 | D5: 5836 | E5: 領収書有 | F5: 軽油 トラックガソリン代
A6: 18日 | B6: 燃料費 | D6: 5610 | E6: 明細 | F6: ガソリン代
A7: 22日 | B7: 燃料費 | D7: 6226 | E7: 領収書有 | F7: ガソリン代
A8: ３１日 | B8: 燃料費 | D8: 2990 | E8: 明細 | F8: ガソリン代
B9: 燃料費 | D9: 6806 | E9: 領収書有 | F9: ガソリン代
C24: 合計 | D24: =SUM(D3:D22) -> 38281 | E24: 株式会社CSILead
A25: 8月 びわ湖 燃 料 費
A26: 日付 | B26: 用途 | C26: 預り金 | D26: 支出金 | F26: 備考
A27: ４日 | B27: 燃料費 | D27: 5181 | E27: 明細 | F27: ガソリン代
A28: ５日 | B28: 燃料費 | D28: 3108 | E28: 領収書有 | F28: ガソリン代
A29: ６日 | B29: 燃料費 | D29: 8016 | E29: 領収書有 | F29: ガソリン代
B30: 燃料費 | D30: 2638 | E30: 明細 | F30: ガソリン代
B31: 燃料費 | D31: 1119 | E31: 明細 | F31: ガソリン代
A32: ８日 | B32: 燃料費 | D32: 3372 | E32: 領収書有 | F32: トラック軽油
B33: 燃料費 | D33: 2604 | E33: 領収書有 | F33: ガソリン代
A34: ９日 | B34: 燃料費 | D34: 8298 | E34: 領収書有 | F34: トラック軽油
B35: 燃料費 | D35: 3014 | E35: 領収書有 | F35: ガソリン代
B36: 燃料費 | D36: 3387 | E36: 明細 | F36: ガソリン代
A37: １１日 | B37: 燃料費 | D37: 7376 | E37: 明細 | F37: ガソリン代
C50: 合計 | D50: =SUM(D27:D49) -> 48113 | E50: 株式会社CSILead

Sheet がそりん
A1: ７月 現金 びわ湖 燃 料 費
A2: 日付 | B2: 用途 | C2: 預り金 | D2: 支出金 | F2: 備考
A3: 21日 | B3: 燃料費 | D3: 3204 | E3: 専務 | F3: ガソリン代
A4: 24日 | B4: 燃料費 | D4: 6052 | E4: 社長 | F4: 軽油 トラックガソリン
A5: 26日 | B5: 燃料費 | D5: 2130 | E5: 専務 | F5: ガソリン代
A6: 27日 | B6: 燃料費 | D6: 4000 | E6: 社長 | F6: 軽油 トラックガソリン
A7: 28日 | B7: 燃料費 | D7: 3000 | E7: 社長 | F7: 軽油 トラックガソリン
A8: ２９日 | B8: 燃料費 | D8: 2240 | E8: 伊藤 | F8: ガソリン代
A9: ３０日 | B9: 燃料費 | D9: 5000 | E9: 専務 | F9: ガソリン代
A10: 31日 | B10: 燃料費 | D10: 6800 | E10: 恵子 | F10: ガソリン代
C29: 合計 | D29: =SUM(D3:D25) -> 32426 | E29: 株式会社CSILead
A30: 8月 現金 びわ湖 燃 料 費
A31: 日付 | B31: 用途 | C31: 預り金 | D31: 支出金 | F31: 備考
A32: １日 | B32: 燃料費 | D32: 4000 | E32: 社長 | F32: ガソリン代
A33: 2日 | B33: 燃料費 | D33: 3700 | E33: 専務 | F33: ガソリン代
B34: 燃料費 | D34: 7560 | E34: 社長 | F34: ガソリン代
A35: 3日 | B35: 燃料費 | D35: 5000 | E35: 社長 | F35: ガソリン代
A36: ５日 | B36: 燃料費 | D36: 3401 | E36: 社長 | F36: ガソリン代
B37: 燃料費 | D37: 2000 | E37: 香山 | F37: ガソリン代
A38: ６日 | B38: 燃料費 | D38: 2638 | E38: 社長 | F38: トラック軽油
B39: 燃料費 | D39: 2000 | E39: 香山 | F39: ガソリン代
A40: ７日 | B40: 燃料費 | D40: 7827 | E40: 事務 | F40: ガソリン代
A41: ８日 | B41: 燃料費 | D41: 2000 | E41: 香山 | F41: ガソリン代
B42: 燃料費 | D42: 3240 | E42: 香山 | F42: ガソリン代
B43: 燃料費 | D43: 4998 | E43: 社長 | F43: ガソリン代
B44: 燃料費 | D44: 8696 | E44: 社長 | F44: トラック軽油
A45: １０日 | B45: 燃料費 | D45: 8467 | E45: 伊藤 | F45: ガソリン代
A46: １３日 | B46: 燃料費 | D46: 2600 | E46: 専務 | F46: ガソリン代
B47: 燃料費 | D47: 5000 | E47: 社長 | F47: トラック軽油
B48: 燃料費 | D48: 9256 | E48: 社長 | F48: トラック軽油
A49: １８日 | B49: 燃料費 | D49: 5000 | E49: 社長 | F49: トラック軽油
C59: 合計 | D59: =SUM(D32:D56) -> 87383 | E59: 株式会社CSILead

Sheet 亀岡その他
A1: 8月 現金 亀岡 その他
A2: 日付 | B2: 用途 | C2: 預り金 | D2: 支出金 | G2: 備考
A3: 10日 | B3: 福利厚生費 | D3: 3380 | E3: 現金 | G3: セブンイレブン 雨具
A4: 11日 | B4: 福利厚生費 | D4: 32340 | E4: 現金 | G4: チヨダ 靴
B5: 福利厚生費 | D5: 25250 | E5: 現金 | G5: ユニクロ 着替え
B6: 消耗品費 | D6: 437 | E6: 現金 | G6: フレッシュバザール ゴミ袋
C30: 合計 | D30: =SUM(D3:D29) -> 61407
A31: 7月 現金 亀岡 その他
A32: 日付 | B32: 用途 | C32: 預り金 | D32: 支出金 | G32: 備考
A33: １２日 | B33: 通信費 | D33: 60000 | E33: 現金 | G33: 印紙代
C60: 合計 | D60: =SUM(D33:D59) -> 60000

Sheet 亀岡飲食飲料
A1: 8月 現金 亀岡 飲 食
A2: 日付 | B2: 用途 | C2: 預り金 | D2: 支出金 | F2: 備考
A3: 3日 | B3: 福利厚生費 | D3: 1486 | E3: 現金 | F3: ファミリーマート
A4: 10日 | B4: 福利厚生費 | D4: 150 | E4: 現金 | F4: 無双心亀岡店
B5: 福利厚生費 | D5: 1000 | E5: 現金 | F5: 無双心亀岡店
B6: 福利厚生費 | D6: 1600 | E6: 現金 | F6: 無双心亀岡店
B7: 福利厚生費 | D7: 1000 | E7: 現金 | F7: 無双心亀岡店
B8: 福利厚生費 | D8: 1000 | E8: 現金 | F8: 無双心亀岡店
B9: 福利厚生費 | D9: 2885 | E9: 現金 | F9: 餃子の王将
B10: 福利厚生費 | D10: 3390 | E10: 現金 | F10: トイダック
B11: 福利厚生費 | D11: 4583 | E11: 現金 | F11: マツモト大井南店
B12: 福利厚生費 | D12: 4392 | E12: 現金 | F12: ローソン
B13: 福利厚生費 | D13: 3209 | E13: 現金 | F13: ローソン
B14: 福利厚生費 | D14: 352 | E14: 現金 | F14: セブンイレブン
B15: 福利厚生費 | D15: 3213 | E15: 現金 | F15: ファミリーマート
A16: 11日 | B16: 福利厚生費 | D16: 1559 | E16: 現金 | F16: ローソン
B17: 福利厚生費 | D17: 2180 | E17: 現金 | F17: マクドナルド
B18: 福利厚生費 | D18: 19084 | E18: 現金 | F18: ほっともっと
B19: 福利厚生費 | D19: 5460 | E19: 現金 | F19: フレッシュバザール
B20: 福利厚生費 | D20: 14952 | E20: 現金 | F20: ほっともっと
B21: 福利厚生費 | D21: 6610 | E21: 現金 | F21: ほっともっと
B22: 福利厚生費 | D22: 15900 | E22: 現金 | F22: ほっともっと
B23: 福利厚生費 | D23: 18190 | E23: 現金 | F23: ほっともっと
B24: 福利厚生費 | D24: 16990 | E24: 現金 | F24: ほっともっと
B25: 福利厚生費 | D25: 5631 | E25: 現金 | F25: フレッシュバザール
B26: 福利厚生費 | D26: 5525 | E26: 現金 | F26: セブンイレブン
A27: １２日 | B27: 福利厚生費 | D27: 745 | E27: 現金 | F27: マツモト
B28: 福利厚生費 | D28: 6242 | E28: 現金 | F28: マツモト
B29: 福利厚生費 | D29: 2801 | E29: 現金 | F29: 桂川PAモテナス
B30: 福利厚生費 | D30: 3700 | E30: 現金 | F30: 辛慶うどん
C31: 合計 | D31: =SUM(D3:D30) -> 153829
A32: 7月 現金 亀岡 飲 食
A33: 日付 | B33: 用途 | C33: 預り金 | D33: 支出金 | F33: 備考
A34: 45868 | B34: 福利厚生費 | D34: 2000 | E34: 現金 | F34: コメダ珈琲
B35: 福利厚生費
B36: 福利厚生費
B37: 福利厚生費
B38: 福利厚生費
B39: 福利厚生費
B40: 福利厚生費
...

Sheet 亀岡車両関係
A1: 8月 現金 亀岡 交通費
A2: 日付 | B2: 用途 | C2: 預り金 | D2: 支出金 | F2: 備考
A3: 45872 | B3: 交通費 | D3: 200 | E3: 現金 | F3: 駐車料金
A4: 45879 | B4: 交通費 | D4: 1440 | E4: 現金 | F4: 高速料金
A5: 45880 | B5: 交通費 | D5: 500 | E5: 現金 | F5: 駐車料金
A6: 45880 | B6: 交通費 | D6: 500 | E6: 現金 | F6: 駐車料金
C30: 合計 | D30: =SUM(D3:D22) -> 2640
A31: 7月 現金 亀岡 交通費
A32: 日付 | B32: 用途 | C32: 預り金 | D32: 支出金 | F32: 備考
A33: 45869 | B33: 交通費 | D33: 500 | F33: 駐車料金
C60: 合計 | D60: =SUM(D33:D59) -> 500
C88: 合計 | D88: =SUM(D74:D87) -> 0 | E88: 株式会社CSILead

Sheet Sheet1

Sheet 亀岡ガソリン
A1: 8月 現金 亀岡 燃料費
A2: 日付 | B2: 用途 | C2: 預り金 | D2: 支出金 | F2: 備考
A3: 45878 | B3: 燃料費 | D3: 1870 | E3: 現金
B4: 燃料費 | D4: 3425 | E4: 現金
A5: 45879 | B5: 燃料費 | D5: 2780 | E5: 現金
B6: 燃料費 | D6: 453 | E6: 現金
B7: 燃料費 | D7: 4785 | E7: 現金
B8: 燃料費 | D8: 2399 | E8: 現金
A9: 45881 | B9: 燃料費 | D9: 1100 | E9: 現金
C28: 合計 | D28: =SUM(D3:D27) -> 16812 | E28: 株式会社CSILead

Sheet 亀岡資機材 カード
A1: 8月 カード 亀岡 資機材
A2: 日付 | B2: 用途 | C2: 預り金 | D2: 支出金 | F2: 備考
A3: ７日 | B3: 消耗品費 | D3: 91181 | E3: カード | F3: ケーズデンキ モニター
C31: 合計 | D31: =SUM(D3:D30) -> 91181 | E31: 株式会社CSILead

Sheet 亀岡資機材
A1: 8月 現金 亀岡 資機材
A2: 日付 | B2: 用途 | C2: 預り金 | D2: 支出金 | F2: 備考
A3: 45878 | B3: 消耗品費 | D3: 4700 | E3: 現金 | F3: コーナン
B4: 消耗品費 | D4: 1628 | E4: 現金 | F4: コーナン
B5: 消耗品費 | D5: 4902 | E5: 現金 | F5: コーナン
A6: 45879 | B6: 消耗品費 | D6: 20160 | E6: 現金 | F6: アヤハディオ
B7: 消耗品費 | D7: 4956 | E7: 現金 | F7: カインズ
B8: 消耗品費 | D8: 2178 | E8: 現金 | F8: コーナン
B9: 消耗品費 | D9: 15960 | E9: 現金 | F9: カインズ
B10: 消耗品費 | D10: 20960 | E10: 現金 | F10: エディオン
A11: 11日 | B11: 消耗品費 | D11: 2835 | E11: 現金 | F11: コーナン
A12: １２日 | B12: 消耗品費 | D12: 3194 | E12: 現金 | F12: ウェルシア
B13: 消耗品費 | D13: 9128 | E13: 現金 | F13: カインズ
C30: 合計 | D30: =SUM(D3:D13) -> 90601 | E30: 株式会社CSILead
A31: 7月 現金 亀岡 資機材
A32: 日付 | B32: 用途 | C32: 預り金 | D32: 支出金 | F32: 備考
A33: １８日 | B33: 消耗品費 | D33: 4708 | E33: 現金 | F33: コーナン
C61: 合計 | D61: =SUM(D33:D57) -> 4708 | E61: 株式会社CSILead
