Workbook

Sheet 有料
A1: 内訳① Ｇ・Ｈ・椅子席、桟敷席、エグゼクティブ・カップル | J1: 内訳２ 浜大津アーカス有料観覧席関係 | S1: 内訳３ 長栄専用シート（スカイプラザ屋上・駅チカシート） | AB1: 内訳４ 柳が崎ヨットハーバー観覧席 | AK1: 内訳⑥ 電気工事 | AT1: 内訳⑦ 売店・物産関係・喫煙所・その他機材 | BC1: 内訳⑧ | BD1: びわこボート団体専用席関係
A2: 商 品 名 | D2: 仕 様 | E2: 数量 | F2: 単価 | H2: 合計 | J2: 商 品 名 | M2: 仕 様 | N2: 数量 | O2: 単価 | Q2: 合計 | S2: 商 品 名 | V2: 仕 様 | W2: 数量 | X2: 単価 | Z2: 合計 | AB2: 商 品 名 | AE2: 仕 様 | AF2: 数量 | AG2: 単価 | AI2: 合計 | AK2: 商 品 名 | AN2: 仕 様 | AO2: 数量 | AP2: 単価 | AR2: 合計 | AT2: 商 品 名 | AW2: 仕 様 | AX2: 数量 | AY2: 単価 | BA2: 合計 | BC2: 商 品 名 | BF2: 仕 様 | BG2: 数量 | BH2: 単価 | BJ2: 合計
A3: 椅子席 | J3: パイプ椅子 | N3: 2052 | O3: 375 | Q3: =N3*O3 -> 769500 | S3: パイプ椅子 | W3: 2052 | X3: 300 | Z3: =W3*X3 -> 615600 | AB3: パイプ椅子 | AF3: 2694 | AG3: 375 | AI3: =AF3*AG3 -> 1010250 | AK3: 湖岸エリア・救護・売店他 | AT3: テント（ロイヤル） | AW3: 2k×4k | AX3: 13 | AY3: 22500 | BA3: =AX3*AY3 -> 292500 | BC3: （会場設営）
A4: パイプ椅子（Ｇ） | E4: 3120 | F4: 375 | H4: =E4*F4 -> 1170000 | J4: テント電源（照明） | N4: 2 | O4: 3000 | Q4: =N4*O4 -> 6000 | S4: 2階スタッフ休憩テント四方幕 | V4: ２ｋ×３ｋ | W4: 1 | X4: 16000 | Z4: =W4*X4 -> 16000 | AB4: ガーデンチェアセット（椅子×６） | AF4: 14 | AG4: 12000 | AI4: =AF4*AG4 -> 168000 | AK4: テント照明（スリムライン蛍光灯） | AN4: 器 | AO4: 106 | AP4: 3600 | AR4: =AO4*AP4 -> 381600 | AT4: テント（ロイヤル） | AW4: 2k×2k | AX4: 15 | AY4: 16250 | BA4: =AX4*AY4 -> 243750 | BC4: 屋外用パイプイス（本場・飲食スペース・本部） | BF4: 430×480 | BG4: 4036 | BH4: 375 | BJ4: =BG4*BH4 -> 1513500
A5: パイプ椅子（Ｈ） | E5: 2692 | F5: 375 | H5: =E5*F5 -> 1009500 | J5: 出入口及びトイレ側階段照明 | N5: 4 | O5: 3500 | Q5: =N5*O5 -> 14000 | S5: 4階スタッフ休憩テント四方幕 | V5: ２ｋ×３ｋ | W5: 1 | X5: 9000 | Z5: =W5*X5 -> 9000 | AB5: 屋上ガーデンチェ（椅子席境界線｝ | AE5: イレクターフェンス | AF5: 30 | AG5: 1600 | AI5: =AF5*AG5 -> 48000 | AK5: コンセント（1.5kva） | AN5: 本 | AO5: 79 | AP5: 7200 | AR5: =AO5*AP5 -> 568800 | AT5: テント（集会用）入場口スタッフ用含む | AW5: 1k×1.5k | AX5: 12 | AY5: 11250 | BA5: =AX5*AY5 -> 135000 | BC5: 会議用テーブル（ビニクロ付き）（同上） | BF5: 450×1800 | BG5: 66 | BH5: 1650 | BJ5: =BG5*BH5 -> 108900
A6: 養生（溝等） | E6: 一式 | H6: 120000 | J6: 区分フェンス８ｍ（2階デッキ） | N6: 8 | O6: 1200 | Q6: =N6*O6 -> 9600 | S6: テーブル | W6: 6 | X6: 1200 | Z6: =W6*X6 -> 7200 | AB6: マス席 | AE6: シート養生（㎡） | AF6: 334 | AG6: 200 | AI6: =AF6*AG6 -> 66800 | AK6: LEDioc80W投光器 | AN6: 台 | AO6: 14 | AP6: 14400 | AR6: =AO6*AP6 -> 201600 | AT6: テント（集会用） | AW6: 1.5k×2k | AX6: 5 | AY6: 12500 | BA6: =AX6*AY6 -> 62500 | BC6: 区分パーテーション | BF6: Ｈ1800 | BG6: 33 | BH6: 3000 | BJ6: =BG6*BH6 -> 99000
A7: カメラ席 | E7: 50 | F7: 375 | H7: =E7*F7 -> 18750 | J7: Pdining前立ち見禁止イレクターフェンス | N7: 10 | O7: 1600 | Q7: =N7*O7 -> 16000 | S7: 椅子 | W7: 20 | X7: 300 | Z7: =W7*X7 -> 6000 | AB7: シート席クッション | AE7: クッション材（マス） | AF7: 334 | AG7: 3350 | AI7: =AF7*AG7 -> 1118900 | AK7: 仮設トイレ配線工事 | AN7: 本 | AO7: 134 | AP7: 3000 | AR7: =AO7*AP7 -> 402000 | AT7: テント（集会用） | AW7: 2k×3k | AX7: 4 | AY7: 20000 | BA7: =AX7*AY7 -> 80000 | BC7: 貼付けサインスタンド | BG7: 45 | BH7: 2000 | BJ7: =BG7*BH7 -> 90000
A8: カップル席・ラブラブシート | D8: 木製椅子 | E8: 400 | F8: 3320 | H8: =E8*F8 -> 1328000 | J8: 非常口ドア前イレクターフェンス囲い | N8: 10 | O8: 1600 | Q8: =N8*O8 -> 16000 | S8: スポットクーラー | W8: 2 | X8: 12500 | Z8: =W8*X8 -> 25000 | AB8: バルーンテラスター | AF8: 3 | AG8: 16000 | AI8: =AF8*AG8 -> 48000 | AK8: 発電機 | AN8: 機 | AO8: 134 | AP8: 8500 | AR8: =AO8*AP8 -> 1139000 | AT8: テント | AW8: 3ｍ | AX8: 7 | AY8: 13750 | BA8: =AX8*AY8 -> 96250 | BC8: Ｌ型サインスタンド | BG8: 8 | BH8: 1250 | BJ8: =BG8*BH8 -> 10000
A9: テーブル | E9: 132 | F9: 1150 | H9: =E9*F9 -> 151800 | J9: トイレ | M9: 共用10・賞用・シンク2・汲み取り | N9: 一式 | Q9: 620000 | S9: 発電機 | W9: 2 | X9: 12500 | Z9: =W9*X9 -> 25000 | AB9: 出入口フェンス | AE9: H＝1,800フェンス | AF9: 16 | AG9: 2200 | AI9: =AF9*AG9 -> 35200 | AK9: 分電盤工事 | AN9: 面 | AO9: 4 | AP9: 18000 | AR9: =AO9*AP9 -> 72000 | AT9: テーブル | AX9: 220 | AY9: 1250 | BA9: =AX9*AY9 -> 275000 | BC9: 団体・地元区分、第2駐車場閉鎖フェンス | BF9: Ｈ1800 | BG9: 45 | BH9: 2200 | BJ9: =BG9*BH9 -> 99000
A10: エグゼクティブシート | D10: リクライニングシート | E10: 100 | F10: 4000 | H10: =E10*F10 -> 400000 | J10: トイレサイン（矢印付き） | N10: 8 | O10: 3600 | Q10: =N10*O10 -> 28800 | S10: テント照明（休憩テント） | W10: 一式 | Z10: 30000 | AB10: フェンスウエイト | AF10: 18 | AG10: 200 | AI10: =AF10*AG10 -> 3600 | AK10: 電気回路・幹線工事 | AN10: 式 | AO10: 1 | AP10: 750000 | AR10: =AO10*AP10 -> 750000 | AT10: パイプイス | AX10: 350 | AY10: 375 | BA10: =AX10*AY10 -> 131250 | BC10: 北ロータリー閉鎖用イレクターフェンス | BF10: Ｌ1800 | BG10: 24 | BH10: 1620 | BJ10: =BG10*BH10 -> 38880
A11: マヂかシート | D11: リクライニングシート | E11: 50 | F11: 4000 | H11: =E11*F11 -> 200000 | J11: ブロックサイン（スタンド付き） | N11: 8 | O11: 3000 | Q11: =N11*O11 -> 24000 | S11: イレクターフェンス（入口閉鎖） | W11: 12 | X11: 1600 | Z11: =W11*X11 -> 19200 | AB11: ダブルスティールフェンス | AF11: 16 | AG11: 1620 | AI11: =AF11*AG11 -> 25920 | AK11: 現場管理費 | AO11: 一式 | AR11: 96000 | AT11: スポットクーラー | AX11: 45 | AY11: 12000 | BA11: =AX11*AY11 -> 540000 | BC11: 立て看板（2階に男性用トイレ無し） | BF11: 450×1800 | BG11: 1 | BH11: 18000 | BJ11: =BG11*BH11 -> 18000
A12: エグゼクティブシート他囲いイレクターフェンス | E12: 300 | F12: 1600 | H12: =E12*F12 -> 480000 | J12: ゴミ箱（ポリペール） | N12: 8 | O12: 1000 | Q12: =N12*O12 -> 8000 | S12: イレクターフェンス（クローク用） | W12: 24 | X12: 1400 | Z12: =W12*X12 -> 33600 | AB12: 設営・撤去費 | AF12: 一式 | AI12: 700000 | AK12: 雑剤雑工事 | AO12: 一式 | AR12: 340000 | AT12: 発電機 | AW12: 電気工事に含む | BC12: 禁煙サイン | BG12: 4 | BH12: 3000 | BJ12: =BG12*BH12 -> 12000
A13: 金麦席 | D13: 木製椅子 | E13: 80 | F13: 3320 | H13: =E13*F13 -> 265600 | J13: 屋外駐車場目隠し | N13: 1式 | Q13: 280000 | S13: 道路への落下防止ネット（駅チカ） | W13: 160 | X13: 300 | Z13: =W13*X13 -> 48000 | AB13: 運搬費 | AF13: 4 | AG13: 140000 | AI13: =AF13*AG13 -> 560000 | AK13: 当日保安員 | AO13: 一式 | AR13: 180000 | AT13: 配線工事 | AW13: 電気工事に含む | BC13: ドラムコード | BG13: 5 | BH13: 1500 | BJ13: =BG13*BH13 -> 7500
A14: 輸送費（床几席イレクターフェンスを含む） | E14: 28 | F14: 120000 | H14: =E14*F14 -> 3360000 | J14: 屋内駐車場目隠し | N14: 1式 | Q14: 420000 | S14: 屋上通路足元照明 | W14: 一式 | Z14: 60000 | AB14: 設計企画費 | AF14: 一式 | AI14: 300000 | AK14: 発電機、導線照明・関西電力引き込み | AT14: 観覧席囲いイレクターフェンス | AX14: 300 | AY14: 1620 | BA14: =AX14*AY14 -> 486000 | BC14: ＣＤラジカセ | BG14: 1 | BH14: 4000 | BJ14: =BG14*BH14 -> 4000
A15: 副資材費 | E15: 一式 | H15: 250000 | J15: 設営撤去費 | M15: ボードウォークベンチ撤去・戻し含む | N15: 1式 | Q15: 800000 | S15: スカイクロストラスゲート | V15: W4,200×H2,600 | W15: 2 | X15: 68750 | Z15: =W15*X15 -> 137500 | AF15: 小計 | AI15: =SUM(AI3:AJ14) -> 4084670 | AK15: LEDioc80W投光器 | AN15: 80W | AO15: 6 | AP15: 12000 | AR15: =AO15*AP15 -> 72000 | AT15: 灰皿 | AX15: 12 | AY15: 1500 | BA15: =AX15*AY15 -> 18000 | BC15: 会場設営費 | BG15: 一式 | BJ15: 950000
A16: 設営費 | E16: 一式 | H16: 3500000 | J16: 運搬費 | N16: 1式 | Q16: 460000 | S16: トラスサイン | V16: W3,600×H300 | W16: 一式 | Z16: 80000 | AF16: 諸経費（10％） | AI16: =AI15*0.1 -> 408467 | AK16: 関西電力引き込み（申請費込み） | AO16: 一式 | AR16: 240000 | AT16: 輸送費 | AX16: 6 | AY16: 46000 | BA16: =AX16*AY16 -> 276000 | BC16: 案内スタッフ | BG16: 15 | BH16: 27000 | BJ16: =BG16*BH16 -> 405000
A17: 企画設計費 | E17: 一式 | H17: 650000 | J17: 設計企画費 | N17: 1式 | Q17: 200000 | S17: スカイクロス横断幕 | V17: W500×H4,000 | W17: 一式 | Z17: 40000 | AF17: 合計④ | AI17: =SUM(AI15:AJ16) -> 4493137 | AK17: 発電機 | AN17: 2.8KVA | AO17: 60 | AP17: 12000 | AR17: =AO17*AP17 -> 720000 | AT17: 設営費 | AX17: 一式 | BA17: 420000 | BC17: 発電機 | BF17: 2.8KVA | BG17: 1 | BH17: 6000 | BJ17: =BG17*BH17 -> 6000
F18: 小計① | H18: =SUM(H4:I17) -> 12903650 | N18: 小計① | Q18: =SUM(Q3:R17) -> 3671900 | S18: 設営・撤去費 | W18: 一式 | Z18: 700000 | AK18: 発電機 | AN18: 25KVA | AO18: 1 | AP18: 36000 | AR18: =AO18*AP18 -> 36000 | AT18: 観覧席ドローン撮影（申請費含む） | AX18: 一式 | BA18: 320000 | BC18: テラスター | BF18: バルーン | BG18: 1 | BH18: 8500 | BJ18: =BG18*BH18 -> 8500
N19: 諸経費（10％） | Q19: =Q18*0.1 -> 367190 | S19: 運搬費 | W19: 4 | X19: 140000 | Z19: =W19*X19 -> 560000 | AK19: 発電機 | AN19: 45KVA | AO19: 1 | AP19: 54000 | AR19: =AO19*AP19 -> 54000 | AX19: 合計⑦ | BA19: =SUM(BA3:BB18) -> 3376250 | BC19: グラウンド駐車場 | BF19: ライン引き・鉄板養生 | BG19: 一式 | BJ19: 120000
A20: 商 品 名 | D20: 仕 様 | E20: 数量 | F20: 単価 | H20: 合計 | N20: 合計② | Q20: =SUM(Q18:Q19) -> 4039090 | S20: 運搬費 | V20: 屋上 ２ｔ積替え | W20: 2 | X20: 40000 | Z20: =W20*X20 -> 80000 | AK20: 消火器 | AO20: 62 | AP20: 1200 | AR20: =AO20*AP20 -> 74400 | BC20: 上記輸送費 | BG20: 6 | BH20: 120000 | BJ20: =BG20*BH20 -> 720000
A21: 桟敷席（座席面コンパネ900×1800×12） | S21: 設計企画費 | W21: 一式 | Z21: 200000 | AK21: 関電申請・工事費 | AO21: 一式 | AR21: 180000 | BC21: 企画費 | BG21: 一式 | BJ21: 200000
A22: 設営費Ｇ側（㎡） | D22: 149.4ｍ×3.6ｍ | E22: 550.8 | F22: 6800 | H22: =E22*F22 -> 3745440 | W22: 小計 | Z22: =SUM(Z3:AA21) -> 2692100 | AB22: ｖ | AK22: 発電機等輸送費 | AO22: 一式 | AR22: 280000 | BG22: 合計⑧ | BJ22: =SUM(BJ4:BK21) -> 4410280
A23: 設営費Ｈ側（㎡） | D23: 124.2ｍ×3.6ｍ | E23: 447.12 | F23: 6800 | H23: =E23*F23 -> 3040416 | W23: 諸経費（10％） | Z23: =Z22*0.1 -> 269210 | AK23: その他工事費（高所作業車含む） | AO23: 一式 | AR23: 180000
A24: コンパネ | D24: 900㎜×1800㎜×12㎜ | E24: 624 | F24: 1200 | H24: =E24*F24 -> 748800 | W24: 合計③ | Z24: =SUM(Z22:AA23) -> 2961310 | AK24: 当日待機 | AN24: 名 | AO24: 3 | AP24: 40000 | AR24: =AO24*AP24 -> 120000 | BC24: 設置変更及び新設予定
A25: 湖岸側落水防止ネット | D25: 700ｍ | E25: 273.6 | F25: 300 | H25: =E25*F25 -> 82080 | AO25: 合計⑥ | AR25: =SUM(AR4:AR24) -> 6087400 | BC25: ※1 サントリー金麦席の設置
A26: 単管キャップ・クランプカバー | E26: 一式 | H26: 160000 | BC26: ※2 滋賀県立柳が崎ヨットハーバー
A27: 桟敷仮囲い | D27: カラーコーン | E27: 300 | F27: 450 | H27: =E27*F27 -> 135000
A28: 桟敷仮囲い | D28: コーンバー | E28: 300 | F28: 450 | H28: =E28*F28 -> 135000
A29: 桟敷仮囲い | D29: ピカピカチューブ | E29: 20 | F29: 2250 | H29: =E29*F29 -> 45000
A30: 設営費 | E30: 一式 | H30: 3200000
A31: 輸送費 | E31: 8 | F31: 132000 | H31: =E31*F31 -> 1056000
A32: 企画設計費 | E32: 一式 | H32: 120000
F33: 小計② | H33: =SUM(H22:I32) -> 12467736
A35: Ｇ・Ｈ・椅子席、桟敷席、エグゼクティブ・カップルｰ① | J35: 浜大津アーカス有料観覧席関係 | S35: 長栄専用シート（スカイプラザ屋上・駅チカシート） | AB35: 柳が崎ヨットハーバー観覧席 | AK35: 内訳⑥ 電気工事 | AT35: 内訳⑦ 売店・物産関係・喫煙所・その他機材 | BC35: 内訳⑧びわこボート団体専用席関係
A37: 商 品 名 | D37: 仕 様 | E37: 数量 | F37: 単価 | H37: 合計
A38: 案内業務
A39: ディレクションスタッフ（９時～２２時） | E39: 7 | F39: 35000 | H39: =E39*F39 -> 245000
A40: ＡＤスタッフ（１４時３０分～２２時） | E40: 14 | F40: 27000 | H40: =E40*F40 -> 378000
A41: 案内スタッフ（１４時３０分～２２時） | E41: 146 | F41: 27000 | H41: =E41*F41 -> 3942000
A42: 英語通訳（１６時～２２時） | E42: 5 | F42: 27000 | H42: =E42*F42 -> 135000
...

Sheet 団体戦用
A1: 内訳⑧びわこボート団体専用席関係
A2: 商 品 名 | B2: 仕 様 | C2: 数量 | E2: 単価 | F2: 合計
A3: びわこボート団体専用席関係
A4: （会場設営）
A5: 屋外用パイプイス（本場・飲食スペース・本部） | B5: 430×480 | C5: 4036 | D5: 脚 | E5: 375 | F5: =C5*E5 -> 1513500
A6: 会議用テーブル（ビニクロ付き）（同上） | B6: 450×1800 | C6: 66 | D6: 台 | E6: 1650 | F6: =C6*E6 -> 108900
A7: 区分パーテーション | B7: Ｈ1800 | C7: 33 | D7: 台 | E7: 3000 | F7: =C7*E7 -> 99000
A8: 貼付けサインスタンド | C8: 45 | D8: 台 | E8: 2000 | F8: =C8*E8 -> 90000
A9: Ｌ型サインスタンド | C9: 8 | D9: 台 | E9: 1250 | F9: =C9*E9 -> 10000
A10: 団体・地元区分、第2駐車場閉鎖フェンス | B10: Ｈ1800 | C10: 45 | D10: 柵 | E10: 2200 | F10: =C10*E10 -> 99000
A11: 北ロータリー閉鎖用イレクターフェンス | B11: Ｌ1800 | C11: 24 | D11: 柵 | E11: 1620 | F11: =C11*E11 -> 38880
A12: 立て看板（2階に男性用トイレ無し） | B12: 450×1800 | C12: 1 | D12: 枚 | E12: 18000 | F12: =C12*E12 -> 18000
A13: 禁煙サイン | C13: 4 | D13: 枚 | E13: 3000 | F13: =C13*E13 -> 12000
A14: ドラムコード | C14: 5 | D14: 本 | E14: 1500 | F14: =C14*E14 -> 7500
A15: ＣＤラジカセ | C15: 1 | D15: 台 | E15: 4000 | F15: =C15*E15 -> 4000
A16: 会場設営費 | C16: 一式 | F16: 950000
A17: 案内スタッフ | C17: 15 | D17: 名 | E17: 27000 | F17: =C17*E17 -> 405000
A18: 発電機 | B18: 2.8KVA | C18: 1 | D18: 基 | E18: 6000 | F18: =C18*E18 -> 6000
A19: テラスター | B19: バルーン | C19: 1 | D19: 基 | E19: 8500 | F19: =C19*E19 -> 8500
A20: グラウンド駐車場 | B20: ライン引き・鉄板養生 | C20: 一式 | F20: 120000
A21: 上記輸送費 | C21: 6 | D21: 台 | E21: 120000 | F21: =C21*E21 -> 720000
A22: 企画費 | C22: 一式 | F22: 200000
C23: 合計⑧ | F23: =SUM(F5:F22) -> 4410280
A25: 設置変更及び新設予定
A26: ※1 サントリー金麦席の設置
A27: ※2 滋賀県立柳が崎ヨットハーバー
A30: =A1 -> 内訳⑧びわこボート団体専用席関係

Sheet 売店
A1: 内訳⑦ 売店・物産関係・喫煙所・その他機材
A2: 商 品 名 | B2: 仕 様 | C2: 数量 | E2: 単価 | F2: 合計
A3: 売店・物産関係・喫煙所・その他機材
A4: テント（ロイヤル） | B4: 2k×4k | C4: 20 | D4: 張 | E4: 22500 | F4: =C4*E4 -> 450000
A5: テント（ロイヤル） | B5: 2k×2k | C5: 18 | D5: 張 | E5: 16250 | F5: =C5*E5 -> 292500
A6: テント（集会用）入場口スタッフ用含む | B6: 1k×1.5k | C6: 10 | D6: 張 | E6: 11250 | F6: =C6*E6 -> 112500
A7: テント（集会用） | B7: 1.5k×2k | C7: 5 | D7: 張 | E7: 12500 | F7: =C7*E7 -> 62500
A8: テント（集会用） | B8: 2k×3k | C8: 4 | D8: 張 | E8: 20000 | F8: =C8*E8 -> 80000
A9: テント | B9: 3ｍ | C9: 7 | D9: 張 | E9: 13750 | F9: =C9*E9 -> 96250
A10: テーブル | C10: 220 | D10: 台 | E10: 1250 | F10: =C10*E10 -> 275000
A11: パイプイス | C11: 350 | D11: 脚 | E11: 375 | F11: =C11*E11 -> 131250
A12: スポットクーラー | C12: 45 | D12: 基 | E12: 12000 | F12: =C12*E12 -> 540000
A13: 発電機 | B13: 電気工事に含む | D13: 基
A14: 配線工事 | B14: 電気工事に含む | D14: 基
A15: 観覧席囲いイレクターフェンス | C15: 300 | D15: 柵 | E15: 1620 | F15: =C15*E15 -> 486000
A16: 灰皿 | C16: 6 | D16: 個 | E16: 1500 | F16: =C16*E16 -> 9000
A17: 輸送費 | C17: 6 | D17: 台 | E17: 46000 | F17: =C17*E17 -> 276000
A18: 設営費 | C18: 一式 | F18: 420000
A19: 観覧席ドローン撮影（申請費含む） | C19: 一式 | F19: 320000
C20: 合計⑦ | F20: =SUM(F4:F19) -> 3551000
A23: =A1 -> 内訳⑦ 売店・物産関係・喫煙所・その他機材

Sheet 電気工事
A1: 内訳⑥ 電気工事
A2: 商 品 名 | B2: 仕 様 | C2: 数量 | E2: 単価 | F2: 合計
A3: 湖岸エリア・救護・売店他
A4: テント照明（スリムライン蛍光灯） | C4: 106 | D4: 本 | E4: 3600 | F4: =C4*E4 -> 381600
A5: コンセント（1.5kva） | C5: 79 | D5: 本 | E5: 7200 | F5: =C5*E5 -> 568800
A6: LEDioc80W投光器 | C6: 14 | D6: 基 | E6: 14400 | F6: =C6*E6 -> 201600
A7: 仮設トイレ配線工事 | C7: 134 | D7: 本 | E7: 3000 | F7: =C7*E7 -> 402000
A8: 発電機 | C8: 134 | D8: 基 | E8: 8500 | F8: =C8*E8 -> 1139000
A9: 分電盤工事 | C9: 4 | D9: 面 | E9: 18000 | F9: =C9*E9 -> 72000
A10: 電気回路・幹線工事 | C10: 一式 | F10: 750000
A11: 現場管理費 | C11: 一式 | F11: 96000
A12: 雑剤雑工事 | C12: 一式 | F12: 340000
A13: 当日保安員 | C13: 一式 | F13: 180000
A14: 発電機、導線照明・関西電力引き込み
A15: LEDioc80W投光器 | B15: 80W | C15: 6 | D15: 基 | E15: 12000 | F15: =C15*E15 -> 72000
A16: 関西電力引き込み（申請費込み） | C16: 一式 | F16: 240000
A17: 発電機 | B17: 2.8KVA | C17: 60 | D17: 基 | E17: 12000 | F17: =C17*E17 -> 720000
A18: 発電機 | B18: 25KVA | C18: 1 | D18: 基 | E18: 36000 | F18: =C18*E18 -> 36000
A19: 発電機 | B19: 45KVA | C19: 1 | D19: 基 | E19: 54000 | F19: =C19*E19 -> 54000
A20: 消火器 | C20: 62 | D20: 本 | E20: 1200 | F20: =C20*E20 -> 74400
A21: 関電申請・工事費 | C21: 一式 | F21: 180000
A22: 発電機等輸送費 | C22: 一式 | F22: 280000
A23: その他工事費（高所作業車含む） | C23: 一式 | F23: 180000
A24: 当日待機 | C24: 3 | D24: 名 | E24: 40000 | F24: =C24*E24 -> 120000
C25: 合計⑥ | F25: =SUM(F4:F24) -> 6087400
A29: =A1 -> 内訳⑥ 電気工事

Sheet 全体放送設備
A1: 内訳⑤ 全体放送設備－① | G1: 内訳⑤ 全体放送設備-② | M1: 内訳⑤ 全体放送設備-③ | S1: 内訳⑤ 全体放送設備-③ | Y1: 内訳⑤ 全体放送設備-④
A2: 商 品 名 | B2: 仕 様 | C2: 数量 | E2: 単価 | F2: 合計 | G2: 商 品 名 | H2: 仕 様 | I2: 数量 | K2: 単価 | L2: 合計 | M2: 商 品 名 | N2: 仕 様 | O2: 数量 | Q2: 単価 | R2: 合計 | S2: 商 品 名 | T2: 仕 様 | U2: 数量 | W2: 単価 | X2: 合計 | Y2: 商 品 名 | Z2: 仕 様 | AA2: 数量 | AC2: 単価 | AD2: 合計
A3: 本部テント | G3: 来賓席 | M3: Ｇ・Ｈエリア | S3: ボートレースびわこ | Y3: 柳が崎ヨットハーバー
A4: 本部周辺スピーカーＧ５１２ | C4: 4 | D4: 台 | E4: 10000 | F4: =C4*E4 -> 40000 | G4: スタンドスピーカーＥＯＮ６１０ | I4: 2 | J4: 台 | K4: 4800 | L4: =I4*K4 -> 9600 | M4: トランペットスピーカー５０Ｗ | O4: 4 | P4: 台 | Q4: 7200 | R4: =O4*Q4 -> 28800 | S4: スタンドスピーカーＶＲＸ９３８ＬＡ | U4: 8 | V4: 台 | W4: 9600 | X4: =U4*W4 -> 76800 | Y4: スタンドスピーカーＶＲＸ９３８ＬＡ | AA4: 10 | AB4: 台 | AC4: 9600 | AD4: =AA4*AC4 -> 96000
A5: 上記４ｃｈパワーアンプＴ６０４ | C5: 1 | D5: 台 | E5: 18000 | F5: =C5*E5 -> 18000 | G5: デジタルミキサー | I5: 1 | J5: 台 | K5: 30000 | L5: =I5*K5 -> 30000 | M5: 上記パワーアンプ | O5: 1 | P5: 台 | Q5: 30000 | R5: =O5*Q5 -> 30000 | S5: 上記パワーアンプ | U5: 2 | V5: 台 | W5: 18000 | X5: =U5*W5 -> 36000 | Y5: 上記パワーアンプ | AA5: 4 | AB5: 台 | AC5: 18000 | AD5: =AA5*AC5 -> 72000
A6: 本部テント内小型パワードスピーカー | C6: 2 | D6: 台 | E6: 3600 | F6: =C6*E6 -> 7200 | G6: スタンドマイク | I6: 1 | J6: 本 | K6: 2400 | L6: =I6*K6 -> 2400 | M6: ケーブル他備品 | O6: 一式 | R6: 36000 | S6: 屋内用スタンドスピーカー | U6: 2 | V6: 台 | W6: 7200 | X6: =U6*W6 -> 14400 | Y6: 屋内用スタンドスピーカー | AA6: 4 | AB6: 台 | AC6: 7200 | AD6: =AA6*AC6 -> 28800
A7: 桟橋ワイドホーンスピーカー３０Ｗ | C7: 2 | D7: 台 | E7: 5600 | F7: =C7*E7 -> 11200 | G7: ＩＰ無線電送機２５ＧＨｚ | H7: 受信側 | I7: 一式 | L7: 60000 | O7: ⑤G・Hエリア | R7: =SUM(R4:R6) -> 94800 | S7: 上記パワーアンプ | U7: 1 | V7: 台 | W7: 8400 | X7: =U7*W7 -> 8400 | Y7: 上記パワーアンプ | AA7: 2 | AB7: 台 | AC7: 8400 | AD7: =AA7*AC7 -> 16800
A8: 上記パワーアンプ | C8: 1 | D8: 台 | E8: 8750 | F8: =C8*E8 -> 8750 | G8: 来賓席無線伝送器５Ｇ中距離型 | H8: 送信側 | I8: 一式 | L8: 18000 | M8: 商 品 名 | N8: 仕 様 | O8: 数量 | Q8: 単価 | R8: 合計 | S8: デジタルミキサー | U8: 1 | V8: 台 | W8: 30000 | X8: =U8*W8 -> 30000 | Y8: デジタルミキサー | AA8: 2 | AB8: 台 | AC8: 30000 | AD8: =AA8*AC8 -> 60000
A9: デジタルミキサーＹＡＭＡＨＡ ＱＬ５ | C9: 1 | D9: 台 | E9: 42000 | F9: =C9*E9 -> 42000 | G9: 来賓席無線伝送器６Ｇ長距離型 | H9: 送信側 | I9: 一式 | L9: 25000 | M9: びわ湖ホール前・KKDay・一般 | S9: ワイヤレスマイク | U9: 1 | V9: 台 | W9: 9600 | X9: =U9*W9 -> 9600 | Y9: ワイヤレスマイク | AA9: 1 | AB9: 本 | AC9: 9600 | AD9: =AA9*AC9 -> 9600
A10: アナウンスマイク・カフボックス | C10: 2 | D10: 台 | E10: 2400 | F10: =C10*E10 -> 4800 | G10: 音声ＩＰデコーダーＤＢ－９ＴＸ | I10: 一式 | L10: 15000 | M10: トランペットスピーカー５０Ｗ | O10: 12 | P10: 台 | Q10: 7200 | R10: =O10*Q10 -> 86400 | S10: 無線電送機５ＧＨｚ 受信側 | U10: 1 | V10: 台 | W10: 42000 | X10: =U10*W10 -> 42000 | Y10: 無線電送機５ＧＨｚ 受信側 | AA10: 1 | AB10: 台 | AC10: 42000 | AD10: =AA10*AC10 -> 42000
A11: 音声再生機 | C11: 2 | D11: 台 | E11: 5760 | F11: =C11*E11 -> 11520 | G11: 音声ＩＰエンコーダーＤＢ－９ＴＸ | I11: 一式 | L11: 30000 | M11: 上記パワーアンプ | O11: 2 | P11: 台 | Q11: 22500 | R11: =O11*Q11 -> 45000 | S11: 音声ＩＰデンコーダーＤＢ９１ＲＸ | U11: 1 | V11: 台 | W11: 14400 | X11: =U11*W11 -> 14400 | Y11: 音声ＩＰデンコーダーＤＢ９１ＲＸ | AA11: 1 | AB11: 台 | AC11: 14400 | AD11: =AA11*AC11 -> 14400
A12: ＩＰ無線電送機２５ＧＨｚ | B12: VIP⇔中継タワー | C12: 2 | D12: 台 | E12: 60000 | F12: =C12*E12 -> 120000 | G12: ＰｏＥハブ６０Ｗ | I12: 1 | J12: 台 | K12: 9600 | L12: =I12*K12 -> 9600 | M12: デジタルミキサー | O12: 1 | P12: 台 | Q12: 30000 | R12: =O12*Q12 -> 30000 | S12: ＰｏＥハブ６０Ｗ | U12: 1 | V12: 台 | W12: 9600 | X12: =U12*W12 -> 9600 | Y12: ＰｏＥハブ６０Ｗ | AA12: 1 | AB12: 台 | AC12: 9600 | AD12: =AA12*AC12 -> 9600
A13: ＰｏＥ＋ハブ８ポート１２０Ｗ | C13: 1 | D13: 台 | E13: 14400 | F13: =C13*E13 -> 14400 | G13: オペレーター | I13: 1 | J13: 名 | K13: 45000 | L13: =I13*K13 -> 45000 | M13: アナウンスマイク | O13: 1 | P13: 台 | Q13: 2400 | R13: =O13*Q13 -> 2400 | S13: 設定用ＰＣ | U13: 1 | V13: 台 | W13: 14400 | X13: =U13*W13 -> 14400 | Y13: 設定用ＰＣ | AA13: 1 | AB13: 台 | AC13: 14400 | AD13: =AA13*AC13 -> 14400
A14: 音声ＩＰエンコーダーＤＢ－９１ＴＸ | C14: 2 | D14: 台 | E14: 14400 | F14: =C14*E14 -> 28800 | G14: アシスタントオペレーター | I14: 1 | J14: 名 | K14: 42000 | L14: =I14*K14 -> 42000 | M14: ＩＰ無線電送機２５ＧＨｚ | O14: 1 | P14: 台 | Q14: 42000 | R14: =O14*Q14 -> 42000 | S14: ケーブルスタンド他備品 | U14: 一式 | W14: 60000 | X14: 60000 | Y14: ケーブル他備品 | AA14: 一式 | AD14: 60000
A15: 設定用ＰＣ | C15: 1 | D15: 台 | E15: 14400 | F15: =C15*E15 -> 14400 | I15: ③来賓席 | L15: =SUM(L4:L14) -> 286600 | M15: 音声ＩＰデコーダーＤＢ－９１ＲＸ | O15: 1 | P15: 台 | Q15: 14400 | R15: =O15*Q15 -> 14400 | S15: チーフオペレーター | U15: 1 | V15: 名 | X15: 48000 | Y15: チーフオペレーター | AA15: 1 | AB15: 名 | AC15: 48000 | AD15: 48000
A16: ケーブル・スタンド他 | C16: 一式 | F16: 50000 | G16: 商 品 名 | H16: 仕 様 | I16: 数量 | K16: 単価 | L16: 合計 | M16: ＰｏＥハブ６０Ｗ | O16: 1 | P16: 台 | Q16: 9600 | R16: =O16*Q16 -> 9600 | S16: アシスタントオペレーター | U16: 1 | V16: 名 | X16: 42000 | Y16: アシスタントオペレーター | AA16: 1 | AB16: 名 | AC16: 42000 | AD16: 42000
A17: チーフオペレーター | C17: 1 | D17: 名 | E17: 48000 | F17: =C17*E17 -> 48000 | G17: マリーナ・ＴＳＲエリア・カップル・床几 | M17: チーフオペレーター | O17: 1 | P17: 名 | Q17: 48000 | R17: =O17*Q17 -> 48000 | U17: ⑦ボートレースびわこ | X17: =SUM(X4:X16) -> 405600 | Z17: ⑨柳が崎ヨットハーバー | AD17: =SUM(AD4:AD16) -> 513600
A18: アシスタントオペレーター | C18: 2 | D18: 名 | E18: 42000 | F18: =C18*E18 -> 84000 | G18: 大型スタンドスピーカーＰＳ１５ | I18: 8 | J18: 台 | K18: 21600 | L18: =I18*K18 -> 172800 | M18: アシスタントオペレーター | O18: 1 | P18: 名 | Q18: 42000 | R18: =O18*Q18 -> 42000 | S18: 商 品 名 | T18: 仕 様 | U18: 数量 | W18: 単価 | X18: 合計 | Y18: 商 品 名 | Z18: 仕 様 | AA18: 数量 | AC18: 単価 | AD18: 合計
A19: 無線伝送エンジニア | C19: 2 | D19: 名 | E19: 48000 | F19: =C19*E19 -> 96000 | G19: 大型スタンド | I19: 8 | J19: 台 | K19: 6000 | L19: =I19*K19 -> 48000 | M19: ケーブル他備品 | O19: 一式 | R19: 36000 | S19: 駅チカシート | Y19: 設営・撤去・運搬費
C20: ①本部テント | F20: =SUM(F4:F19) -> 599070 | G20: 上記ＤＳＰパワーアンプ | I20: 2 | J20: 台 | K20: 21600 | L20: =I20*K20 -> 43200 | N20: ⑥びわ湖ホール前・KDDay・一般 | R20: =SUM(R10:R19) -> 355800 | S20: トランペットスピーカー５０Ｗ | U20: 2 | V20: 台 | W20: 7200 | X20: =U20*W20 -> 14400 | Y20: ８月４日ＴＰスピーカー取り付け配線 | AA20: 一式 | AD20: 288000
A21: 商 品 名 | B21: 仕 様 | C21: 数量 | E21: 単価 | F21: 合計 | G21: スタンドスピーカーＳＸ３００ | I21: 2 | J21: 台 | K21: 9600 | L21: =I21*K21 -> 19200 | S21: 上記パワーアンプ | U21: 1 | V21: 台 | W21: 12000 | X21: =U21*W21 -> 12000 | Y21: ８月５日ＴＰスピーカー取り付け配線・テスト | AA21: 一式 | AD21: 432000
A22: Ａ～Ｅ・あ～さエリア | G22: 小型ミキサー | I22: 1 | J22: 台 | K22: 9600 | L22: =I22*K22 -> 9600 | S22: ケーブル他備品 | U22: 一式 | X22: 24000 | Y22: ８月５日ドローンショーリハーサル音出し | AA22: 一式 | AD22: 150000
A23: トランペットスピーカー25Ｗ | C23: 8 | D23: 台 | E23: 5400 | F23: =C23*E23 -> 43200 | G23: 来賓エリア無線伝送器５Ｇ中距離型 | I23: 1 | J23: 台 | K23: 18000 | L23: =I23*K23 -> 18000 | U23: ⑧駅チカシート | X23: =SUM(X20:X22) -> 50400 | Y23: ８月７日撤去 | AA23: 一式 | AD23: 324000
A24: 上記４ｃｈパワーアンプ | C24: 1 | D24: 台 | E24: 14400 | F24: =C24*E24 -> 14400 | G24: 音声ＩＰデコーダーＤＢ－９１ＲＸ | I24: 1 | J24: 台 | K24: 14400 | L24: =I24*K24 -> 14400 | Y24: 運搬費 | AA24: 一式 | AD24: 360000
A25: ケーブル他備品 | C25: 一式 | F25: 60000 | G25: ＰｏＥハブ６０Ｗ | I25: 1 | J25: 台 | K25: 9600 | L25: =I25*K25 -> 9600 | Z25: ⑩設営・撤去・運搬費 | AD25: =SUM(AD20:AD24) -> 1554000
C26: ②A～E・あ～さエリア | F26: =SUM(F23:F25) -> 117600 | G26: 上記パワーアンプ | I26: 1 | J26: 台 | K26: 9600 | L26: =I26*K26 -> 9600 | Y26: 商 品 名 | Z26: 仕 様 | AA26: 数量 | AC26: 単価 | AD26: 合計
G27: ケーブル他備品類 | I27: 一式 | L27: 60000 | Y27: 制作・司会・諸経費
H28: ④マリーナ・TSRエリア・カップル・床机 | L28: =SUM(L18:L27) -> 404400 | Y28: 司会 | AA28: 2 | AB28: 名 | AC28: 80000 | AD28: =AA28*AC28 -> 160000
Y29: 制作費 | AA29: 一式 | AD29: 220000
Y30: スタッフ交通費 | AA30: 一式 | AD30: 180000
Y31: スタッフ宿泊費 | Z31: ８/５～８/７ | AA31: 45 | AB31: 名 | AC31: 25000 | AD31: =AA31*AC31 -> 1125000
Z32: ⑪制作・司会・諸経費 | AD32: =SUM(AD28:AD31) -> 1685000
AA33: ①～⑪合計 | AD33: =AD32+AD25+AD17+X23+X17+R20+L28+R7+L15+F26+F20 -> 6066870
A34: 全体放送設備① | G34: 全体放送設備② | M34: 全体放送設備③ | S34: 全体放送設備③ | Y34: 全体放送設備④

Sheet 柳が崎ヨットハーバー
A1: 内訳④ 柳が崎ヨットハーバー観覧席
A2: 商 品 名 | B2: 仕 様 | C2: 数量 | E2: 単価 | F2: 合計
A3: 柳が崎ヨットハーバー
A4: パイプ椅子 | C4: 2694 | D4: 脚 | E4: 375 | F4: =C4*E4 -> 1010250
A5: ガーデンチェアセット（椅子×６） | C5: 14 | D5: 脚 | E5: 12000 | F5: =C5*E5 -> 168000
A6: 屋上ガーデンチェ（椅子席境界線｝ | B6: イレクターフェンス | C6: 30 | D6: 柵 | E6: 1600 | F6: =C6*E6 -> 48000
A7: マス席 | B7: シート養生（㎡） | C7: 334 | D7: ㎡ | E7: 200 | F7: =C7*E7 -> 66800
A8: シート席クッション | B8: クッション材（マス） | C8: 334 | D8: 枚 | E8: 3350 | F8: =C8*E8 -> 1118900
A9: バルーンテラスター | C9: 3 | D9: 基 | E9: 16000 | F9: =C9*E9 -> 48000
A10: 出入口フェンス | B10: H＝1,800フェンス | C10: 16 | D10: 柵 | E10: 2200 | F10: =C10*E10 -> 35200
A11: フェンスウエイト | C11: 18 | D11: 個 | E11: 200 | F11: =C11*E11 -> 3600
A12: ダブルスティールフェンス | C12: 16 | D12: 柵 | E12: 1620 | F12: =C12*E12 -> 25920
A13: 設営・撤去費 | C13: 一式 | F13: 700000
A14: 運搬費 | C14: 4 | D14: 台 | E14: 140000 | F14: =C14*E14 -> 560000
A15: 設計企画費 | C15: 一式 | F15: 300000
C16: 小計 | F16: =SUM(F4:F15) -> 4084670
C17: 諸経費（10％） | F17: =F16*0.1 -> 408467
C18: 合計④ | F18: =SUM(F16:F17) -> 4493137
A29: =A1 -> 内訳④ 柳が崎ヨットハーバー観覧席

Sheet 長栄スカイクロス
A1: 内訳③ 長栄専用シート（スカイプラザ屋上・駅チカシート）
A2: 商 品 名 | B2: 仕 様 | C2: 数量 | E2: 単価 | F2: 合計
A3: 長栄専用
A4: パイプ椅子 | C4: 2052 | D4: 脚 | E4: 300 | F4: =C4*E4 -> 615600
A5: 2階スタッフ休憩テント四方幕 | B5: ２ｋ×３ｋ | C5: 1 | D5: 枚 | E5: 16000 | F5: =C5*E5 -> 16000
A6: 4階スタッフ休憩テント四方幕 | B6: ２ｋ×３ｋ | C6: 1 | D6: 枚 | E6: 9000 | F6: =C6*E6 -> 9000
A7: テーブル | C7: 6 | D7: 台 | E7: 1200 | F7: =C7*E7 -> 7200
A8: 椅子 | C8: 20 | D8: 脚 | E8: 300 | F8: =C8*E8 -> 6000
A9: スポットクーラー | C9: 2 | D9: 基 | E9: 12500 | F9: =C9*E9 -> 25000
A10: 発電機 | C10: 2 | D10: 基 | E10: 12500 | F10: =C10*E10 -> 25000
A11: テント照明（休憩テント） | C11: 一式 | F11: 30000
A12: イレクターフェンス（入口閉鎖） | C12: 12 | D12: 柵 | E12: 1600 | F12: =C12*E12 -> 19200
A13: イレクターフェンス（クローク用） | C13: 24 | D13: 柵 | E13: 1400 | F13: =C13*E13 -> 33600
A14: 道路への落下防止ネット（駅チカ） | C14: 160 | D14: 枚 | E14: 300 | F14: =C14*E14 -> 48000
A15: 屋上通路足元照明 | C15: 一式 | F15: 60000
A16: スカイクロストラスゲート | B16: W4,200×H2,600 | C16: 2 | E16: 68750 | F16: =C16*E16 -> 137500
A17: トラスサイン | B17: W3,600×H300 | C17: 一式 | F17: 80000
A18: スカイクロス横断幕 | B18: W500×H4,000 | C18: 一式 | F18: 40000
A19: 設営・撤去費 | C19: 一式 | F19: 700000
A20: 運搬費 | C20: 4 | E20: 140000 | F20: =C20*E20 -> 560000
A21: 運搬費 | B21: 屋上 ２ｔ積替え | C21: 2 | E21: 40000 | F21: =C21*E21 -> 80000
A22: 設計企画費 | C22: 一式 | F22: 200000
C23: 小計 | F23: =SUM(F4:F22) -> 2692100
C24: 諸経費（10％） | F24: =F23*0.1 -> 269210
C25: 合計③ | F25: =SUM(F23:F24) -> 2961310
A30: =A1 -> 内訳③ 長栄専用シート（スカイプラザ屋上・駅チカシート）

Sheet 浜大津アーカ
A1: 内訳② 浜大津アーカス有料観覧席関係
A2: 商 品 名 | B2: 仕 様 | C2: 数量 | E2: 単価 | F2: 合計
A3: 浜大津アーカス
A4: パイプ椅子 | C4: 3429 | D4: 脚 | E4: 375 | F4: =C4*E4 -> 1285875
A5: テント電源（照明） | C5: 2 | D5: 基 | E5: 3000 | F5: =C5*E5 -> 6000
A6: 出入口及びトイレ側階段照明 | C6: 4 | D6: 基 | E6: 3500 | F6: =C6*E6 -> 14000
A7: 区分フェンス８ｍ（2階デッキ） | C7: 8 | D7: 柵 | E7: 1200 | F7: =C7*E7 -> 9600
A8: Pdining前立ち見禁止イレクターフェンス | C8: 10 | D8: 柵 | E8: 1600 | F8: =C8*E8 -> 16000
A9: 非常口ドア前イレクターフェンス囲い | C9: 10 | D9: 柵 | E9: 1600 | F9: =C9*E9 -> 16000
A10: トイレ | B10: 共用10・賞用・シンク2・汲み取り | C10: 一式 | F10: 620000
A11: トイレサイン（矢印付き） | C11: 8 | D11: 枚 | E11: 3600 | F11: =C11*E11 -> 28800
A12: ブロックサイン（スタンド付き） | C12: 8 | D12: 枚 | E12: 3000 | F12: =C12*E12 -> 24000
A13: ゴミ箱（ポリペール） | C13: 8 | D13: 個 | E13: 1000 | F13: =C13*E13 -> 8000
A14: 屋外駐車場目隠し | C14: 一式 | F14: 280000
A15: 屋内駐車場目隠し | C15: 一式 | F15: 420000
A16: 設営撤去費 | B16: ボードウォークベンチ撤去・戻し含む | C16: 一式 | F16: 800000
A17: 運搬費 | C17: 一式 | F17: 460000
A18: 設計企画費 | C18: 一式 | F18: 200000
C19: 小計① | F19: =SUM(F4:F18) -> 4188275
C20: 諸経費（10％） | F20: =F19*0.1 -> 418827.5
C21: 合計② | F21: =SUM(F19:F20) -> 4607102.5
A33: =A1 -> 内訳② 浜大津アーカス有料観覧席関係

Sheet G・h・椅子席
A1: 内訳① Ｇ・Ｈ・椅子席、桟敷席、エグゼクティブ・カップル
A2: 商 品 名 | B2: 仕 様 | C2: 数量 | E2: 単価 | F2: 合計
A3: 椅子席
A4: パイプ椅子（Ｇ） | C4: 3120 | D4: 脚 | E4: 375 | F4: =C4*E4 -> 1170000
A5: パイプ椅子（Ｈ） | C5: 2692 | D5: 脚 | E5: 375 | F5: =C5*E5 -> 1009500
A6: 養生（溝等） | C6: 一式 | F6: 120000
A7: カメラ席 | C7: 50 | D7: 脚 | E7: 375 | F7: =C7*E7 -> 18750
A8: カップル席・ラブラブシート | B8: 木製椅子 | C8: 400 | D8: 脚 | E8: 3320 | F8: =C8*E8 -> 1328000
A9: テーブル | C9: 132 | D9: 脚 | E9: 1150 | F9: =C9*E9 -> 151800
A10: エグゼクティブシート | B10: リクライニングシート | C10: 100 | D10: 席 | E10: 4000 | F10: =C10*E10 -> 400000
A11: マヂかシート | B11: リクライニングシート | C11: 50 | D11: 席 | E11: 4000 | F11: =C11*E11 -> 200000
A12: エグゼクティブシート他囲いイレクターフェンス | C12: 300 | D12: 席 | E12: 1600 | F12: =C12*E12 -> 480000
A13: 金麦席 | B13: 木製椅子 | C13: 80 | D13: 脚 | E13: 3320 | F13: =C13*E13 -> 265600
A14: 輸送費（床几席イレクターフェンスを含む） | C14: 28 | E14: 120000 | F14: =C14*E14 -> 3360000
A15: 副資材費 | C15: 一式 | F15: 250000
A16: 設営費 | C16: 一式 | F16: 3500000
A17: 企画設計費 | C17: 一式 | F17: 650000
C18: ①椅子席 | F18: =SUM(F4:F17) -> 12903650
A19: 商 品 名 | B19: 仕 様 | C19: 数量 | E19: 単価 | F19: 合計
A20: 桟敷席（座席面コンパネ900×1800×12）
A21: 設営費Ｇ側（㎡） | B21: 149.4ｍ×3.6ｍ | C21: 550.8 | D21: ㎡ | E21: 6800 | F21: =C21*E21 -> 3745440
A22: 設営費Ｈ側（㎡） | B22: 124.2ｍ×3.6ｍ | C22: 447.12 | D22: ㎡ | E22: 6800 | F22: =C22*E22 -> 3040416
A23: コンパネ | B23: 900㎜×1800㎜×12㎜ | C23: 624 | D23: 枚 | E23: 1200 | F23: =C23*E23 -> 748800
A24: 湖岸側落水防止ネット | B24: 700ｍ | C24: 273.6 | D24: ｍ | E24: 300 | F24: =C24*E24 -> 82080
A25: 単管キャップ・クランプカバー | C25: 一式 | F25: 160000
A26: 桟敷仮囲い | B26: カラーコーン | C26: 300 | E26: 450 | F26: =C26*E26 -> 135000
A27: 桟敷仮囲い | B27: コーンバー | C27: 300 | E27: 450 | F27: =C27*E27 -> 135000
A28: 桟敷仮囲い | B28: ピカピカチューブ | C28: 20 | E28: 2250 | F28: =C28*E28 -> 45000
A29: 設営費 | C29: 一式 | F29: 3200000
A30: 輸送費 | C30: 8 | E30: 132000 | F30: =C30*E30 -> 1056000
A31: 企画設計費 | C31: 一式 | F31: 120000
C32: ②桟敷席 | F32: =SUM(F21:F31) -> 12467736
A33: 商 品 名 | B33: 仕 様 | C33: 数量 | E33: 単価 | F33: 合計
A34: 案内業務
A35: ディレクションスタッフ（９時～２２時） | C35: 7 | D35: 名 | E35: 35000 | F35: =C35*E35 -> 245000
A36: ＡＤスタッフ（１４時３０分～２２時） | C36: 14 | D36: 名 | E36: 27000 | F36: =C36*E36 -> 378000
A37: 案内スタッフ（１４時３０分～２２時） | C37: 146 | D37: 名 | E37: 27000 | F37: =C37*E37 -> 3942000
A38: 英語通訳（１６時～２２時） | C38: 5 | D38: 名 | E38: 27000 | F38: =C38*E38 -> 135000
C39: ③案内業務 | F39: =SUM(F35:F38) -> 4700000
C40: 小計①＋小計②＋小計③ | F40: =F18+F32+F39 -> 30071386
...

Sheet 表紙
F1: 46265
A2: 御 請 求 書
A4: びわ湖大花火大会実行委員会 御中
A6: ご用命賜り、ありがとうございました。
A7: 下記の件についまして、ご請求させていただきますので
A8: ご査収の程、よろしくお願いします。
A9: 名称 | B9: びわ湖大花火大会に伴う有料観覧席関係 | F9: 〒675-2312
F10: 兵庫県加西市北条町北条1121
F11: 株式会社CSILead
F12: TEL:0790-20-7223/FAX:0790-20-7224
A13: 請求合計 | B13: =H29 -> 71778520 | F13: 【登録番号】T-9140001126012
D15: （税込）
A16: 内訳（有料観覧席関係）
A17: 内訳①Ｇ・Ｈ・椅子席、桟敷席、エグゼクティブ・カップル | E17: 合計① | H17: =G・h・椅子席!F42 -> 33078525
A18: 内訳②浜大津アーカス有料観覧席関係 | E18: 合計② | H18: =浜大津アーカ!F21 -> 4607102.5
A19: 内訳③長栄専用シート（スカイプラザ屋上・駅チカシート） | E19: 合計③ | H19: =長栄スカイクロス!F25 -> 2961310
A20: 内訳④柳が崎ヨットハーバー観覧席 | E20: 合計④ | H20: =柳が崎ヨットハーバー!F18 -> 4493137
A21: 内訳⑤全体放送設備 | E21: 合計⑤ | H21: =全体放送設備!AD33 -> 6066870
A22: 内訳⑥電気工事 | E22: 合計⑥ | H22: =電気工事!F25 -> 6087400
A23: 内訳⑦売店・物産関係・喫煙所・その他機材 | E23: 合計⑦ | H23: =売店!F20 -> 3551000
A24: 内訳⑧びわこボート団体専用席関係 | E24: 合計⑧ | H24: 4410280
E25: 小計 | H25: =SUM(H17:I24) -> 65255624
E26: 調整 | H26: -2424
E27: 課税対象額 | H27: =SUM(H25:I26) -> 65253200
E28: 消費税 | H28: =H27*0.1 -> 6525320
E29: 御請求合計 | H29: =SUM(H27:I28) -> 71778520
A30: 御請求書

Sheet 有料観覧席
F1: 46265
A3: 御 請 求 書
A5: びわ湖大花火大会実行委員会 御中
A6: ご用命賜り、ありがとうございました。
A7: 下記の件についまして、ご請求させていただきますので
A8: ご査収の程、よろしくお願いします。
A9: 名称 | B9: びわ湖大花火大会に伴う有料観覧席関係 | F9: 〒675-2312
F10: 兵庫県加西市北条町北条1121
F11: 株式会社CSILead
F12: 代表取締役 大崎和哉
B13: 合計 | C13: =H28 -> 65067608 | F13: 【登録番号】T-9140001126012
A16: 有料観覧席関係
A17: =A32 -> 内訳① Ｇ・Ｈ・椅子席、桟敷席、エグゼクティブ・カップル | E17: =E75 -> 合計① | H17: =H75 -> 33078525
A18: =A76 -> 内訳２ 浜大津アーカス有料観覧席関係 | E18: =E95 -> 合計② | H18: =H95 -> 4039090
A19: =A97 -> 内訳３ 長栄専用シート（スカイプラザ屋上・駅チカシート） | E19: =E120 -> 合計③ | H19: =H120 -> 2961310
A20: 内訳４ 柳が崎ヨットハーバー観覧席 | E20: =E138 -> 合計④ | H20: =H273 -> 5958870
E21: =A308 -> 0 | H21: =H308 -> 6087400
E22: =A327 -> 0 | H22: =H327 -> 3376250
E23: =A349 -> 0 | H23: 3672280
E24: 小計 | H24: =SUM(H17:I23) -> 59173725
E25: 調整 | H25: -21354
E26: 課税対象額 | H26: =SUM(H24:I25) -> 59152371
E27: 消費税 | H27: =H26*0.1 -> 5915237.1
E28: 御請求合計 | H28: =SUM(H26:I27) -> 65067608
A32: 内訳① Ｇ・Ｈ・椅子席、桟敷席、エグゼクティブ・カップル
A33: 商 品 名 | D33: 仕 様 | E33: 数量 | F33: 単価 | H33: 合計
A34: 椅子席
A35: パイプ椅子（Ｇ） | E35: 3120 | F35: 375 | H35: =E35*F35 -> 1170000
A36: パイプ椅子（Ｈ） | E36: 2692 | F36: 375 | H36: =E36*F36 -> 1009500
A37: 養生（溝等） | E37: 一式 | H37: 120000
A38: カメラ席 | E38: 50 | F38: 375 | H38: =E38*F38 -> 18750
A39: カップル席・ラブラブシート | D39: 木製椅子 | E39: 400 | F39: 3320 | H39: =E39*F39 -> 1328000
A40: テーブル | E40: 132 | F40: 1150 | H40: =E40*F40 -> 151800
A41: エグゼクティブシート | D41: リクライニングシート | E41: 100 | F41: 4000 | H41: =E41*F41 -> 400000
A42: マヂかシート | D42: リクライニングシート | E42: 50 | F42: 4000 | H42: =E42*F42 -> 200000
A43: エグゼクティブシート他囲いイレクターフェンス | E43: 300 | F43: 1600 | H43: =E43*F43 -> 480000
A44: 金麦席 | D44: 木製椅子 | E44: 80 | F44: 3320 | H44: =E44*F44 -> 265600
A45: 輸送費（床几席イレクターフェンスを含む） | E45: 28 | F45: 120000 | H45: =E45*F45 -> 3360000
A46: 副資材費 | E46: 一式 | H46: 250000
A47: 設営費 | E47: 一式 | H47: 3500000
...
