Workbook

Sheet 救護所見積書表紙
A1: 御 見 積 書
A3: びわ湖大花火大会実行委員会御中 | H3: 46234
A5: この度は、お見積りの機会をいただき、ありがとうございます。
A6: 下記のとおり、お見積り申し上げます。
A7: 検討のほどよろしくお願いします。 | W7: ご用命賜り、ありがとうございました。
G8: 675-2312 | W8: 下記の件についまして、ご請求させていただきますので
B9: 御請求金額 | G9: 兵庫県加西市北条町北条1121 | W9: ご査収の程、よろしくお願いします。
G10: 株式会社ＣＳＩＬｅａｄ
B11: =G34 -> 1836047.4 | G11: TEL0790-20-7223FAX0790-20-7224
G12: 登録番号：T9140001126012
C16: 請求内訳
C17: 1 大津港ターミナル | G17: =修正中救護!G66 -> 122440
C18: 2 大津市民会館 | G18: =修正中救護!O66 -> 143540
C19: 3 勤労福祉センター | G19: =修正中救護!W66 -> 151540 | W19: =#REF! -> #REF! | AA19: =#REF! -> #REF!
C20: 4 ふれあいスポーツセンター | G20: =修正中救護!AE66 -> 138040 | W20: =#REF! -> #REF! | AA20: =#REF! -> #REF!
C21: 5 逢坂市民センター | G21: =修正中救護!AM66 -> 153920
C22: 6 平野市民センター | G22: =修正中救護!AU66 -> 157920
C23: 7 びわこボート | G23: =修正中救護!BC66 -> 33705
C24: 8 草津本部 | G24: =修正中救護!BK66 -> 120490
C25: 9，本部付け | G25: =修正中救護!BS7 -> 99800
C26: 予備AED（18,000×3個） | G26: =修正中救護!BS9 -> 54000
C27: 輸送用パワーゲート４ｔ | G27: =修正中救護!BS10 -> 112000
C28: =修正中救護!BN11 -> 設営・撤去テント等（輸送費含む） | G28: =修正中救護!BS11 -> 80000
C29: =修正中救護!BN12 -> 冷凍車・配送（前日）・回収（当日） | G29: =修正中救護!BS12 -> 150000
F30: 小計① | G30: =SUM(G17:G29) -> 1517395
F31: 諸経費10％ | G31: 151739
F32: 小計② | G32: =G30+G31 -> 1669134
F33: 消費税 | G33: =G32*0.1 -> 166913.4
F34: 御請求金額合計 | G34: =SUM(G32:G33) -> 1836047.4

Sheet 救護所請求書表紙 (2)
A1: 御 請 求 書
A3: びわ湖大花火大会実行委員会御中 | H3: 46265
A5: ご用命賜り、ありがとうございました。
A6: 下記の通り、ご請求させていただきますので
A7: ご査収の程、よろしくお願いします。 | W7: ご用命賜り、ありがとうございました。
G8: 675-2312 | W8: 下記の件についまして、ご請求させていただきますので
B9: 御請求金額 | G9: 兵庫県加西市北条町北条1121 | W9: ご査収の程、よろしくお願いします。
G10: 株式会社ＣＳＩＬｅａｄ
B11: =G34 -> 1836047.4 | G11: TEL0790-20-7223FAX0790-20-7224
G12: 登録番号：T9140001126012
C16: 請求内訳
C17: 1 大津港ターミナル | G17: =修正中救護!G66 -> 122440
C18: 2 大津市民会館 | G18: =修正中救護!O66 -> 143540
C19: 3 勤労福祉センター | G19: =修正中救護!W66 -> 151540 | W19: =#REF! -> #REF! | AA19: =#REF! -> #REF!
C20: 4 ふれあいスポーツセンター | G20: =修正中救護!AE66 -> 138040 | W20: =#REF! -> #REF! | AA20: =#REF! -> #REF!
C21: 5 逢坂市民センター | G21: =修正中救護!AM66 -> 153920
C22: 6 平野市民センター | G22: =修正中救護!AU66 -> 157920
C23: 7 びわこボート | G23: =修正中救護!BC66 -> 33705
C24: 8 草津本部 | G24: =修正中救護!BK66 -> 120490
C25: 9，本部付け | G25: =修正中救護!BS7 -> 99800
C26: 予備AED（18,000×3個） | G26: =修正中救護!BS9 -> 54000
C27: 輸送用パワーゲート４ｔ | G27: =修正中救護!BS10 -> 112000
C28: =修正中救護!BN11 -> 設営・撤去テント等（輸送費含む） | G28: =修正中救護!BS11 -> 80000
C29: =修正中救護!BN12 -> 冷凍車・配送（前日）・回収（当日） | G29: =修正中救護!BS12 -> 150000
F30: 小計① | G30: =SUM(G17:G29) -> 1517395
F31: 諸経費10％ | G31: 151739
F32: 小計② | G32: =G30+G31 -> 1669134
F33: 消費税 | G33: =G32*0.1 -> 166913.4
F34: 御請求金額合計 | G34: =SUM(G32:G33) -> 1836047.4

Sheet 修正中救護前川
A1: 救護所設置及び備品（使用日8月6日） | I1: 救護所設置及び備品（使用日8月6日） | Q1: 救護所設置及び備品（使用日8月6日） | Y1: 救護所設置及び備品（使用日8月6日） | AH1: エイドステーション設置及び備品（使用日8月6日） | AP1: エイドステーション設置及び備品（使用日8月6日） | AX1: エイドステーション設置及び備品（使用日8月6日） | BF1: エイドステーション設置及び備品（使用日8月6日） | BN1: エイドステーション設置及び備品（使用日8月6日）
A2: １ 大津港ターミナル① | I2: ３ 大津市民会館 | Q2: ３ 勤労福祉センター① | Y2: ４ ふれあいスポーツセンター① | AG2: ５ 逢坂市民センター① | AO2: ６ 平野市民センター① | AW2: 7 びわこボート① | BE2: 8 草津本部① | BM2: 9 本部付け
A3: 商 品 名 | C3: 仕 様 | D3: 数量 | F3: 単価 | G3: 合計 | H3: 税 | I3: 商 品 名 | K3: 仕 様 | L3: 数量 | N3: 単価 | O3: 合計 | P3: 税 | Q3: 商 品 名 | S3: 仕 様 | T3: 数量 | V3: 単価 | W3: 合計 | X3: 税 | Y3: 商 品 名 | AA3: 仕 様 | AB3: 数量 | AD3: 単価 | AE3: 合計 | AF3: 税 | AG3: 商 品 名 | AI3: 仕 様 | AJ3: 数量 | AL3: 単価 | AM3: 合計 | AN3: 税 | AO3: 商 品 名 | AQ3: 仕 様 | AR3: 数量 | AT3: 単価 | AU3: 合計 | AV3: 税 | AW3: 商 品 名 | AY3: 仕 様 | AZ3: 数量 | BB3: 単価 | BC3: 合計 | BD3: 税 | BE3: 商 品 名 | BG3: 仕 様 | BH3: 数量 | BJ3: 単価 | BK3: 合計 | BL3: 税 | BM3: 商 品 名 | BO3: 仕 様 | BP3: 数量 | BR3: 単価 | BS3: 合計 | BT3: 税
B4: ＡＥＤ | D4: 1 | E4: 個 | F4: 18000 | G4: =D4*F4 -> 18000 | H4: 0.1 | J4: ＡＥＤ | L4: 1 | M4: 個 | N4: 18000 | O4: =L4*N4 -> 18000 | P4: 0.1 | R4: ＡＥＤ | T4: 1 | U4: 個 | V4: 18000 | W4: =T4*V4 -> 18000 | X4: 0.1 | Z4: ＡＥＤ | AB4: 1 | AC4: 個 | AD4: 18000 | AE4: =AB4*AD4 -> 18000 | AF4: 0.1 | AH4: ＡＥＤ | AJ4: 1 | AK4: 個 | AL4: 18000 | AM4: =AJ4*AL4 -> 18000 | AN4: 0.1 | AP4: ＡＥＤ | AR4: 1 | AS4: 個 | AT4: 18000 | AU4: =AR4*AT4 -> 18000 | AV4: 0.1 | AX4: ＡＥＤ | AZ4: 1 | BA4: 個 | BB4: 18000 | BC4: =AZ4*BB4 -> 18000 | BD4: 0.1 | BF4: ＡＥＤ | BH4: 1 | BI4: 個 | BJ4: 18000 | BK4: =BH4*BJ4 -> 18000 | BL4: 0.1 | BN4: 救命救急士（応援・交代要員） | BP4: 9 | BQ4: 時間 | BR4: 5200 | BS4: =BP4*BR4 -> 46800 | BT4: 0.1
B5: ナースバッグ | D5: 1 | E5: 個 | F5: 2000 | G5: =D5*F5 -> 2000 | H5: 0.1 | J5: ナースバッグ | L5: 1 | M5: 個 | N5: 2000 | O5: =L5*N5 -> 2000 | P5: 0.1 | R5: ナースバッグ | T5: 1 | U5: 個 | V5: 2000 | W5: =T5*V5 -> 2000 | X5: 0.1 | Z5: ナースバッグ | AB5: 1 | AC5: 個 | AD5: 2000 | AE5: =AB5*AD5 -> 2000 | AF5: 0.1 | AH5: ナースバッグ | AJ5: 1 | AK5: 個 | AL5: 2000 | AM5: =AJ5*AL5 -> 2000 | AN5: 0.1 | AP5: ナースバッグ | AR5: 1 | AS5: 個 | AT5: 2000 | AU5: =AR5*AT5 -> 2000 | AV5: 0.1 | AX5: ナースバッグ | AZ5: 1 | BA5: 個 | BB5: 2000 | BC5: =AZ5*BB5 -> 2000 | BD5: 0.1 | BF5: ナースバッグ | BH5: 1 | BI5: 個 | BJ5: 2000 | BK5: =BH5*BJ5 -> 2000 | BL5: 0.1 | BN5: 民間救急車（本部前） | BP5: 1 | BQ5: 台 | BR5: 32000 | BS5: =BP5*BR5 -> 32000 | BT5: 0.1
B6: 血圧計 | D6: 1 | E6: 個 | F6: 2500 | G6: =D6*F6 -> 2500 | H6: 0.1 | J6: 血圧計 | L6: 1 | M6: 個 | N6: 2500 | O6: =L6*N6 -> 2500 | P6: 0.1 | R6: 血圧計 | T6: 1 | U6: 個 | V6: 2500 | W6: =T6*V6 -> 2500 | X6: 0.1 | Z6: 血圧計 | AB6: 1 | AC6: 個 | AD6: 2500 | AE6: =AB6*AD6 -> 2500 | AF6: 0.1 | AH6: 血圧計 | AJ6: 1 | AK6: 個 | AL6: 2500 | AM6: =AJ6*AL6 -> 2500 | AN6: 0.1 | AP6: 血圧計 | AR6: 1 | AS6: 個 | AT6: 2500 | AU6: =AR6*AT6 -> 2500 | AV6: 0.1 | AX6: 血圧計 | AZ6: 1 | BA6: 個 | BB6: 2500 | BC6: =AZ6*BB6 -> 2500 | BD6: 0.1 | BF6: 血圧計 | BH6: 1 | BI6: 個 | BJ6: 2500 | BK6: =BH6*BJ6 -> 2500 | BL6: 0.1 | BN6: 交通費 | BP6: 一式 | BR6: 21000 | BS6: 21000 | BT6: 0.1
B7: 担架 | D7: 1 | E7: 個 | F7: 5200 | G7: =D7*F7 -> 5200 | H7: 0.1 | J7: 担架 | L7: 1 | M7: 個 | N7: 5200 | O7: =L7*N7 -> 5200 | P7: 0.1 | R7: 担架 | T7: 1 | U7: 個 | V7: 5200 | W7: =T7*V7 -> 5200 | X7: 0.1 | Z7: 担架 | AB7: 1 | AC7: 個 | AD7: 5200 | AE7: =AB7*AD7 -> 5200 | AF7: 0.1 | AH7: 担架 | AJ7: 1 | AK7: 個 | AL7: 5200 | AM7: =AJ7*AL7 -> 5200 | AN7: 0.1 | AP7: 担架 | AR7: 1 | AS7: 個 | AT7: 5200 | AU7: =AR7*AT7 -> 5200 | AV7: 0.1 | AX7: 担架 | AZ7: 1 | BA7: 個 | BB7: 5200 | BC7: =AZ7*BB7 -> 5200 | BD7: 0.1 | BF7: 担架 | BH7: 1 | BI7: 個 | BJ7: 5200 | BK7: =BH7*BJ7 -> 5200 | BL7: 0.1 | BR7: 本部付け小計 | BS7: =SUM(BS4:BS6) -> 99800
B8: 折りたたみベッド | D8: 1 | E8: 個 | F8: 3000 | G8: =D8*F8 -> 3000 | H8: 0.1 | J8: 折りたたみベッド | L8: 1 | M8: 個 | N8: 3000 | O8: =L8*N8 -> 3000 | P8: 0.1 | R8: 折りたたみベッド | T8: 1 | U8: 個 | V8: 3000 | W8: =T8*V8 -> 3000 | X8: 0.1 | Z8: 折りたたみベッド | AB8: 1 | AC8: 個 | AD8: 3000 | AE8: =AB8*AD8 -> 3000 | AF8: 0.1 | AH8: 折りたたみベッド | AJ8: 1 | AK8: 個 | AL8: 3000 | AM8: =AJ8*AL8 -> 3000 | AN8: 0.1 | AP8: 折りたたみベッド | AR8: 1 | AS8: 個 | AT8: 3000 | AU8: =AR8*AT8 -> 3000 | AV8: 0.1 | AX8: 折りたたみベッド | AZ8: 1 | BA8: 個 | BB8: 3000 | BC8: =AZ8*BB8 -> 3000 | BD8: 0.1 | BF8: 折りたたみベッド | BH8: 1 | BI8: 個 | BJ8: 3000 | BK8: =BH8*BJ8 -> 3000 | BL8: 0.1
B9: クーラーボックス | D9: 2 | E9: 個 | F9: 4000 | G9: =D9*F9 -> 8000 | H9: 0.1 | J9: クーラーボックス | L9: 2 | M9: 個 | N9: 4000 | O9: =L9*N9 -> 8000 | P9: 0.1 | R9: クーラーボックス | T9: 2 | U9: 個 | V9: 4000 | W9: =T9*V9 -> 8000 | X9: 0.1 | Z9: クーラーボックス | AB9: 2 | AC9: 個 | AD9: 4000 | AE9: =AB9*AD9 -> 8000 | AF9: 0.1 | AH9: クーラーボックス | AJ9: 2 | AK9: 個 | AL9: 4000 | AM9: =AJ9*AL9 -> 8000 | AN9: 0.1 | AP9: クーラーボックス | AR9: 2 | AS9: 個 | AT9: 4000 | AU9: =AR9*AT9 -> 8000 | AV9: 0.1 | AX9: クーラーボックス | AZ9: 2 | BA9: 個 | BB9: 4000 | BC9: =AZ9*BB9 -> 8000 | BD9: 0.1 | BF9: クーラーボックス | BH9: 2 | BI9: 個 | BJ9: 4000 | BK9: =BH9*BJ9 -> 8000 | BL9: 0.1
B10: 車椅子 | D10: 2 | E10: 個 | F10: 4000 | G10: =D10*F10 -> 8000 | H10: 0.1 | J10: 車椅子 | L10: 2 | M10: 個 | N10: 4000 | O10: =L10*N10 -> 8000 | P10: 0.1 | R10: 車椅子 | T10: 2 | U10: 個 | V10: 4000 | W10: =T10*V10 -> 8000 | X10: 0.1 | Z10: 車椅子 | AB10: 2 | AC10: 個 | AD10: 4000 | AE10: =AB10*AD10 -> 8000 | AF10: 0.1 | AH10: 車椅子 | AJ10: 2 | AK10: 個 | AL10: 4000 | AM10: =AJ10*AL10 -> 8000 | AN10: 0.1 | AP10: 車椅子 | AR10: 2 | AS10: 個 | AT10: 4000 | AU10: =AR10*AT10 -> 8000 | AV10: 0.1 | AX10: 車椅子 | AZ10: 2 | BA10: 個 | BB10: 4000 | BC10: =AZ10*BB10 -> 8000 | BD10: 0.1 | BF10: 車椅子 | BH10: 2 | BI10: 個 | BJ10: 4000 | BK10: =BH10*BJ10 -> 8000 | BL10: 0.1 | BN10: 予備ＡＥＤ | BP10: 3 | BQ10: 個 | BR10: 18000 | BS10: =BP10*BR10 -> 54000 | BT10: 0.1
B11: 水（ペットボトル） | C11: 550ml | D11: 24 | E11: 本 | F11: 80 | G11: =D11*F11 -> 1920 | H11: 0.1 | J11: 水（ペットボトル） | K11: 550ml | L11: 24 | M11: 本 | N11: 80 | O11: =L11*N11 -> 1920 | P11: 0.1 | R11: 水（ペットボトル） | S11: 550ml | T11: 24 | U11: 本 | V11: 80 | W11: =T11*V11 -> 1920 | X11: 0.1 | Z11: 水（ペットボトル） | AA11: 550ml | AB11: 24 | AC11: 本 | AD11: 80 | AE11: =AB11*AD11 -> 1920 | AF11: 0.1 | AH11: 水（ペットボトル） | AI11: 550ml | AJ11: 48 | AK11: 本 | AL11: 80 | AM11: =AJ11*AL11 -> 3840 | AN11: 0.1 | AP11: 水（ペットボトル） | AQ11: 550ml | AR11: 48 | AS11: 本 | AT11: 80 | AU11: =AR11*AT11 -> 3840 | AV11: 0.1 | AX11: 水（ペットボトル） | AY11: 550ml | AZ11: 24 | BA11: 本 | BB11: 80 | BC11: =AZ11*BB11 -> 1920 | BD11: 0.1 | BF11: 水（ペットボトル） | BG11: 550ml | BH11: 24 | BI11: 本 | BJ11: 80 | BK11: =BH11*BJ11 -> 1920 | BL11: 0.1 | BN11: 輸送用４ｔパワーゲート | BP11: 2 | BQ11: 台 | BR11: 56000 | BS11: =BP11*BR11 -> 112000 | BT11: 0.1
B12: 経口補水液（ペットボトル） | C12: OS-1 50０ｍｌ | D12: 24 | E12: 本 | F12: 205 | G12: =D12*F12 -> 4920 | H12: 0.1 | J12: 経口補水液（ペットボトル） | K12: OS-1 50０ｍｌ | L12: 24 | M12: 本 | N12: 205 | O12: =L12*N12 -> 4920 | P12: 0.1 | R12: 経口補水液（ペットボトル） | S12: OS-1 50０ｍｌ | T12: 24 | U12: 本 | V12: 205 | W12: =T12*V12 -> 4920 | X12: 0.1 | Z12: 経口補水液（ペットボトル） | AA12: OS-1 50０ｍｌ | AB12: 24 | AC12: 本 | AD12: 205 | AE12: =AB12*AD12 -> 4920 | AF12: 0.1 | AH12: 経口補水液（ペットボトル） | AI12: OS-1 50０ｍｌ | AJ12: 36 | AK12: 本 | AL12: 205 | AM12: =AJ12*AL12 -> 7380 | AN12: 0.1 | AP12: 経口補水液（ペットボトル） | AQ12: OS-1 50０ｍｌ | AR12: 36 | AS12: 本 | AT12: 205 | AU12: =AR12*AT12 -> 7380 | AV12: 0.1 | AX12: 経口補水液（ペットボトル） | AY12: OS-1 50０ｍｌ | AZ12: 24 | BA12: 本 | BB12: 205 | BC12: =AZ12*BB12 -> 4920 | BD12: 0.1 | BF12: 経口補水液（ペットボトル） | BG12: OS-1 50０ｍｌ | BH12: 24 | BI12: 本 | BJ12: 205 | BK12: =BH12*BJ12 -> 4920 | BL12: 0.1 | BN12: 設営・撤去テント等（輸送費含む） | BP12: 一式 | BS12: 80000 | BT12: 0.1
B13: 経口補水ゼリー | C13: OS-1 200ｇ | D13: 10 | E13: 本 | F13: 185 | G13: =D13*F13 -> 1850 | H13: 0.1 | J13: 経口補水ゼリー | K13: OS-1 200ｇ | L13: 10 | M13: 本 | N13: 185 | O13: =L13*N13 -> 1850 | P13: 0.1 | R13: 経口補水ゼリー | S13: OS-1 200ｇ | T13: 10 | U13: 本 | V13: 185 | W13: =T13*V13 -> 1850 | X13: 0.1 | Z13: 経口補水ゼリー | AA13: OS-1 200ｇ | AB13: 10 | AC13: 本 | AD13: 185 | AE13: =AB13*AD13 -> 1850 | AF13: 0.1 | AH13: 経口補水ゼリー | AI13: OS-1 200ｇ | AJ13: 10 | AK13: 本 | AL13: 185 | AM13: =AJ13*AL13 -> 1850 | AN13: 0.1 | AP13: 経口補水ゼリー | AQ13: OS-1 200ｇ | AR13: 10 | AS13: 本 | AT13: 185 | AU13: =AR13*AT13 -> 1850 | AV13: 0.1 | AX13: 経口補水ゼリー | AY13: OS-1 200ｇ | AZ13: 10 | BA13: 本 | BB13: 185 | BC13: =AZ13*BB13 -> 1850 | BD13: 0.1 | BF13: 経口補水ゼリー | BG13: OS-1 200ｇ | BI13: 本 | BJ13: 185 | BK13: =BH13*BJ13 -> 0 | BL13: 0.1 | BN13: 冷凍車・配送（前日）・回収（当日） | BP13: 一式 | BS13: 150000 | BT13: 0.1
B14: アイスノン | D14: 3 | E14: 個 | F14: 1600 | G14: =D14*F14 -> 4800 | H14: 0.1 | J14: アイスノン | L14: 3 | M14: 個 | N14: 1600 | O14: =L14*N14 -> 4800 | P14: 0.1 | R14: アイスノン | T14: 3 | U14: 個 | V14: 1600 | W14: =T14*V14 -> 4800 | X14: 0.1 | Z14: アイスノン | AB14: 3 | AC14: 個 | AD14: 1600 | AE14: =AB14*AD14 -> 4800 | AF14: 0.1 | AH14: アイスノン | AJ14: 3 | AK14: 個 | AL14: 1600 | AM14: =AJ14*AL14 -> 4800 | AN14: 0.1 | AP14: アイスノン | AR14: 3 | AS14: 個 | AT14: 1600 | AU14: =AR14*AT14 -> 4800 | AV14: 0.1 | AX14: アイスノン | AZ14: 3 | BA14: 個 | BB14: 1600 | BC14: =AZ14*BB14 -> 4800 | BD14: 0.1 | BF14: アイスノン | BH14: 3 | BI14: 個 | BJ14: 1600 | BK14: =BH14*BJ14 -> 4800 | BL14: 0.1 | BN14: 小計 | BP14: ①～⑨ | BS14: =BK65+BC65+AU65+AM65+AE65+W65+O65+G65+BS7 -> 1177345 | BT14: 0.1
B15: 保冷剤 | C15: ５００ｇ | D15: 2 | E15: 個 | F15: 600 | G15: =D15*F15 -> 1200 | H15: 0.1 | J15: 保冷剤 | K15: ５００ｇ | L15: 2 | M15: 個 | N15: 600 | O15: =L15*N15 -> 1200 | P15: 0.1 | R15: 保冷剤 | S15: ５００ｇ | T15: 2 | U15: 個 | V15: 600 | W15: =T15*V15 -> 1200 | X15: 0.1 | Z15: 保冷剤 | AA15: ５００ｇ | AB15: 2 | AC15: 個 | AD15: 600 | AE15: =AB15*AD15 -> 1200 | AF15: 0.1 | AH15: 保冷剤 | AI15: ５００ｇ | AJ15: 2 | AK15: 個 | AL15: 600 | AM15: =AJ15*AL15 -> 1200 | AN15: 0.1 | AP15: 保冷剤 | AQ15: ５００ｇ | AR15: 2 | AS15: 個 | AT15: 600 | AU15: =AR15*AT15 -> 1200 | AV15: 0.1 | AX15: 保冷剤 | AY15: ５００ｇ | AZ15: 2 | BA15: 個 | BB15: 600 | BC15: =AZ15*BB15 -> 1200 | BD15: 0.1 | BF15: 保冷剤 | BG15: ５００ｇ | BH15: 2 | BI15: 個 | BJ15: 600 | BK15: =BH15*BJ15 -> 1200 | BL15: 0.1 | BR15: 小計① | BS15: =SUM(BS10:BS14) -> 1573345
B16: 瞬間冷却パック | D16: 10 | E16: 個 | F16: 150 | G16: =D16*F16 -> 1500 | H16: 0.1 | J16: 瞬間冷却パック | L16: 10 | M16: 個 | N16: 150 | O16: =L16*N16 -> 1500 | P16: 0.1 | R16: 瞬間冷却パック | T16: 10 | U16: 個 | V16: 150 | W16: =T16*V16 -> 1500 | X16: 0.1 | Z16: 瞬間冷却パック | AB16: 10 | AC16: 個 | AD16: 150 | AE16: =AB16*AD16 -> 1500 | AF16: 0.1 | AH16: 瞬間冷却パック | AJ16: 10 | AK16: 個 | AL16: 150 | AM16: =AJ16*AL16 -> 1500 | AN16: 0.1 | AP16: 瞬間冷却パック | AR16: 10 | AS16: 個 | AT16: 150 | AU16: =AR16*AT16 -> 1500 | AV16: 0.1 | AX16: 瞬間冷却パック | AZ16: 10 | BA16: 個 | BB16: 150 | BC16: =AZ16*BB16 -> 1500 | BD16: 0.1 | BF16: 瞬間冷却パック | BH16: 10 | BI16: 個 | BJ16: 150 | BK16: =BH16*BJ16 -> 1500 | BL16: 0.1 | BR16: 諸経費１０％ | BS16: =BS15*0.1 -> 157334.5
B17: 氷 | D17: 2 | E17: 貫 | F17: 700 | G17: =D17*F17 -> 1400 | H17: 0.1 | J17: 氷 | L17: 2 | M17: 貫 | N17: 700 | O17: =L17*N17 -> 1400 | P17: 0.1 | R17: 氷 | T17: 2 | U17: 貫 | V17: 700 | W17: =T17*V17 -> 1400 | X17: 0.1 | Z17: 氷 | AB17: 2 | AC17: 貫 | AD17: 700 | AE17: =AB17*AD17 -> 1400 | AF17: 0.1 | AH17: 氷 | AJ17: 2 | AK17: 貫 | AL17: 700 | AM17: =AJ17*AL17 -> 1400 | AN17: 0.1 | AP17: 氷 | AR17: 2 | AS17: 貫 | AT17: 700 | AU17: =AR17*AT17 -> 1400 | AV17: 0.1 | AX17: 氷 | BA17: 貫 | BB17: 700 | BC17: =AZ17*BB17 -> 0 | BD17: 0.1 | BF17: 氷 | BH17: 2 | BI17: 貫 | BJ17: 700 | BK17: =BH17*BJ17 -> 1400 | BL17: 0.1 | BR17: 小計② | BS17: =SUM(BS15:BS16) -> 1730679.5
B18: ドライアイス | D18: 4 | E18: ｋｇ | F18: 700 | G18: =D18*F18 -> 2800 | H18: 0.1 | J18: ドライアイス | L18: 4 | M18: ｋｇ | N18: 700 | O18: =L18*N18 -> 2800 | P18: 0.1 | R18: ドライアイス | T18: 4 | U18: ｋｇ | V18: 700 | W18: =T18*V18 -> 2800 | X18: 0.1 | Z18: ドライアイス | AB18: 4 | AC18: ｋｇ | AD18: 700 | AE18: =AB18*AD18 -> 2800 | AF18: 0.1 | AH18: ドライアイス | AJ18: 4 | AK18: ｋｇ | AL18: 700 | AM18: =AJ18*AL18 -> 2800 | AN18: 0.1 | AP18: ドライアイス | AR18: 4 | AS18: ｋｇ | AT18: 700 | AU18: =AR18*AT18 -> 2800 | AV18: 0.1 | AX18: ドライアイス | BA18: ｋｇ | BB18: 700 | BC18: =AZ18*BB18 -> 0 | BD18: 0.1 | BF18: ドライアイス | BH18: 4 | BI18: ｋｇ | BJ18: 700 | BK18: =BH18*BJ18 -> 2800 | BL18: 0.1 | BR18: 消費税 | BS18: =BS17*0.1 -> 173067.95
B19: 毛布 | D19: 2 | E19: 枚 | F19: 1500 | G19: =D19*F19 -> 3000 | H19: 0.1 | J19: 毛布 | L19: 2 | M19: 枚 | N19: 1500 | O19: =L19*N19 -> 3000 | P19: 0.1 | R19: 毛布 | T19: 2 | U19: 枚 | V19: 1500 | W19: =T19*V19 -> 3000 | X19: 0.1 | Z19: 毛布 | AB19: 2 | AC19: 枚 | AD19: 1500 | AE19: =AB19*AD19 -> 3000 | AF19: 0.1 | AH19: 毛布 | AJ19: 6 | AK19: 枚 | AL19: 1500 | AM19: =AJ19*AL19 -> 9000 | AN19: 0.1 | AP19: 毛布 | AR19: 6 | AS19: 枚 | AT19: 1500 | AU19: =AR19*AT19 -> 9000 | AV19: 0.1 | AX19: 毛布 | AZ19: 1 | BA19: 枚 | BB19: 1500 | BC19: =AZ19*BB19 -> 1500 | BD19: 0.1 | BF19: 毛布 | BH19: 1 | BI19: 枚 | BJ19: 1500 | BK19: =BH19*BJ19 -> 1500 | BL19: 0.1 | BR19: 合計 | BS19: =SUM(BS17:BS18) -> 1903747.4
B20: タオルケット | D20: 2 | E20: 枚 | F20: 1500 | G20: =D20*F20 -> 3000 | H20: 0.1 | J20: タオルケット | L20: 2 | M20: 枚 | N20: 1500 | O20: =L20*N20 -> 3000 | P20: 0.1 | R20: タオルケット | T20: 2 | U20: 枚 | V20: 1500 | W20: =T20*V20 -> 3000 | X20: 0.1 | Z20: タオルケット | AB20: 2 | AC20: 枚 | AD20: 1500 | AE20: =AB20*AD20 -> 3000 | AF20: 0.1 | AH20: タオルケット | AJ20: 2 | AK20: 枚 | AL20: 1500 | AM20: =AJ20*AL20 -> 3000 | AN20: 0.1 | AP20: タオルケット | AR20: 2 | AS20: 枚 | AT20: 1500 | AU20: =AR20*AT20 -> 3000 | AV20: 0.1 | AX20: タオルケット | AZ20: 2 | BA20: 枚 | BB20: 1500 | BC20: =AZ20*BB20 -> 3000 | BD20: 0.1 | BF20: タオルケット | BH20: 2 | BI20: 枚 | BJ20: 1500 | BK20: =BH20*BJ20 -> 3000 | BL20: 0.1
B21: 大判バスタオル | D21: 2 | E21: 枚 | F21: 800 | G21: =D21*F21 -> 1600 | H21: 0.1 | J21: 大判バスタオル | L21: 2 | M21: 枚 | N21: 800 | O21: =L21*N21 -> 1600 | P21: 0.1 | R21: 大判バスタオル | T21: 2 | U21: 枚 | V21: 800 | W21: =T21*V21 -> 1600 | X21: 0.1 | Z21: 大判バスタオル | AB21: 2 | AC21: 枚 | AD21: 800 | AE21: =AB21*AD21 -> 1600 | AF21: 0.1 | AH21: 大判バスタオル | AJ21: 2 | AK21: 枚 | AL21: 800 | AM21: =AJ21*AL21 -> 1600 | AN21: 0.1 | AP21: 大判バスタオル | AR21: 2 | AS21: 枚 | AT21: 800 | AU21: =AR21*AT21 -> 1600 | AV21: 0.1 | AX21: 大判バスタオル | AZ21: 2 | BA21: 枚 | BB21: 800 | BC21: =AZ21*BB21 -> 1600 | BD21: 0.1 | BF21: 大判バスタオル | BH21: 2 | BI21: 枚 | BJ21: 800 | BK21: =BH21*BJ21 -> 1600 | BL21: 0.1
B22: バスタオル | D22: 2 | E22: 枚 | F22: 800 | G22: =D22*F22 -> 1600 | H22: 0.1 | J22: バスタオル | L22: 2 | M22: 枚 | N22: 800 | O22: =L22*N22 -> 1600 | P22: 0.1 | R22: バスタオル | T22: 2 | U22: 枚 | V22: 800 | W22: =T22*V22 -> 1600 | X22: 0.1 | Z22: バスタオル | AB22: 2 | AC22: 枚 | AD22: 800 | AE22: =AB22*AD22 -> 1600 | AF22: 0.1 | AH22: バスタオル | AJ22: 2 | AK22: 枚 | AL22: 800 | AM22: =AJ22*AL22 -> 1600 | AN22: 0.1 | AP22: バスタオル | AR22: 2 | AS22: 枚 | AT22: 800 | AU22: =AR22*AT22 -> 1600 | AV22: 0.1 | AX22: バスタオル | AZ22: 2 | BA22: 枚 | BB22: 800 | BC22: =AZ22*BB22 -> 1600 | BD22: 0.1 | BF22: バスタオル | BH22: 2 | BI22: 枚 | BJ22: 800 | BK22: =BH22*BJ22 -> 1600 | BL22: 0.1
B23: フェイスタオル | D23: 4 | E23: 枚 | F23: 180 | G23: =D23*F23 -> 720 | H23: 0.1 | J23: フェイスタオル | L23: 4 | M23: 枚 | N23: 180 | O23: =L23*N23 -> 720 | P23: 0.1 | R23: フェイスタオル | T23: 4 | U23: 枚 | V23: 180 | W23: =T23*V23 -> 720 | X23: 0.1 | Z23: フェイスタオル | AB23: 4 | AC23: 枚 | AD23: 180 | AE23: =AB23*AD23 -> 720 | AF23: 0.1 | AH23: フェイスタオル | AJ23: 4 | AK23: 枚 | AL23: 180 | AM23: =AJ23*AL23 -> 720 | AN23: 0.1 | AP23: フェイスタオル | AR23: 4 | AS23: 枚 | AT23: 180 | AU23: =AR23*AT23 -> 720 | AV23: 0.1 | AX23: フェイスタオル | AZ23: 4 | BA23: 枚 | BB23: 180 | BC23: =AZ23*BB23 -> 720 | BD23: 0.1 | BF23: フェイスタオル | BH23: 4 | BI23: 枚 | BJ23: 180 | BK23: =BH23*BJ23 -> 720 | BL23: 0.1
B24: ティッシュ | D24: 1 | E24: 箱 | F24: 120 | G24: =D24*F24 -> 120 | H24: 0.1 | J24: ティッシュ | L24: 1 | M24: 箱 | N24: 120 | O24: =L24*N24 -> 120 | P24: 0.1 | R24: ティッシュ | T24: 1 | U24: 箱 | V24: 120 | W24: =T24*V24 -> 120 | X24: 0.1 | Z24: ティッシュ | AB24: 1 | AC24: 箱 | AD24: 120 | AE24: =AB24*AD24 -> 120 | AF24: 0.1 | AH24: ティッシュ | AJ24: 1 | AK24: 箱 | AL24: 120 | AM24: =AJ24*AL24 -> 120 | AN24: 0.1 | AP24: ティッシュ | AR24: 1 | AS24: 箱 | AT24: 120 | AU24: =AR24*AT24 -> 120 | AV24: 0.1 | AX24: ティッシュ | AZ24: 1 | BA24: 箱 | BB24: 120 | BC24: =AZ24*BB24 -> 120 | BD24: 0.1 | BF24: ティッシュ | BH24: 1 | BI24: 箱 | BJ24: 120 | BK24: =BH24*BJ24 -> 120 | BL24: 0.1
B25: ペーパータオル | D25: 1 | E25: 箱 | F25: 120 | G25: =D25*F25 -> 120 | H25: 0.1 | J25: ペーパータオル | L25: 1 | M25: 箱 | N25: 120 | O25: =L25*N25 -> 120 | P25: 0.1 | R25: ペーパータオル | T25: 1 | U25: 箱 | V25: 120 | W25: =T25*V25 -> 120 | X25: 0.1 | Z25: ペーパータオル | AB25: 1 | AC25: 箱 | AD25: 120 | AE25: =AB25*AD25 -> 120 | AF25: 0.1 | AH25: ペーパータオル | AJ25: 1 | AK25: 箱 | AL25: 120 | AM25: =AJ25*AL25 -> 120 | AN25: 0.1 | AP25: ペーパータオル | AR25: 1 | AS25: 箱 | AT25: 120 | AU25: =AR25*AT25 -> 120 | AV25: 0.1 | AX25: ペーパータオル | AZ25: 1 | BA25: 箱 | BB25: 120 | BC25: =AZ25*BB25 -> 120 | BD25: 0.1 | BF25: ペーパータオル | BH25: 1 | BI25: 箱 | BJ25: 120 | BK25: =BH25*BJ25 -> 120 | BL25: 0.1
B26: 除菌ペーパー | D26: 1 | E26: 箱 | F26: 160 | G26: =D26*F26 -> 160 | H26: 0.1 | J26: 除菌ペーパー | L26: 1 | M26: 箱 | N26: 160 | O26: =L26*N26 -> 160 | P26: 0.1 | R26: 除菌ペーパー | T26: 1 | U26: 箱 | V26: 160 | W26: =T26*V26 -> 160 | X26: 0.1 | Z26: 除菌ペーパー | AB26: 1 | AC26: 箱 | AD26: 160 | AE26: =AB26*AD26 -> 160 | AF26: 0.1 | AH26: 除菌ペーパー | AJ26: 1 | AK26: 箱 | AL26: 160 | AM26: =AJ26*AL26 -> 160 | AN26: 0.1 | AP26: 除菌ペーパー | AR26: 1 | AS26: 箱 | AT26: 160 | AU26: =AR26*AT26 -> 160 | AV26: 0.1 | AX26: 除菌ペーパー | AZ26: 1 | BA26: 箱 | BB26: 160 | BC26: =AZ26*BB26 -> 160 | BD26: 0.1 | BF26: 除菌ペーパー | BH26: 1 | BI26: 箱 | BJ26: 160 | BK26: =BH26*BJ26 -> 160 | BL26: 0.1
B27: 介護用ビニール手袋（10双） | D27: 20 | E27: 袋 | F27: 40 | G27: =D27*F27 -> 800 | H27: 0.1 | J27: 介護用ビニール手袋（10双） | L27: 20 | M27: 袋 | N27: 40 | O27: =L27*N27 -> 800 | P27: 0.1 | R27: 介護用ビニール手袋（10双） | T27: 20 | U27: 袋 | V27: 40 | W27: =T27*V27 -> 800 | X27: 0.1 | Z27: 介護用ビニール手袋（10双） | AB27: 20 | AC27: 袋 | AD27: 40 | AE27: =AB27*AD27 -> 800 | AF27: 0.1 | AH27: 介護用ビニール手袋（10双） | AJ27: 20 | AK27: 袋 | AL27: 40 | AM27: =AJ27*AL27 -> 800 | AN27: 0.1 | AP27: 介護用ビニール手袋（10双） | AR27: 20 | AS27: 袋 | AT27: 40 | AU27: =AR27*AT27 -> 800 | AV27: 0.1 | AX27: 介護用ビニール手袋（10双） | AZ27: 20 | BA27: 袋 | BB27: 40 | BC27: =AZ27*BB27 -> 800 | BD27: 0.1 | BF27: 介護用ビニール手袋（10双） | BH27: 20 | BI27: 袋 | BJ27: 40 | BK27: =BH27*BJ27 -> 800 | BL27: 0.1
B28: 紙コップ（50個） | E28: 袋 | F28: 125 | G28: =D28*F28 -> 0 | H28: 0.1 | J28: 紙コップ（50個） | M28: 袋 | N28: 125 | O28: =L28*N28 -> 0 | P28: 0.1 | R28: 紙コップ（50個） | U28: 袋 | V28: 125 | W28: =T28*V28 -> 0 | X28: 0.1 | Z28: 紙コップ（50個） | AC28: 袋 | AD28: 125 | AE28: =AB28*AD28 -> 0 | AF28: 0.1 | AH28: 紙コップ（50個） | AK28: 袋 | AL28: 125 | AM28: =AJ28*AL28 -> 0 | AN28: 0.1 | AP28: 紙コップ（50個） | AS28: 袋 | AT28: 125 | AU28: =AR28*AT28 -> 0 | AV28: 0.1 | AX28: 紙コップ（50個） | BA28: 袋 | BB28: 125 | BC28: =AZ28*BB28 -> 0 | BD28: 0.1 | BF28: 紙コップ（50個） | BI28: 袋 | BJ28: 125 | BK28: =BH28*BJ28 -> 0 | BL28: 0.1
B29: 生理用品 | D29: 5 | E29: 個 | F29: 18 | G29: =D29*F29 -> 90 | H29: 0.1 | J29: 生理用品 | L29: 5 | M29: 個 | N29: 18 | O29: =L29*N29 -> 90 | P29: 0.1 | R29: 生理用品 | T29: 5 | U29: 個 | V29: 18 | W29: =T29*V29 -> 90 | X29: 0.1 | Z29: 生理用品 | AB29: 5 | AC29: 個 | AD29: 18 | AE29: =AB29*AD29 -> 90 | AF29: 0.1 | AH29: 生理用品 | AJ29: 5 | AK29: 個 | AL29: 18 | AM29: =AJ29*AL29 -> 90 | AN29: 0.1 | AP29: 生理用品 | AR29: 5 | AS29: 個 | AT29: 18 | AU29: =AR29*AT29 -> 90 | AV29: 0.1 | AX29: 生理用品 | BA29: 個 | BC29: =AZ29*BB29 -> 0 | BD29: 0.1 | BF29: 生理用品 | BH29: 5 | BI29: 個 | BJ29: 18 | BK29: =BH29*BJ29 -> 90 | BL29: 0.1
B30: Tシャツ | D30: 2 | E30: 枚 | F30: 650 | G30: =D30*F30 -> 1300 | H30: 0.1 | J30: Tシャツ | L30: 2 | M30: 枚 | N30: 650 | O30: =L30*N30 -> 1300 | P30: 0.1 | R30: Tシャツ | T30: 2 | U30: 枚 | V30: 650 | W30: =T30*V30 -> 1300 | X30: 0.1 | Z30: Tシャツ | AB30: 2 | AC30: 枚 | AD30: 650 | AE30: =AB30*AD30 -> 1300 | AF30: 0.1 | AH30: Tシャツ | AJ30: 2 | AK30: 枚 | AL30: 650 | AM30: =AJ30*AL30 -> 1300 | AN30: 0.1 | AP30: Tシャツ | AR30: 2 | AS30: 枚 | AT30: 650 | AU30: =AR30*AT30 -> 1300 | AV30: 0.1 | AX30: Tシャツ | BA30: 枚 | BC30: =AZ30*BB30 -> 0 | BD30: 0.1 | BF30: Tシャツ | BH30: 2 | BI30: 枚 | BJ30: 650 | BK30: =BH30*BJ30 -> 1300 | BL30: 0.1
F31: 小計① | G31: =SUM(G3:G30) -> 79600 | N31: 小計① | O31: =SUM(O3:O30) -> 79600 | V31: 小計① | W31: =SUM(W3:W30) -> 79600 | AD31: 小計① | AE31: =SUM(AE3:AE30) -> 79600 | AL31: 小計① | AM31: =SUM(AM3:AM30) -> 89980 | AT31: 小計① | AU31: =SUM(AU3:AU30) -> 89980 | BB31: 小計① | BC31: =SUM(BC3:BC30) -> 72510 | BJ31: 小計① | BK31: =SUM(BK3:BK30) -> 76250
A32: ①大津港ターミナル① | I32: ②大津市民会館① | Q32: ③勤労福祉センター① | Y32: ④ふれあいスポーツセンター① | AG32: ⑨マリーナ（おまつり広場）-1 | AO32: ⑨マリーナ（おまつり広場）-1 | AW32: ⑨マリーナ（おまつり広場）-1 | BE32: ⑨草津本部-2
A33: １ 大津港ターミナル② | I33: 2 大津市民会館② | Q33: 3 勤労福祉センター② | Y33: 4 ふれあいスポーツセンター② | AG33: ５ 逢坂市民センター② | AO33: ６ 平野市民センター② | AW33: 7 びわこボート② | BE33: 8 草津本部②
A34: 商 品 名 | C34: 仕 様 | D34: 数量 | F34: 単価 | G34: 合計 | H34: 税 | I34: 商 品 名 | K34: 仕 様 | L34: 数量 | N34: 単価 | O34: 合計 | P34: 税 | Q34: 商 品 名 | S34: 仕 様 | T34: 数量 | V34: 単価 | W34: 合計 | X34: 税 | Y34: 商 品 名 | AA34: 仕 様 | AB34: 数量 | AD34: 単価 | AE34: 合計 | AF34: 税 | AG34: 商 品 名 | AI34: 仕 様 | AJ34: 数量 | AL34: 単価 | AM34: 合計 | AN34: 税 | AO34: 商 品 名 | AQ34: 仕 様 | AR34: 数量 | AT34: 単価 | AU34: 合計 | AV34: 税 | AW34: 商 品 名 | AY34: 仕 様 | AZ34: 数量 | BB34: 単価 | BC34: 合計 | BD34: 税 | BE34: 商 品 名 | BG34: 仕 様 | BH34: 数量 | BJ34: 単価 | BK34: 合計 | BL34: 税
B35: 軍手 | E35: 双 | F35: 125 | G35: =D35*F35 -> 0 | H35: 0.1 | J35: 軍手 | M35: 双 | N35: 125 | O35: =L35*N35 -> 0 | P35: 0.1 | R35: 軍手 | U35: 双 | V35: 125 | W35: =T35*V35 -> 0 | X35: 0.1 | Z35: 軍手 | AC35: 双 | AD35: 125 | AE35: =AB35*AD35 -> 0 | AF35: 0.1 | AH35: 軍手 | AK35: 双 | AL35: 125 | AM35: =AJ35*AL35 -> 0 | AN35: 0.1 | AP35: 軍手 | AS35: 双 | AT35: 125 | AU35: =AR35*AT35 -> 0 | AV35: 0.1 | AX35: 軍手 | BA35: 双 | BB35: 125 | BC35: =AZ35*BB35 -> 0 | BD35: 0.1 | BF35: 軍手 | BI35: 双 | BJ35: 125 | BK35: =BH35*BJ35 -> 0 | BL35: 0.1
B36: ラップ | E36: 本 | F36: 125 | G36: =D36*F36 -> 0 | H36: 0.1 | J36: ラップ | M36: 本 | N36: 125 | O36: =L36*N36 -> 0 | P36: 0.1 | R36: ラップ | U36: 本 | V36: 125 | W36: =T36*V36 -> 0 | X36: 0.1 | Z36: ラップ | AC36: 本 | AD36: 125 | AE36: =AB36*AD36 -> 0 | AF36: 0.1 | AH36: ラップ | AK36: 本 | AL36: 125 | AM36: =AJ36*AL36 -> 0 | AN36: 0.1 | AP36: ラップ | AS36: 本 | AT36: 125 | AU36: =AR36*AT36 -> 0 | AV36: 0.1 | AX36: ラップ | BA36: 本 | BB36: 125 | BC36: =AZ36*BB36 -> 0 | BD36: 0.1 | BF36: ラップ | BI36: 本 | BJ36: 125 | BK36: =BH36*BJ36 -> 0 | BL36: 0.1
B37: 吐瀉用ビニール袋（20枚） | E37: 袋 | F37: 125 | G37: =D37*F37 -> 0 | H37: 0.1 | J37: 吐瀉用ビニール袋（20枚） | M37: 袋 | N37: 125 | O37: =L37*N37 -> 0 | P37: 0.1 | R37: 吐瀉用ビニール袋（20枚） | U37: 袋 | V37: 125 | W37: =T37*V37 -> 0 | X37: 0.1 | Z37: 吐瀉用ビニール袋（20枚） | AC37: 袋 | AD37: 125 | AE37: =AB37*AD37 -> 0 | AF37: 0.1 | AH37: 吐瀉用ビニール袋（20枚） | AK37: 袋 | AL37: 125 | AM37: =AJ37*AL37 -> 0 | AN37: 0.1 | AP37: 吐瀉用ビニール袋（20枚） | AS37: 袋 | AT37: 125 | AU37: =AR37*AT37 -> 0 | AV37: 0.1 | AX37: 吐瀉用ビニール袋（20枚） | BA37: 袋 | BB37: 125 | BC37: =AZ37*BB37 -> 0 | BD37: 0.1 | BF37: 吐瀉用ビニール袋（20枚） | BI37: 袋 | BJ37: 125 | BK37: =BH37*BJ37 -> 0 | BL37: 0.1
B38: ストロー（20本） | E38: 袋 | F38: 125 | G38: =D38*F38 -> 0 | H38: 0.1 | J38: ストロー（20本） | M38: 袋 | N38: 125 | O38: =L38*N38 -> 0 | P38: 0.1 | R38: ストロー（20本） | U38: 袋 | V38: 125 | W38: =T38*V38 -> 0 | X38: 0.1 | Z38: ストロー（20本） | AC38: 袋 | AD38: 125 | AE38: =AB38*AD38 -> 0 | AF38: 0.1 | AH38: ストロー（20本） | AK38: 袋 | AL38: 125 | AM38: =AJ38*AL38 -> 0 | AN38: 0.1 | AP38: ストロー（20本） | AS38: 袋 | AT38: 125 | AU38: =AR38*AT38 -> 0 | AV38: 0.1 | AX38: ストロー（20本） | BA38: 袋 | BB38: 125 | BC38: =AZ38*BB38 -> 0 | BD38: 0.1 | BF38: ストロー（20本） | BI38: 袋 | BJ38: 125 | BK38: =BH38*BJ38 -> 0 | BL38: 0.1
A39: 救急箱 | B39: 三角巾 | D39: 1 | E39: 枚 | F39: 380 | G39: =D39*F39 -> 380 | H39: 0.1 | I39: 救急箱 | J39: 三角巾 | L39: 1 | M39: 枚 | N39: 380 | O39: =L39*N39 -> 380 | P39: 0.1 | Q39: 救急箱 | R39: 三角巾 | T39: 1 | U39: 枚 | V39: 380 | W39: =T39*V39 -> 380 | X39: 0.1 | Y39: 救急箱 | Z39: 三角巾 | AB39: 1 | AC39: 枚 | AD39: 380 | AE39: =AB39*AD39 -> 380 | AF39: 0.1 | AG39: 救急箱 | AH39: 三角巾 | AJ39: 1 | AK39: 枚 | AL39: 380 | AM39: =AJ39*AL39 -> 380 | AN39: 0.1 | AO39: 救急箱 | AP39: 三角巾 | AR39: 1 | AS39: 枚 | AT39: 380 | AU39: =AR39*AT39 -> 380 | AV39: 0.1 | AW39: 救急箱 | AX39: 三角巾 | AZ39: 1 | BA39: 枚 | BB39: 380 | BC39: =AZ39*BB39 -> 380 | BD39: 0.1 | BE39: 救急箱 | BF39: 三角巾 | BH39: 1 | BI39: 枚 | BJ39: 380 | BK39: =BH39*BJ39 -> 380 | BL39: 0.1
B40: マスク（20枚） | D40: 20 | E40: 袋 | F40: 20 | G40: =D40*F40 -> 400 | H40: 0.1 | J40: マスク（20枚） | L40: 1 | M40: 袋 | N40: 200 | O40: =L40*N40 -> 200 | P40: 0.1 | R40: マスク（20枚） | T40: 1 | U40: 袋 | V40: 200 | W40: =T40*V40 -> 200 | X40: 0.1 | Z40: マスク（20枚） | AB40: 1 | AC40: 袋 | AD40: 200 | AE40: =AB40*AD40 -> 200 | AF40: 0.1 | AH40: マスク（20枚） | AJ40: 1 | AK40: 袋 | AL40: 200 | AM40: =AJ40*AL40 -> 200 | AN40: 0.1 | AP40: マスク（20枚） | AR40: 1 | AS40: 袋 | AT40: 200 | AU40: =AR40*AT40 -> 200 | AV40: 0.1 | AX40: マスク（20枚） | AZ40: 1 | BA40: 袋 | BB40: 200 | BC40: =AZ40*BB40 -> 200 | BD40: 0.1 | BF40: マスク（20枚） | BH40: 1 | BI40: 袋 | BJ40: 200 | BK40: =BH40*BJ40 -> 200 | BL40: 0.1
...

Sheet 修正中救護
A1: 救護所設置及び備品（使用日8月6日） | I1: 救護所設置及び備品（使用日8月6日） | Q1: 救護所設置及び備品（使用日8月6日） | Y1: 救護所設置及び備品（使用日8月6日） | AH1: 救護所設置及び備品（使用日8月6日） | AP1: 救護所設置及び備品（使用日8月6日） | AX1: 救護所設置及び備品（使用日8月6日） | BF1: 救護所設置及び備品（使用日8月6日） | BN1: 救護所設置及び備品（使用日8月6日）
A2: １ 大津港ターミナル① | I2: 2 大津市民会館① | Q2: ３ 勤労福祉センター① | Y2: ４ ふれあいスポーツセンター① | AG2: ５ 逢坂市民センター① | AO2: ６ 平野市民センター① | AW2: 7 びわこボート① | BE2: 8 草津本部① | BM2: 9 本部付け
A3: 商 品 名 | C3: 仕 様 | D3: 数量 | F3: 単価 | G3: 合計 | H3: 税 | I3: 商 品 名 | K3: 仕 様 | L3: 数量 | N3: 単価 | O3: 合計 | P3: 税 | Q3: 商 品 名 | S3: 仕 様 | T3: 数量 | V3: 単価 | W3: 合計 | X3: 税 | Y3: 商 品 名 | AA3: 仕 様 | AB3: 数量 | AD3: 単価 | AE3: 合計 | AF3: 税 | AG3: 商 品 名 | AI3: 仕 様 | AJ3: 数量 | AL3: 単価 | AM3: 合計 | AN3: 税 | AO3: 商 品 名 | AQ3: 仕 様 | AR3: 数量 | AT3: 単価 | AU3: 合計 | AV3: 税 | AW3: 商 品 名 | AY3: 仕 様 | AZ3: 数量 | BB3: 単価 | BC3: 合計 | BD3: 税 | BE3: 商 品 名 | BG3: 仕 様 | BH3: 数量 | BJ3: 単価 | BK3: 合計 | BL3: 税 | BM3: 商 品 名 | BO3: 仕 様 | BP3: 数量 | BR3: 単価 | BS3: 合計 | BT3: 税
B4: ＡＥＤ | D4: 1 | E4: 個 | F4: 18000 | G4: =D4*F4 -> 18000 | H4: 0.1 | J4: ＡＥＤ | L4: 1 | M4: 個 | N4: 18000 | O4: =L4*N4 -> 18000 | P4: 0.1 | R4: ＡＥＤ | T4: 1 | U4: 個 | V4: 18000 | W4: =T4*V4 -> 18000 | X4: 0.1 | Z4: ＡＥＤ | AB4: 1 | AC4: 個 | AD4: 18000 | AE4: =AB4*AD4 -> 18000 | AF4: 0.1 | AH4: ＡＥＤ | AJ4: 1 | AK4: 個 | AL4: 18000 | AM4: =AJ4*AL4 -> 18000 | AN4: 0.1 | AP4: ＡＥＤ | AR4: 1 | AS4: 個 | AT4: 18000 | AU4: =AR4*AT4 -> 18000 | AV4: 0.1 | AX4: ＡＥＤ | AZ4: 0 | BA4: 個 | BB4: 18000 | BC4: =AZ4*BB4 -> 0 | BD4: 0.1 | BF4: ＡＥＤ | BH4: 1 | BI4: 個 | BJ4: 18000 | BK4: =BH4*BJ4 -> 18000 | BL4: 0.1 | BN4: 救命救急士（応援・交代要員） | BP4: 9 | BQ4: 時間 | BR4: 5200 | BS4: =BP4*BR4 -> 46800 | BT4: 0.1
B5: ナースバッグ | D5: 1 | E5: 個 | F5: 2000 | G5: =D5*F5 -> 2000 | H5: 0.1 | J5: ナースバッグ | L5: 1 | M5: 個 | N5: 2000 | O5: =L5*N5 -> 2000 | P5: 0.1 | R5: ナースバッグ | T5: 1 | U5: 個 | V5: 2000 | W5: =T5*V5 -> 2000 | X5: 0.1 | Z5: ナースバッグ | AB5: 1 | AC5: 個 | AD5: 2000 | AE5: =AB5*AD5 -> 2000 | AF5: 0.1 | AH5: ナースバッグ | AJ5: 1 | AK5: 個 | AL5: 2000 | AM5: =AJ5*AL5 -> 2000 | AN5: 0.1 | AP5: ナースバッグ | AR5: 1 | AS5: 個 | AT5: 2000 | AU5: =AR5*AT5 -> 2000 | AV5: 0.1 | AX5: ナースバッグ | AZ5: 1 | BA5: 個 | BB5: 2000 | BC5: =AZ5*BB5 -> 2000 | BD5: 0.1 | BF5: ナースバッグ | BH5: 1 | BI5: 個 | BJ5: 2000 | BK5: =BH5*BJ5 -> 2000 | BL5: 0.1 | BN5: 民間救急車（本部前） | BP5: 1 | BQ5: 台 | BR5: 32000 | BS5: =BP5*BR5 -> 32000 | BT5: 0.1
B6: 血圧計 | D6: 1 | E6: 個 | F6: 2500 | G6: =D6*F6 -> 2500 | H6: 0.1 | J6: 血圧計 | L6: 1 | M6: 個 | N6: 2500 | O6: =L6*N6 -> 2500 | P6: 0.1 | R6: 血圧計 | T6: 1 | U6: 個 | V6: 2500 | W6: =T6*V6 -> 2500 | X6: 0.1 | Z6: 血圧計 | AB6: 1 | AC6: 個 | AD6: 2500 | AE6: =AB6*AD6 -> 2500 | AF6: 0.1 | AH6: 血圧計 | AJ6: 1 | AK6: 個 | AL6: 2500 | AM6: =AJ6*AL6 -> 2500 | AN6: 0.1 | AP6: 血圧計 | AR6: 1 | AS6: 個 | AT6: 2500 | AU6: =AR6*AT6 -> 2500 | AV6: 0.1 | AX6: 血圧計 | AZ6: 1 | BA6: 個 | BB6: 2500 | BC6: =AZ6*BB6 -> 2500 | BD6: 0.1 | BF6: 血圧計 | BH6: 1 | BI6: 個 | BJ6: 2500 | BK6: =BH6*BJ6 -> 2500 | BL6: 0.1 | BN6: 交通費 | BP6: 一式 | BR6: 21000 | BS6: 21000 | BT6: 0.1
B7: 担架 | D7: 1 | E7: 個 | F7: 5200 | G7: =D7*F7 -> 5200 | H7: 0.1 | J7: 担架 | L7: 1 | M7: 個 | N7: 5200 | O7: =L7*N7 -> 5200 | P7: 0.1 | R7: 担架 | T7: 1 | U7: 個 | V7: 5200 | W7: =T7*V7 -> 5200 | X7: 0.1 | Z7: 担架 | AB7: 1 | AC7: 個 | AD7: 5200 | AE7: =AB7*AD7 -> 5200 | AF7: 0.1 | AH7: 担架 | AJ7: 1 | AK7: 個 | AL7: 5200 | AM7: =AJ7*AL7 -> 5200 | AN7: 0.1 | AP7: 担架 | AR7: 1 | AS7: 個 | AT7: 5200 | AU7: =AR7*AT7 -> 5200 | AV7: 0.1 | AX7: 担架 | AZ7: 0 | BA7: 個 | BB7: 5200 | BC7: =AZ7*BB7 -> 0 | BD7: 0.1 | BF7: 担架 | BH7: 1 | BI7: 個 | BJ7: 5200 | BK7: =BH7*BJ7 -> 5200 | BL7: 0.1 | BR7: 本部付け小計 | BS7: =SUM(BS4:BS6) -> 99800
B8: 折りたたみベッド | D8: 1 | E8: 個 | F8: 3000 | G8: =D8*F8 -> 3000 | H8: 0.1 | J8: 折りたたみベッド | L8: 1 | M8: 個 | N8: 3000 | O8: =L8*N8 -> 3000 | P8: 0.1 | R8: 折りたたみベッド | T8: 1 | U8: 個 | V8: 3000 | W8: =T8*V8 -> 3000 | X8: 0.1 | Z8: 折りたたみベッド | AB8: 1 | AC8: 個 | AD8: 3000 | AE8: =AB8*AD8 -> 3000 | AF8: 0.1 | AH8: 折りたたみベッド | AJ8: 1 | AK8: 個 | AL8: 3000 | AM8: =AJ8*AL8 -> 3000 | AN8: 0.1 | AP8: 折りたたみベッド | AR8: 1 | AS8: 個 | AT8: 3000 | AU8: =AR8*AT8 -> 3000 | AV8: 0.1 | AX8: 折りたたみベッド | AZ8: 0 | BA8: 個 | BB8: 3000 | BC8: =AZ8*BB8 -> 0 | BD8: 0.1 | BF8: 折りたたみベッド | BH8: 1 | BI8: 個 | BJ8: 3000 | BK8: =BH8*BJ8 -> 3000 | BL8: 0.1
B9: スポットクーラー | D9: 1 | E9: 個 | F9: 14000 | G9: =D9*F9 -> 14000 | H9: 0.1 | J9: スポットクーラー | L9: 1 | M9: 個 | N9: 14000 | O9: =L9*N9 -> 14000 | P9: 0.1 | R9: スポットクーラー | T9: 1 | U9: 個 | V9: 14000 | W9: =T9*V9 -> 14000 | X9: 0.1 | Z9: スポットクーラー | AB9: 1 | AC9: 個 | AD9: 14000 | AE9: =AB9*AD9 -> 14000 | AF9: 0.1 | AH9: スポットクーラー | AJ9: 1 | AK9: 個 | AL9: 14000 | AM9: =AJ9*AL9 -> 14000 | AN9: 0.1 | AP9: スポットクーラー | AR9: 1 | AS9: 個 | AT9: 14000 | AU9: =AR9*AT9 -> 14000 | AV9: 0.1 | AX9: スポットクーラー | AZ9: 0 | BA9: 個 | BB9: 14000 | BC9: =AZ9*BB9 -> 0 | BD9: 0.1 | BF9: スポットクーラー | BH9: 1 | BI9: 個 | BJ9: 14000 | BK9: =BH9*BJ9 -> 14000 | BL9: 0.1 | BN9: 予備ＡＥＤ | BP9: 3 | BQ9: 個 | BR9: 18000 | BS9: =BP9*BR9 -> 54000 | BT9: 0.1
B10: クーラーボックス | D10: 2 | E10: 個 | F10: 4000 | G10: =D10*F10 -> 8000 | H10: 0.1 | J10: クーラーボックス | L10: 2 | M10: 個 | N10: 4000 | O10: =L10*N10 -> 8000 | P10: 0.1 | R10: クーラーボックス | T10: 2 | U10: 個 | V10: 4000 | W10: =T10*V10 -> 8000 | X10: 0.1 | Z10: クーラーボックス | AB10: 2 | AC10: 個 | AD10: 4000 | AE10: =AB10*AD10 -> 8000 | AF10: 0.1 | AH10: クーラーボックス | AJ10: 2 | AK10: 個 | AL10: 4000 | AM10: =AJ10*AL10 -> 8000 | AN10: 0.1 | AP10: クーラーボックス | AR10: 2 | AS10: 個 | AT10: 4000 | AU10: =AR10*AT10 -> 8000 | AV10: 0.1 | AX10: クーラーボックス | AZ10: 0 | BA10: 個 | BB10: 4000 | BC10: =AZ10*BB10 -> 0 | BD10: 0.1 | BF10: クーラーボックス | BH10: 2 | BI10: 個 | BJ10: 4000 | BK10: =BH10*BJ10 -> 8000 | BL10: 0.1 | BN10: 輸送用４ｔパワーゲート | BP10: 2 | BQ10: 台 | BR10: 56000 | BS10: =BP10*BR10 -> 112000 | BT10: 0.1
B11: 車椅子 | D11: 2 | E11: 個 | F11: 4000 | G11: =D11*F11 -> 8000 | H11: 0.1 | J11: 車椅子 | L11: 2 | M11: 個 | N11: 4000 | O11: =L11*N11 -> 8000 | P11: 0.1 | R11: 車椅子 | T11: 4 | U11: 個 | V11: 4000 | W11: =T11*V11 -> 16000 | X11: 0.1 | Z11: 車椅子 | AB11: 2 | AC11: 個 | AD11: 4000 | AE11: =AB11*AD11 -> 8000 | AF11: 0.1 | AH11: 車椅子 | AJ11: 2 | AK11: 個 | AL11: 4000 | AM11: =AJ11*AL11 -> 8000 | AN11: 0.1 | AP11: 車椅子 | AR11: 3 | AS11: 個 | AT11: 4000 | AU11: =AR11*AT11 -> 12000 | AV11: 0.1 | AX11: 車椅子 | AZ11: 0 | BA11: 個 | BB11: 4000 | BC11: =AZ11*BB11 -> 0 | BD11: 0.1 | BF11: 車椅子 | BH11: 0 | BI11: 個 | BJ11: 4000 | BK11: =BH11*BJ11 -> 0 | BL11: 0.1 | BN11: 設営・撤去テント等（輸送費含む） | BP11: 一式 | BS11: 80000 | BT11: 0.1
B12: 水（ペットボトル） | C12: 550ml | D12: 24 | E12: 本 | F12: 80 | G12: =D12*F12 -> 1920 | H12: 0.1 | J12: 水（ペットボトル） | K12: 550ml | L12: 24 | M12: 本 | N12: 80 | O12: =L12*N12 -> 1920 | P12: 0.1 | R12: 水（ペットボトル） | S12: 550ml | T12: 24 | U12: 本 | V12: 80 | W12: =T12*V12 -> 1920 | X12: 0.1 | Z12: 水（ペットボトル） | AA12: 550ml | AB12: 24 | AC12: 本 | AD12: 80 | AE12: =AB12*AD12 -> 1920 | AF12: 0.1 | AH12: 水（ペットボトル） | AI12: 550ml | AJ12: 48 | AK12: 本 | AL12: 80 | AM12: =AJ12*AL12 -> 3840 | AN12: 0.1 | AP12: 水（ペットボトル） | AQ12: 550ml | AR12: 48 | AS12: 本 | AT12: 80 | AU12: =AR12*AT12 -> 3840 | AV12: 0.1 | AX12: 水（ペットボトル） | AY12: 550ml | AZ12: 24 | BA12: 本 | BB12: 80 | BC12: =AZ12*BB12 -> 1920 | BD12: 0.1 | BF12: 水（ペットボトル） | BG12: 550ml | BH12: 24 | BI12: 本 | BJ12: 80 | BK12: =BH12*BJ12 -> 1920 | BL12: 0.1 | BN12: 冷凍車・配送（前日）・回収（当日） | BP12: 一式 | BS12: 150000 | BT12: 0.1
B13: 経口補水液（ペットボトル） | C13: OS-1 50０ｍｌ | D13: 24 | E13: 本 | F13: 205 | G13: =D13*F13 -> 4920 | H13: 0.1 | J13: 経口補水液（ペットボトル） | K13: OS-1 50０ｍｌ | L13: 24 | M13: 本 | N13: 205 | O13: =L13*N13 -> 4920 | P13: 0.1 | R13: 経口補水液（ペットボトル） | S13: OS-1 50０ｍｌ | T13: 24 | U13: 本 | V13: 205 | W13: =T13*V13 -> 4920 | X13: 0.1 | Z13: 経口補水液（ペットボトル） | AA13: OS-1 50０ｍｌ | AB13: 24 | AC13: 本 | AD13: 205 | AE13: =AB13*AD13 -> 4920 | AF13: 0.1 | AH13: 経口補水液（ペットボトル） | AI13: OS-1 50０ｍｌ | AJ13: 36 | AK13: 本 | AL13: 205 | AM13: =AJ13*AL13 -> 7380 | AN13: 0.1 | AP13: 経口補水液（ペットボトル） | AQ13: OS-1 50０ｍｌ | AR13: 36 | AS13: 本 | AT13: 205 | AU13: =AR13*AT13 -> 7380 | AV13: 0.1 | AX13: 経口補水液（ペットボトル） | AY13: OS-1 50０ｍｌ | AZ13: 24 | BA13: 本 | BB13: 205 | BC13: =AZ13*BB13 -> 4920 | BD13: 0.1 | BF13: 経口補水液（ペットボトル） | BG13: OS-1 50０ｍｌ | BH13: 24 | BI13: 本 | BJ13: 205 | BK13: =BH13*BJ13 -> 4920 | BL13: 0.1 | BN13: 小計 | BP13: ①～⑨ | BS13: =BK66+BC66+AU66+AM66+AE66+W66+O66+G66+BS7 -> 1121395 | BT13: 0.1
B14: 経口補水ゼリー | C14: OS-1 200ｇ | D14: 10 | E14: 本 | F14: 185 | G14: =D14*F14 -> 1850 | H14: 0.1 | J14: 経口補水ゼリー | K14: OS-1 200ｇ | L14: 10 | M14: 本 | N14: 185 | O14: =L14*N14 -> 1850 | P14: 0.1 | R14: 経口補水ゼリー | S14: OS-1 200ｇ | T14: 10 | U14: 本 | V14: 185 | W14: =T14*V14 -> 1850 | X14: 0.1 | Z14: 経口補水ゼリー | AA14: OS-1 200ｇ | AB14: 10 | AC14: 本 | AD14: 185 | AE14: =AB14*AD14 -> 1850 | AF14: 0.1 | AH14: 経口補水ゼリー | AI14: OS-1 200ｇ | AJ14: 10 | AK14: 本 | AL14: 185 | AM14: =AJ14*AL14 -> 1850 | AN14: 0.1 | AP14: 経口補水ゼリー | AQ14: OS-1 200ｇ | AR14: 10 | AS14: 本 | AT14: 185 | AU14: =AR14*AT14 -> 1850 | AV14: 0.1 | AX14: 経口補水ゼリー | AY14: OS-1 200ｇ | AZ14: 10 | BA14: 本 | BB14: 185 | BC14: =AZ14*BB14 -> 1850 | BD14: 0.1 | BF14: 経口補水ゼリー | BG14: OS-1 200ｇ | BH14: 0 | BI14: 本 | BJ14: 185 | BK14: =BH14*BJ14 -> 0 | BL14: 0.1 | BR14: 小計① | BS14: =SUM(BS9:BS13) -> 1517395
B15: アイスノン | D15: 3 | E15: 個 | F15: 1600 | G15: =D15*F15 -> 4800 | H15: 0.1 | J15: アイスノン | L15: 3 | M15: 個 | N15: 1600 | O15: =L15*N15 -> 4800 | P15: 0.1 | R15: アイスノン | T15: 3 | U15: 個 | V15: 1600 | W15: =T15*V15 -> 4800 | X15: 0.1 | Z15: アイスノン | AB15: 3 | AC15: 個 | AD15: 1600 | AE15: =AB15*AD15 -> 4800 | AF15: 0.1 | AH15: アイスノン | AJ15: 3 | AK15: 個 | AL15: 1600 | AM15: =AJ15*AL15 -> 4800 | AN15: 0.1 | AP15: アイスノン | AR15: 3 | AS15: 個 | AT15: 1600 | AU15: =AR15*AT15 -> 4800 | AV15: 0.1 | AX15: アイスノン | AZ15: 3 | BA15: 個 | BB15: 1600 | BC15: =AZ15*BB15 -> 4800 | BD15: 0.1 | BF15: アイスノン | BH15: 0 | BI15: 個 | BJ15: 1600 | BK15: =BH15*BJ15 -> 0 | BL15: 0.1 | BR15: 諸経費１０％ | BS15: 151739
B16: 保冷剤 | C16: ５００ｇ | D16: 2 | E16: 個 | F16: 600 | G16: =D16*F16 -> 1200 | H16: 0.1 | J16: 保冷剤 | K16: ５００ｇ | L16: 2 | M16: 個 | N16: 600 | O16: =L16*N16 -> 1200 | P16: 0.1 | R16: 保冷剤 | S16: ５００ｇ | T16: 2 | U16: 個 | V16: 600 | W16: =T16*V16 -> 1200 | X16: 0.1 | Z16: 保冷剤 | AA16: ５００ｇ | AB16: 2 | AC16: 個 | AD16: 600 | AE16: =AB16*AD16 -> 1200 | AF16: 0.1 | AH16: 保冷剤 | AI16: ５００ｇ | AJ16: 2 | AK16: 個 | AL16: 600 | AM16: =AJ16*AL16 -> 1200 | AN16: 0.1 | AP16: 保冷剤 | AQ16: ５００ｇ | AR16: 2 | AS16: 個 | AT16: 600 | AU16: =AR16*AT16 -> 1200 | AV16: 0.1 | AX16: 保冷剤 | AY16: ５００ｇ | AZ16: 2 | BA16: 個 | BB16: 600 | BC16: =AZ16*BB16 -> 1200 | BD16: 0.1 | BF16: 保冷剤 | BG16: ５００ｇ | BH16: 0 | BI16: 個 | BJ16: 600 | BK16: =BH16*BJ16 -> 0 | BL16: 0.1 | BR16: 小計② | BS16: =SUM(BS14:BS15) -> 1669134
B17: 瞬間冷却パック | D17: 10 | E17: 個 | F17: 150 | G17: =D17*F17 -> 1500 | H17: 0.1 | J17: 瞬間冷却パック | L17: 10 | M17: 個 | N17: 150 | O17: =L17*N17 -> 1500 | P17: 0.1 | R17: 瞬間冷却パック | T17: 10 | U17: 個 | V17: 150 | W17: =T17*V17 -> 1500 | X17: 0.1 | Z17: 瞬間冷却パック | AB17: 10 | AC17: 個 | AD17: 150 | AE17: =AB17*AD17 -> 1500 | AF17: 0.1 | AH17: 瞬間冷却パック | AJ17: 10 | AK17: 個 | AL17: 150 | AM17: =AJ17*AL17 -> 1500 | AN17: 0.1 | AP17: 瞬間冷却パック | AR17: 10 | AS17: 個 | AT17: 150 | AU17: =AR17*AT17 -> 1500 | AV17: 0.1 | AX17: 瞬間冷却パック | AZ17: 10 | BA17: 個 | BB17: 150 | BC17: =AZ17*BB17 -> 1500 | BD17: 0.1 | BF17: 瞬間冷却パック | BH17: 0 | BI17: 個 | BJ17: 150 | BK17: =BH17*BJ17 -> 0 | BL17: 0.1 | BR17: 消費税 | BS17: =BS16*0.1 -> 166913.4
B18: 氷 | D18: 4 | E18: 貫 | F18: 700 | G18: =D18*F18 -> 2800 | H18: 0.1 | J18: 氷 | L18: 4 | M18: 貫 | N18: 700 | O18: =L18*N18 -> 2800 | P18: 0.1 | R18: 氷 | T18: 4 | U18: 貫 | V18: 700 | W18: =T18*V18 -> 2800 | X18: 0.1 | Z18: 氷 | AB18: 4 | AC18: 貫 | AD18: 700 | AE18: =AB18*AD18 -> 2800 | AF18: 0.1 | AH18: 氷 | AJ18: 4 | AK18: 貫 | AL18: 700 | AM18: =AJ18*AL18 -> 2800 | AN18: 0.1 | AP18: 氷 | AR18: 4 | AS18: 貫 | AT18: 700 | AU18: =AR18*AT18 -> 2800 | AV18: 0.1 | AX18: 氷 | AZ18: 0 | BA18: 貫 | BB18: 700 | BC18: =AZ18*BB18 -> 0 | BD18: 0.1 | BF18: 氷 | BH18: 0 | BI18: 貫 | BJ18: 700 | BK18: =BH18*BJ18 -> 0 | BL18: 0.1 | BR18: 合計 | BS18: =SUM(BS16:BS17) -> 1836047.4
B19: ドライアイス | D19: 2 | E19: ｋｇ | F19: 700 | G19: =D19*F19 -> 1400 | H19: 0.1 | J19: ドライアイス | L19: 2 | M19: ｋｇ | N19: 700 | O19: =L19*N19 -> 1400 | P19: 0.1 | R19: ドライアイス | T19: 2 | U19: ｋｇ | V19: 700 | W19: =T19*V19 -> 1400 | X19: 0.1 | Z19: ドライアイス | AB19: 2 | AC19: ｋｇ | AD19: 700 | AE19: =AB19*AD19 -> 1400 | AF19: 0.1 | AH19: ドライアイス | AJ19: 2 | AK19: ｋｇ | AL19: 700 | AM19: =AJ19*AL19 -> 1400 | AN19: 0.1 | AP19: ドライアイス | AR19: 2 | AS19: ｋｇ | AT19: 700 | AU19: =AR19*AT19 -> 1400 | AV19: 0.1 | AX19: ドライアイス | AZ19: 0 | BA19: ｋｇ | BB19: 700 | BC19: =AZ19*BB19 -> 0 | BD19: 0.1 | BF19: ドライアイス | BH19: 0 | BI19: ｋｇ | BJ19: 700 | BK19: =BH19*BJ19 -> 0 | BL19: 0.1
B20: 毛布 | D20: 1 | E20: 枚 | F20: 1500 | G20: =D20*F20 -> 1500 | H20: 0.1 | J20: 毛布 | L20: 2 | M20: 枚 | N20: 1500 | O20: =L20*N20 -> 3000 | P20: 0.1 | R20: 毛布 | T20: 2 | U20: 枚 | V20: 1500 | W20: =T20*V20 -> 3000 | X20: 0.1 | Z20: 毛布 | AB20: 1 | AC20: 枚 | AD20: 1500 | AE20: =AB20*AD20 -> 1500 | AF20: 0.1 | AH20: 毛布 | AJ20: 6 | AK20: 枚 | AL20: 1500 | AM20: =AJ20*AL20 -> 9000 | AN20: 0.1 | AP20: 毛布 | AR20: 6 | AS20: 枚 | AT20: 1500 | AU20: =AR20*AT20 -> 9000 | AV20: 0.1 | AX20: 毛布 | AZ20: 1 | BA20: 枚 | BB20: 1500 | BC20: =AZ20*BB20 -> 1500 | BD20: 0.1 | BF20: 毛布 | BH20: 1 | BI20: 枚 | BJ20: 1500 | BK20: =BH20*BJ20 -> 1500 | BL20: 0.1
B21: タオルケット | D21: 2 | E21: 枚 | F21: 1500 | G21: =D21*F21 -> 3000 | H21: 0.1 | J21: タオルケット | L21: 2 | M21: 枚 | N21: 1500 | O21: =L21*N21 -> 3000 | P21: 0.1 | R21: タオルケット | T21: 2 | U21: 枚 | V21: 1500 | W21: =T21*V21 -> 3000 | X21: 0.1 | Z21: タオルケット | AB21: 2 | AC21: 枚 | AD21: 1500 | AE21: =AB21*AD21 -> 3000 | AF21: 0.1 | AH21: タオルケット | AJ21: 2 | AK21: 枚 | AL21: 1500 | AM21: =AJ21*AL21 -> 3000 | AN21: 0.1 | AP21: タオルケット | AR21: 2 | AS21: 枚 | AT21: 1500 | AU21: =AR21*AT21 -> 3000 | AV21: 0.1 | AX21: タオルケット | AZ21: 2 | BA21: 枚 | BB21: 1500 | BC21: =AZ21*BB21 -> 3000 | BD21: 0.1 | BF21: タオルケット | BH21: 2 | BI21: 枚 | BJ21: 1500 | BK21: =BH21*BJ21 -> 3000 | BL21: 0.1
B22: 大判バスタオル | D22: 2 | E22: 枚 | F22: 800 | G22: =D22*F22 -> 1600 | H22: 0.1 | J22: 大判バスタオル | L22: 2 | M22: 枚 | N22: 800 | O22: =L22*N22 -> 1600 | P22: 0.1 | R22: 大判バスタオル | T22: 2 | U22: 枚 | V22: 800 | W22: =T22*V22 -> 1600 | X22: 0.1 | Z22: 大判バスタオル | AB22: 2 | AC22: 枚 | AD22: 800 | AE22: =AB22*AD22 -> 1600 | AF22: 0.1 | AH22: 大判バスタオル | AJ22: 2 | AK22: 枚 | AL22: 800 | AM22: =AJ22*AL22 -> 1600 | AN22: 0.1 | AP22: 大判バスタオル | AR22: 2 | AS22: 枚 | AT22: 800 | AU22: =AR22*AT22 -> 1600 | AV22: 0.1 | AX22: 大判バスタオル | AZ22: 2 | BA22: 枚 | BB22: 800 | BC22: =AZ22*BB22 -> 1600 | BD22: 0.1 | BF22: 大判バスタオル | BH22: 2 | BI22: 枚 | BJ22: 800 | BK22: =BH22*BJ22 -> 1600 | BL22: 0.1
B23: バスタオル | D23: 2 | E23: 枚 | F23: 800 | G23: =D23*F23 -> 1600 | H23: 0.1 | J23: バスタオル | L23: 2 | M23: 枚 | N23: 800 | O23: =L23*N23 -> 1600 | P23: 0.1 | R23: バスタオル | T23: 2 | U23: 枚 | V23: 800 | W23: =T23*V23 -> 1600 | X23: 0.1 | Z23: バスタオル | AB23: 2 | AC23: 枚 | AD23: 800 | AE23: =AB23*AD23 -> 1600 | AF23: 0.1 | AH23: バスタオル | AJ23: 2 | AK23: 枚 | AL23: 800 | AM23: =AJ23*AL23 -> 1600 | AN23: 0.1 | AP23: バスタオル | AR23: 2 | AS23: 枚 | AT23: 800 | AU23: =AR23*AT23 -> 1600 | AV23: 0.1 | AX23: バスタオル | AZ23: 2 | BA23: 枚 | BB23: 800 | BC23: =AZ23*BB23 -> 1600 | BD23: 0.1 | BF23: バスタオル | BH23: 2 | BI23: 枚 | BJ23: 800 | BK23: =BH23*BJ23 -> 1600 | BL23: 0.1
B24: フェイスタオル | D24: 4 | E24: 枚 | F24: 180 | G24: =D24*F24 -> 720 | H24: 0.1 | J24: フェイスタオル | L24: 4 | M24: 枚 | N24: 180 | O24: =L24*N24 -> 720 | P24: 0.1 | R24: フェイスタオル | T24: 4 | U24: 枚 | V24: 180 | W24: =T24*V24 -> 720 | X24: 0.1 | Z24: フェイスタオル | AB24: 4 | AC24: 枚 | AD24: 180 | AE24: =AB24*AD24 -> 720 | AF24: 0.1 | AH24: フェイスタオル | AJ24: 4 | AK24: 枚 | AL24: 180 | AM24: =AJ24*AL24 -> 720 | AN24: 0.1 | AP24: フェイスタオル | AR24: 4 | AS24: 枚 | AT24: 180 | AU24: =AR24*AT24 -> 720 | AV24: 0.1 | AX24: フェイスタオル | AZ24: 4 | BA24: 枚 | BB24: 180 | BC24: =AZ24*BB24 -> 720 | BD24: 0.1 | BF24: フェイスタオル | BH24: 4 | BI24: 枚 | BJ24: 180 | BK24: =BH24*BJ24 -> 720 | BL24: 0.1
B25: ティッシュ | D25: 1 | E25: 箱 | F25: 120 | G25: =D25*F25 -> 120 | H25: 0.1 | J25: ティッシュ | L25: 1 | M25: 箱 | N25: 120 | O25: =L25*N25 -> 120 | P25: 0.1 | R25: ティッシュ | T25: 1 | U25: 箱 | V25: 120 | W25: =T25*V25 -> 120 | X25: 0.1 | Z25: ティッシュ | AB25: 1 | AC25: 箱 | AD25: 120 | AE25: =AB25*AD25 -> 120 | AF25: 0.1 | AH25: ティッシュ | AJ25: 1 | AK25: 箱 | AL25: 120 | AM25: =AJ25*AL25 -> 120 | AN25: 0.1 | AP25: ティッシュ | AR25: 1 | AS25: 箱 | AT25: 120 | AU25: =AR25*AT25 -> 120 | AV25: 0.1 | AX25: ティッシュ | AZ25: 1 | BA25: 箱 | BB25: 120 | BC25: =AZ25*BB25 -> 120 | BD25: 0.1 | BF25: ティッシュ | BH25: 1 | BI25: 箱 | BJ25: 120 | BK25: =BH25*BJ25 -> 120 | BL25: 0.1
B26: ペーパータオル | D26: 1 | E26: 箱 | F26: 120 | G26: =D26*F26 -> 120 | H26: 0.1 | J26: ペーパータオル | L26: 1 | M26: 箱 | N26: 120 | O26: =L26*N26 -> 120 | P26: 0.1 | R26: ペーパータオル | T26: 1 | U26: 箱 | V26: 120 | W26: =T26*V26 -> 120 | X26: 0.1 | Z26: ペーパータオル | AB26: 1 | AC26: 箱 | AD26: 120 | AE26: =AB26*AD26 -> 120 | AF26: 0.1 | AH26: ペーパータオル | AJ26: 1 | AK26: 箱 | AL26: 120 | AM26: =AJ26*AL26 -> 120 | AN26: 0.1 | AP26: ペーパータオル | AR26: 1 | AS26: 箱 | AT26: 120 | AU26: =AR26*AT26 -> 120 | AV26: 0.1 | AX26: ペーパータオル | AZ26: 1 | BA26: 箱 | BB26: 120 | BC26: =AZ26*BB26 -> 120 | BD26: 0.1 | BF26: ペーパータオル | BH26: 1 | BI26: 箱 | BJ26: 120 | BK26: =BH26*BJ26 -> 120 | BL26: 0.1
B27: 除菌ペーパー | D27: 1 | E27: 箱 | F27: 160 | G27: =D27*F27 -> 160 | H27: 0.1 | J27: 除菌ペーパー | L27: 1 | M27: 箱 | N27: 160 | O27: =L27*N27 -> 160 | P27: 0.1 | R27: 除菌ペーパー | T27: 1 | U27: 箱 | V27: 160 | W27: =T27*V27 -> 160 | X27: 0.1 | Z27: 除菌ペーパー | AB27: 1 | AC27: 箱 | AD27: 160 | AE27: =AB27*AD27 -> 160 | AF27: 0.1 | AH27: 除菌ペーパー | AJ27: 1 | AK27: 箱 | AL27: 160 | AM27: =AJ27*AL27 -> 160 | AN27: 0.1 | AP27: 除菌ペーパー | AR27: 1 | AS27: 箱 | AT27: 160 | AU27: =AR27*AT27 -> 160 | AV27: 0.1 | AX27: 除菌ペーパー | AZ27: 1 | BA27: 箱 | BB27: 160 | BC27: =AZ27*BB27 -> 160 | BD27: 0.1 | BF27: 除菌ペーパー | BH27: 1 | BI27: 箱 | BJ27: 160 | BK27: =BH27*BJ27 -> 160 | BL27: 0.1
B28: 介護用ビニール手袋（10双） | D28: 1 | E28: 袋 | F28: 125 | G28: =D28*F28 -> 125 | H28: 0.1 | J28: 介護用ビニール手袋（10双） | L28: 1 | M28: 袋 | N28: 125 | O28: =L28*N28 -> 125 | P28: 0.1 | R28: 介護用ビニール手袋（10双） | T28: 1 | U28: 袋 | V28: 125 | W28: =T28*V28 -> 125 | X28: 0.1 | Z28: 介護用ビニール手袋（10双） | AB28: 1 | AC28: 袋 | AD28: 125 | AE28: =AB28*AD28 -> 125 | AF28: 0.1 | AH28: 介護用ビニール手袋（10双） | AJ28: 1 | AK28: 袋 | AL28: 125 | AM28: =AJ28*AL28 -> 125 | AN28: 0.1 | AP28: 介護用ビニール手袋（10双） | AR28: 1 | AS28: 袋 | AT28: 125 | AU28: =AR28*AT28 -> 125 | AV28: 0.1 | AX28: 介護用ビニール手袋（10双） | AZ28: 1 | BA28: 袋 | BB28: 125 | BC28: =AZ28*BB28 -> 125 | BD28: 0.1 | BF28: 介護用ビニール手袋（10双） | BH28: 1 | BI28: 袋 | BJ28: 125 | BK28: =BH28*BJ28 -> 125 | BL28: 0.1
B29: 紙コップ（50個） | D29: 1 | E29: 袋 | F29: 125 | G29: =D29*F29 -> 125 | H29: 0.1 | J29: 紙コップ（50個） | L29: 1 | M29: 袋 | N29: 125 | O29: =L29*N29 -> 125 | P29: 0.1 | R29: 紙コップ（50個） | T29: 1 | U29: 袋 | V29: 125 | W29: =T29*V29 -> 125 | X29: 0.1 | Z29: 紙コップ（50個） | AB29: 1 | AC29: 袋 | AD29: 125 | AE29: =AB29*AD29 -> 125 | AF29: 0.1 | AH29: 紙コップ（50個） | AJ29: 1 | AK29: 袋 | AL29: 125 | AM29: =AJ29*AL29 -> 125 | AN29: 0.1 | AP29: 紙コップ（50個） | AR29: 1 | AS29: 袋 | AT29: 125 | AU29: =AR29*AT29 -> 125 | AV29: 0.1 | AX29: 紙コップ（50個） | AZ29: 1 | BA29: 袋 | BB29: 125 | BC29: =AZ29*BB29 -> 125 | BD29: 0.1 | BF29: 紙コップ（50個） | BH29: 1 | BI29: 袋 | BJ29: 125 | BK29: =BH29*BJ29 -> 125 | BL29: 0.1
B30: 生理用品 | D30: 5 | E30: 個 | F30: 18 | G30: =D30*F30 -> 90 | H30: 0.1 | J30: 生理用品 | L30: 5 | M30: 個 | N30: 18 | O30: =L30*N30 -> 90 | P30: 0.1 | R30: 生理用品 | T30: 5 | U30: 個 | V30: 18 | W30: =T30*V30 -> 90 | X30: 0.1 | Z30: 生理用品 | AB30: 5 | AC30: 個 | AD30: 18 | AE30: =AB30*AD30 -> 90 | AF30: 0.1 | AH30: 生理用品 | AJ30: 5 | AK30: 個 | AL30: 18 | AM30: =AJ30*AL30 -> 90 | AN30: 0.1 | AP30: 生理用品 | AR30: 5 | AS30: 個 | AT30: 18 | AU30: =AR30*AT30 -> 90 | AV30: 0.1 | AX30: 生理用品 | AZ30: 5 | BA30: 個 | BB30: 18 | BC30: =AZ30*BB30 -> 90 | BD30: 0.1 | BF30: 生理用品 | BH30: 5 | BI30: 個 | BJ30: 18 | BK30: =BH30*BJ30 -> 90 | BL30: 0.1
B31: Tシャツ | D31: 2 | E31: 枚 | F31: 650 | G31: =D31*F31 -> 1300 | H31: 0.1 | J31: Tシャツ | L31: 2 | M31: 枚 | N31: 650 | O31: =L31*N31 -> 1300 | P31: 0.1 | R31: Tシャツ | T31: 2 | U31: 枚 | V31: 650 | W31: =T31*V31 -> 1300 | X31: 0.1 | Z31: Tシャツ | AB31: 2 | AC31: 枚 | AD31: 650 | AE31: =AB31*AD31 -> 1300 | AF31: 0.1 | AH31: Tシャツ | AJ31: 2 | AK31: 枚 | AL31: 650 | AM31: =AJ31*AL31 -> 1300 | AN31: 0.1 | AP31: Tシャツ | AR31: 2 | AS31: 枚 | AT31: 650 | AU31: =AR31*AT31 -> 1300 | AV31: 0.1 | AX31: Tシャツ | AZ31: 2 | BA31: 枚 | BB31: 650 | BC31: =AZ31*BB31 -> 1300 | BD31: 0.1 | BF31: Tシャツ | BH31: 2 | BI31: 枚 | BJ31: 650 | BK31: =BH31*BJ31 -> 1300 | BL31: 0.1
A32: ①大津港ターミナル-1 | I32: ②大津市民会館-1 | Q32: ③勤労福祉センター-1 | Y32: ④ふれあいスポーツセンター-1 | AG32: ⑤逢坂市民センター-1 | AO32: ⑥平野市民センター-1 | AW32: ⑦びわこボート-1 | BE32: ⑧草津本部-1
A34: １ 大津港ターミナル② | I34: 2 大津市民会館② | Q34: 3 勤労福祉センター② | Y34: 4 ふれあいスポーツセンター② | AG34: ５ 逢坂市民センター② | AO34: ６ 平野市民センター② | AW34: 7 びわこボート② | BE34: 8 草津本部②
A35: 商 品 名 | C35: 仕 様 | D35: 数量 | F35: 単価 | G35: 合計 | H35: 税 | I35: 商 品 名 | K35: 仕 様 | L35: 数量 | N35: 単価 | O35: 合計 | P35: 税 | Q35: 商 品 名 | S35: 仕 様 | T35: 数量 | V35: 単価 | W35: 合計 | X35: 税 | Y35: 商 品 名 | AA35: 仕 様 | AB35: 数量 | AD35: 単価 | AE35: 合計 | AF35: 税 | AG35: 商 品 名 | AI35: 仕 様 | AJ35: 数量 | AL35: 単価 | AM35: 合計 | AN35: 税 | AO35: 商 品 名 | AQ35: 仕 様 | AR35: 数量 | AT35: 単価 | AU35: 合計 | AV35: 税 | AW35: 商 品 名 | AY35: 仕 様 | AZ35: 数量 | BB35: 単価 | BC35: 合計 | BD35: 税 | BE35: 商 品 名 | BG35: 仕 様 | BH35: 数量 | BJ35: 単価 | BK35: 合計 | BL35: 税
B36: 軍手 | D36: 1 | E36: 双 | F36: 125 | G36: =D36*F36 -> 125 | H36: 0.1 | J36: 軍手 | L36: 1 | M36: 双 | N36: 125 | O36: =L36*N36 -> 125 | P36: 0.1 | R36: 軍手 | T36: 1 | U36: 双 | V36: 125 | W36: =T36*V36 -> 125 | X36: 0.1 | Z36: 軍手 | AB36: 1 | AC36: 双 | AD36: 125 | AE36: =AB36*AD36 -> 125 | AF36: 0.1 | AH36: 軍手 | AJ36: 1 | AK36: 双 | AL36: 125 | AM36: =AJ36*AL36 -> 125 | AN36: 0.1 | AP36: 軍手 | AR36: 1 | AS36: 双 | AT36: 125 | AU36: =AR36*AT36 -> 125 | AV36: 0.1 | AX36: 軍手 | AZ36: 1 | BA36: 双 | BB36: 125 | BC36: =AZ36*BB36 -> 125 | BD36: 0.1 | BF36: 軍手 | BH36: 1 | BI36: 双 | BJ36: 125 | BK36: =BH36*BJ36 -> 125 | BL36: 0.1
B37: ラップ | D37: 1 | E37: 本 | F37: 125 | G37: =D37*F37 -> 125 | H37: 0.1 | J37: ラップ | L37: 1 | M37: 本 | N37: 125 | O37: =L37*N37 -> 125 | P37: 0.1 | R37: ラップ | T37: 1 | U37: 本 | V37: 125 | W37: =T37*V37 -> 125 | X37: 0.1 | Z37: ラップ | AB37: 1 | AC37: 本 | AD37: 125 | AE37: =AB37*AD37 -> 125 | AF37: 0.1 | AH37: ラップ | AJ37: 1 | AK37: 本 | AL37: 125 | AM37: =AJ37*AL37 -> 125 | AN37: 0.1 | AP37: ラップ | AR37: 1 | AS37: 本 | AT37: 125 | AU37: =AR37*AT37 -> 125 | AV37: 0.1 | AX37: ラップ | AZ37: 1 | BA37: 本 | BB37: 125 | BC37: =AZ37*BB37 -> 125 | BD37: 0.1 | BF37: ラップ | BH37: 1 | BI37: 本 | BJ37: 125 | BK37: =BH37*BJ37 -> 125 | BL37: 0.1
B38: 吐瀉用ビニール袋（20枚） | D38: 1 | E38: 袋 | F38: 125 | G38: =D38*F38 -> 125 | H38: 0.1 | J38: 吐瀉用ビニール袋（20枚） | L38: 1 | M38: 袋 | N38: 125 | O38: =L38*N38 -> 125 | P38: 0.1 | R38: 吐瀉用ビニール袋（20枚） | T38: 1 | U38: 袋 | V38: 125 | W38: =T38*V38 -> 125 | X38: 0.1 | Z38: 吐瀉用ビニール袋（20枚） | AB38: 1 | AC38: 袋 | AD38: 125 | AE38: =AB38*AD38 -> 125 | AF38: 0.1 | AH38: 吐瀉用ビニール袋（20枚） | AJ38: 1 | AK38: 袋 | AL38: 125 | AM38: =AJ38*AL38 -> 125 | AN38: 0.1 | AP38: 吐瀉用ビニール袋（20枚） | AR38: 1 | AS38: 袋 | AT38: 125 | AU38: =AR38*AT38 -> 125 | AV38: 0.1 | AX38: 吐瀉用ビニール袋（20枚） | AZ38: 1 | BA38: 袋 | BB38: 125 | BC38: =AZ38*BB38 -> 125 | BD38: 0.1 | BF38: 吐瀉用ビニール袋（20枚） | BH38: 1 | BI38: 袋 | BJ38: 125 | BK38: =BH38*BJ38 -> 125 | BL38: 0.1
B39: ストロー（20本） | D39: 1 | E39: 袋 | F39: 125 | G39: =D39*F39 -> 125 | H39: 0.1 | J39: ストロー（20本） | L39: 1 | M39: 袋 | N39: 125 | O39: =L39*N39 -> 125 | P39: 0.1 | R39: ストロー（20本） | T39: 1 | U39: 袋 | V39: 125 | W39: =T39*V39 -> 125 | X39: 0.1 | Z39: ストロー（20本） | AB39: 1 | AC39: 袋 | AD39: 125 | AE39: =AB39*AD39 -> 125 | AF39: 0.1 | AH39: ストロー（20本） | AJ39: 1 | AK39: 袋 | AL39: 125 | AM39: =AJ39*AL39 -> 125 | AN39: 0.1 | AP39: ストロー（20本） | AR39: 1 | AS39: 袋 | AT39: 125 | AU39: =AR39*AT39 -> 125 | AV39: 0.1 | AX39: ストロー（20本） | AZ39: 1 | BA39: 袋 | BB39: 125 | BC39: =AZ39*BB39 -> 125 | BD39: 0.1 | BF39: ストロー（20本） | BH39: 1 | BI39: 袋 | BJ39: 125 | BK39: =BH39*BJ39 -> 125 | BL39: 0.1
A40: 救急箱 | B40: 三角巾 | D40: 1 | E40: 枚 | F40: 380 | G40: =D40*F40 -> 380 | H40: 0.1 | I40: 救急箱 | J40: 三角巾 | L40: 1 | M40: 枚 | N40: 380 | O40: =L40*N40 -> 380 | P40: 0.1 | Q40: 救急箱 | R40: 三角巾 | T40: 1 | U40: 枚 | V40: 380 | W40: =T40*V40 -> 380 | X40: 0.1 | Y40: 救急箱 | Z40: 三角巾 | AB40: 1 | AC40: 枚 | AD40: 380 | AE40: =AB40*AD40 -> 380 | AF40: 0.1 | AG40: 救急箱 | AH40: 三角巾 | AJ40: 1 | AK40: 枚 | AL40: 380 | AM40: =AJ40*AL40 -> 380 | AN40: 0.1 | AO40: 救急箱 | AP40: 三角巾 | AR40: 1 | AS40: 枚 | AT40: 380 | AU40: =AR40*AT40 -> 380 | AV40: 0.1 | AW40: 救急箱 | AX40: 三角巾 | AZ40: 1 | BA40: 枚 | BB40: 380 | BC40: =AZ40*BB40 -> 380 | BD40: 0.1 | BE40: 救急箱 | BF40: 三角巾 | BH40: 1 | BI40: 枚 | BJ40: 380 | BK40: =BH40*BJ40 -> 380 | BL40: 0.1
B41: マスク（20枚） | D41: 1 | E41: 袋 | F41: 200 | G41: =D41*F41 -> 200 | H41: 0.1 | J41: マスク（20枚） | L41: 1 | M41: 袋 | N41: 200 | O41: =L41*N41 -> 200 | P41: 0.1 | R41: マスク（20枚） | T41: 1 | U41: 袋 | V41: 200 | W41: =T41*V41 -> 200 | X41: 0.1 | Z41: マスク（20枚） | AB41: 1 | AC41: 袋 | AD41: 200 | AE41: =AB41*AD41 -> 200 | AF41: 0.1 | AH41: マスク（20枚） | AJ41: 1 | AK41: 袋 | AL41: 200 | AM41: =AJ41*AL41 -> 200 | AN41: 0.1 | AP41: マスク（20枚） | AR41: 1 | AS41: 袋 | AT41: 200 | AU41: =AR41*AT41 -> 200 | AV41: 0.1 | AX41: マスク（20枚） | AZ41: 1 | BA41: 袋 | BB41: 200 | BC41: =AZ41*BB41 -> 200 | BD41: 0.1 | BF41: マスク（20枚） | BH41: 1 | BI41: 袋 | BJ41: 200 | BK41: =BH41*BJ41 -> 200 | BL41: 0.1
...

Sheet 救護所請求書表紙
A1: 御 請 求 書
A3: びわ湖大花火大会実行委員会御中 | H3: 46265
A5: ご用命賜り、ありがとうございました。
A6: 下記の件についまして、ご請求させていただきますので
A7: ご査収の程、よろしくお願いします。 | W7: ご用命賜り、ありがとうございました。
G8: 675-2313 | W8: 下記の件についまして、ご請求させていただきますので
B9: 御請求金額 | G9: 兵庫県加西市北条町北条1122 | W9: ご査収の程、よろしくお願いします。
G10: 株式会社ＣＳＩＬｅａｄ
B11: =G34 -> 1836047.9 | G11: TEL0790-20-7223FAX0790-20-7224
G12: 登録番号：T9140001126012
C16: 請求内訳
C17: =修正中救護!A2 -> １ 大津港ターミナル① | G17: =修正中救護!G66 -> 122440 | I17: 38455
C18: =修正中救護!I2 -> 2 大津市民会館① | G18: =修正中救護!O66 -> 143540 | I18: 146239
C19: =修正中救護!Q2 -> ３ 勤労福祉センター① | G19: =修正中救護!W66 -> 151540 | I19: 126639 | W19: =#REF! -> #REF! | AA19: =#REF! -> #REF!
C20: =修正中救護!Y2 -> ４ ふれあいスポーツセンター① | G20: =修正中救護!AE66 -> 138040 | I20: 146239 | W20: =#REF! -> #REF! | AA20: =#REF! -> #REF!
C21: =修正中救護!AG2 -> ５ 逢坂市民センター① | G21: =修正中救護!AM66 -> 153920 | I21: 146239
C22: =修正中救護!AO2 -> ６ 平野市民センター① | G22: =修正中救護!AU66 -> 157920 | I22: 146239
C23: =修正中救護!AW2 -> 7 びわこボート① | G23: =修正中救護!BC66 -> 33705 | I23: 38889
C24: =修正中救護!BE2 -> 8 草津本部① | G24: =修正中救護!BK66 -> 120490 | I24: 124689
C25: 9，本部付け | G25: =修正中救護!BS7 -> 99800 | I25: 99800
C26: 予備AED（18,000×3個） | G26: =修正中救護!BS9 -> 54000 | I26: 54000
C27: 輸送用パワーゲート４ｔ | G27: =修正中救護!BS10 -> 112000 | I27: 112000
C28: =修正中救護!BN11 -> 設営・撤去テント等（輸送費含む） | G28: =修正中救護!BS11 -> 80000
C29: =修正中救護!BN12 -> 冷凍車・配送（前日）・回収（当日） | G29: =修正中救護!BS12 -> 150000
F30: 小計① | G30: =SUM(G17:G29) -> 1517395 | I30: =SUM(I17:I29) -> 1179428
F31: 諸経費10％ | G31: =G30*0.1 -> 151739.5
F32: 小計② | G32: =G30+G31 -> 1669134.5
F33: 消費税 | G33: =G32*0.1 -> 166913.45
F34: 御請求金額合計 | G34: =SUM(G32:G33) -> 1836047.9

Sheet エイド前川
A2: エイドステーション設置及び備品（使用日8月6日）
A3: １ 業務用地① | I3: ３ びわ湖ホール① | Q3: ４ NTTDocomo① | Y3: ５ 琵琶湖ホテル前① | AG3: ６ マリーナ（おまつり広場）① | AO3: 7 本部付け
A4: 商 品 名 | C4: 仕 様 | D4: 数量 | F4: 単価 | G4: 合計 | H4: 税 | I4: 商 品 名 | K4: 仕 様 | L4: 数量 | N4: 単価 | O4: 合計 | P4: 税 | Q4: 商 品 名 | S4: 仕 様 | T4: 数量 | V4: 単価 | W4: 合計 | X4: 税 | Y4: 商 品 名 | AA4: 仕 様 | AB4: 数量 | AD4: 単価 | AE4: 合計 | AF4: 税 | AG4: 商 品 名 | AI4: 仕 様 | AJ4: 数量 | AL4: 単価 | AM4: 合計 | AN4: 税
B5: 救急救命士 | C5: 14:00～23:00 | D5: 9 | E5: 時間 | F5: 5200 | G5: =D5*F5 -> 46800 | H5: 0.1 | J5: 救急救命士 | K5: 17：00～22：00 | L5: 5 | M5: 時間 | N5: 5200 | O5: =L5*N5 -> 26000 | P5: 0.1 | R5: 救急救命士 | S5: 17：00～22：00 | T5: 5 | U5: 時間 | V5: 5200 | W5: =T5*V5 -> 26000 | X5: 0.1 | Z5: 救急救命士 | AA5: 17：00～22：00 | AB5: 5 | AC5: 時間 | AD5: 5200 | AE5: =AB5*AD5 -> 26000 | AF5: 0.1 | AH5: 救急救命士 | AI5: 17：00～22：00 | AJ5: 5 | AK5: 時間 | AL5: 5200 | AM5: =AJ5*AL5 -> 26000 | AN5: 0.1 | AO5: 商 品 名 | AQ5: 仕 様 | AR5: 数量 | AT5: 単価 | AU5: 合計 | AV5: 税
B6: ＡＥＤ | D6: 1 | E6: 個 | F6: 18000 | G6: =D6*F6 -> 18000 | H6: 0.1 | J6: ＡＥＤ | L6: 1 | M6: 個 | N6: 18000 | O6: =L6*N6 -> 18000 | P6: 0.1 | R6: ＡＥＤ | T6: 1 | U6: 個 | V6: 18000 | W6: =T6*V6 -> 18000 | X6: 0.1 | Z6: ＡＥＤ | AB6: 1 | AC6: 個 | AD6: 18000 | AE6: =AB6*AD6 -> 18000 | AF6: 0.1 | AH6: ＡＥＤ | AJ6: 1 | AK6: 個 | AL6: 18000 | AM6: =AJ6*AL6 -> 18000 | AN6: 0.1 | AP6: 救命救急士（応援・交代要員） | AR6: 9 | AS6: 時間 | AT6: 5200 | AU6: =AR6*AT6 -> 46800 | AV6: 0.1
B7: ナースバッグ | D7: 1 | E7: 個 | F7: 2000 | G7: =D7*F7 -> 2000 | H7: 0.1 | J7: ナースバッグ | L7: 1 | M7: 個 | N7: 2000 | O7: =L7*N7 -> 2000 | P7: 0.1 | R7: ナースバッグ | T7: 1 | U7: 個 | V7: 2000 | W7: =T7*V7 -> 2000 | X7: 0.1 | Z7: ナースバッグ | AB7: 1 | AC7: 個 | AD7: 2000 | AE7: =AB7*AD7 -> 2000 | AF7: 0.1 | AH7: ナースバッグ | AJ7: 1 | AK7: 個 | AL7: 2000 | AM7: =AJ7*AL7 -> 2000 | AN7: 0.1 | AP7: 民間救急車（本部前） | AR7: 1 | AS7: 台 | AT7: 32000 | AU7: =AR7*AT7 -> 32000 | AV7: 0.1
B8: 血圧計 | D8: 1 | E8: 個 | F8: 2500 | G8: =D8*F8 -> 2500 | H8: 0.1 | J8: 血圧計 | L8: 1 | M8: 個 | N8: 2500 | O8: =L8*N8 -> 2500 | P8: 0.1 | R8: 血圧計 | T8: 1 | U8: 個 | V8: 2500 | W8: =T8*V8 -> 2500 | X8: 0.1 | Z8: 血圧計 | AB8: 1 | AC8: 個 | AD8: 2500 | AE8: =AB8*AD8 -> 2500 | AF8: 0.1 | AH8: 血圧計 | AJ8: 1 | AK8: 個 | AL8: 2500 | AM8: =AJ8*AL8 -> 2500 | AN8: 0.1 | AP8: 交通費 | AR8: 一式 | AT8: 21000 | AU8: 21000 | AV8: 0.1
B9: 担架 | D9: 1 | E9: 個 | F9: 5200 | G9: =D9*F9 -> 5200 | H9: 0.1 | J9: 担架 | L9: 1 | M9: 個 | N9: 5200 | O9: =L9*N9 -> 5200 | P9: 0.1 | R9: 担架 | T9: 1 | U9: 個 | V9: 5200 | W9: =T9*V9 -> 5200 | X9: 0.1 | Z9: 担架 | AB9: 1 | AC9: 個 | AD9: 5200 | AE9: =AB9*AD9 -> 5200 | AF9: 0.1 | AH9: 担架 | AJ9: 1 | AK9: 個 | AL9: 5200 | AM9: =AJ9*AL9 -> 5200 | AN9: 0.1 | AT9: 本部付け小計 | AU9: =SUM(AU6:AU8) -> 99800
B10: 折りたたみベッド | D10: 1 | E10: 個 | F10: 3000 | G10: =D10*F10 -> 3000 | H10: 0.1 | J10: 折りたたみベッド | L10: 1 | M10: 個 | N10: 3000 | O10: =L10*N10 -> 3000 | P10: 0.1 | R10: 折りたたみベッド | T10: 1 | U10: 個 | V10: 3000 | W10: =T10*V10 -> 3000 | X10: 0.1 | Z10: 折りたたみベッド | AB10: 1 | AC10: 個 | AD10: 3000 | AE10: =AB10*AD10 -> 3000 | AF10: 0.1 | AH10: 折りたたみベッド | AJ10: 1 | AK10: 個 | AL10: 3000 | AM10: =AJ10*AL10 -> 3000 | AN10: 0.1
B11: クーラーボックス | D11: 2 | E11: 個 | F11: 4000 | G11: =D11*F11 -> 8000 | H11: 0.1 | J11: クーラーボックス | L11: 2 | M11: 個 | N11: 4000 | O11: =L11*N11 -> 8000 | P11: 0.1 | R11: クーラーボックス | T11: 2 | U11: 個 | V11: 4000 | W11: =T11*V11 -> 8000 | X11: 0.1 | Z11: クーラーボックス | AB11: 2 | AC11: 個 | AD11: 4000 | AE11: =AB11*AD11 -> 8000 | AF11: 0.1 | AH11: クーラーボックス | AJ11: 2 | AK11: 個 | AL11: 4000 | AM11: =AJ11*AL11 -> 8000 | AN11: 0.1
B12: 車椅子 | D12: 2 | E12: 個 | F12: 4000 | G12: =D12*F12 -> 8000 | H12: 0.1 | J12: 車椅子 | L12: 2 | M12: 個 | N12: 4000 | O12: =L12*N12 -> 8000 | P12: 0.1 | R12: 車椅子 | T12: 2 | U12: 個 | V12: 4000 | W12: =T12*V12 -> 8000 | X12: 0.1 | Z12: 車椅子 | AB12: 2 | AC12: 個 | AD12: 4000 | AE12: =AB12*AD12 -> 8000 | AF12: 0.1 | AH12: 車椅子 | AJ12: 2 | AK12: 個 | AL12: 4000 | AM12: =AJ12*AL12 -> 8000 | AN12: 0.1
B13: 水（ペットボトル） | C13: 550ml | D13: 24 | E13: 本 | F13: 80 | G13: =D13*F13 -> 1920 | H13: 0.1 | J13: 水（ペットボトル） | K13: 550ml | L13: 24 | M13: 本 | N13: 80 | O13: =L13*N13 -> 1920 | P13: 0.1 | R13: 水（ペットボトル） | S13: 550ml | T13: 24 | U13: 本 | V13: 80 | W13: =T13*V13 -> 1920 | X13: 0.1 | Z13: 水（ペットボトル） | AA13: 550ml | AB13: 24 | AC13: 本 | AD13: 80 | AE13: =AB13*AD13 -> 1920 | AF13: 0.1 | AH13: 水（ペットボトル） | AI13: 550ml | AJ13: 24 | AK13: 本 | AL13: 80 | AM13: =AJ13*AL13 -> 1920 | AN13: 0.1 | AT13: 備品計 | AU13: =AU9+AM68+AE68+W68+O68+G68 -> 394870
B14: 経口補水液（ペットボトル） | C14: OS-1 50０ｍｌ | D14: 10 | E14: 本 | F14: 205 | G14: =D14*F14 -> 2050 | H14: 0.1 | J14: 経口補水液（ペットボトル） | K14: OS-1 50０ｍｌ | L14: 10 | M14: 本 | N14: 205 | O14: =L14*N14 -> 2050 | P14: 0.1 | R14: 経口補水液（ペットボトル） | S14: OS-1 50０ｍｌ | T14: 10 | U14: 本 | V14: 205 | W14: =T14*V14 -> 2050 | X14: 0.1 | Z14: 経口補水液（ペットボトル） | AA14: OS-1 50０ｍｌ | AB14: 10 | AC14: 本 | AD14: 205 | AE14: =AB14*AD14 -> 2050 | AF14: 0.1 | AH14: 経口補水液（ペットボトル） | AI14: OS-1 50０ｍｌ | AJ14: 10 | AK14: 本 | AL14: 205 | AM14: =AJ14*AL14 -> 2050 | AN14: 0.1 | AT14: 諸経費10％ | AU14: =AU13*0.1 -> 39487
B15: 経口補水ゼリー | C15: OS-1 200ｇ | D15: 10 | E15: 本 | F15: 185 | G15: =D15*F15 -> 1850 | H15: 0.1 | J15: 経口補水ゼリー | K15: OS-1 200ｇ | L15: 10 | M15: 本 | N15: 185 | O15: =L15*N15 -> 1850 | P15: 0.1 | R15: 経口補水ゼリー | S15: OS-1 200ｇ | T15: 10 | U15: 本 | V15: 185 | W15: =T15*V15 -> 1850 | X15: 0.1 | Z15: 経口補水ゼリー | AA15: OS-1 200ｇ | AB15: 10 | AC15: 本 | AD15: 185 | AE15: =AB15*AD15 -> 1850 | AF15: 0.1 | AH15: 経口補水ゼリー | AI15: OS-1 200ｇ | AJ15: 10 | AK15: 本 | AL15: 185 | AM15: =AJ15*AL15 -> 1850 | AN15: 0.1 | AO15: 小計 | AU15: =SUM(AU13:AU14) -> 434357
