Workbook

Sheet 神農会弁当 (2)
A1: 店舗名 | B1: 氏名 | C1: 18日(昼) | E1: 受取㊞ | F1: 18日(夜) | H1: 受取㊞ | I1: 19日(昼) | K1: 受取㊞ | L1: 19日(夜) | N1: 受取㊞ | O1: 店舗名 | P1: 氏名 | Q1: 18日(昼) | S1: 受取㊞ | T1: 18日(夜) | V1: 受取㊞ | W1: 19日(昼) | Y1: 受取㊞ | Z1: 19日(夜) | AB1: 受取㊞
A2: 石井商店 | B2: 石井偵介 | C2: 1 | D2: 個 | F2: 1 | G2: 個 | I2: 1 | J2: 個 | L2: 1 | M2: 個 | O2: 田中電機 | P2: 田中電機 | Q2: 4 | R2: 個 | T2: 4 | U2: 個 | W2: 4 | X2: 個 | Z2: 4 | AA2: 個
A3: 芳川商店 | B3: 芳川伸啓 | C3: 1 | D3: 個 | G3: 個 | I3: 1 | J3: 個 | M3: 個 | P3: 杉本卓司 | Q3: 5 | R3: 個 | T3: 5 | U3: 個 | W3: 5 | X3: 個 | Z3: 5 | AA3: 個
A4: 金城商店 | B4: 金城亮吉 | C4: 2 | D4: 個 | F4: 2 | G4: 個 | I4: 2 | J4: 個 | L4: 2 | M4: 個 | P4: 福田商事 | Q4: 11 | R4: 個 | T4: 11 | U4: 個 | W4: 11 | X4: 個 | Z4: 11 | AA4: 個
A5: 原商店 | B5: 原 義和 | C5: 2 | D5: 個 | G5: 個 | I5: 2 | J5: 個 | M5: 個 | O5: 大清商店 | Q5: 2 | R5: 個 | T5: 2 | U5: 個 | W5: 2 | X5: 個 | Z5: 2 | AA5: 個
A6: 福永商店 (坂本義則） | B6: 渋谷一央 | C6: 2 | D6: 個 | F6: 2 | G6: 個 | I6: 2 | J6: 個 | L6: 2 | M6: 個 | O6: 北村商店 | Q6: 2 | R6: 個 | T6: 2 | U6: 個 | W6: 2 | X6: 個 | Z6: 2 | AA6: 個
B7: 福永かおる | C7: 1 | D7: 個 | F7: 1 | G7: 個 | I7: 1 | J7: 個 | L7: 1 | M7: 個 | P7: 露店協議会 | Q7: 3 | R7: 個 | T7: 3 | U7: 個 | W7: 3 | X7: 個 | Z7: 3 | AA7: 個
B8: 和田英之 | C8: 1 | D8: 個 | F8: 1 | G8: 個 | I8: 1 | J8: 個 | L8: 1 | M8: 個 | R8: 個 | U8: 個 | X8: 個 | AA8: 個
B9: 中島靖弘 | C9: 1 | D9: 個 | F9: 1 | G9: 個 | I9: 1 | J9: 個 | L9: 1 | M9: 個 | R9: 個 | U9: 個 | X9: 個 | AA9: 個
B10: 坂本義則 | C10: 3 | D10: 個 | F10: 3 | G10: 個 | I10: 3 | J10: 個 | L10: 3 | M10: 個 | R10: 個 | U10: 個 | X10: 個 | AA10: 個
A11: 広島屋 (安永智美） | B11: 河野友宣 | C11: 1 | D11: 個 | F11: 1 | G11: 個 | I11: 1 | J11: 個 | L11: 1 | M11: 個 | R11: 個 | U11: 個 | X11: 個 | AA11: 個
B12: 浜田裕樹 | C12: 1 | D12: 個 | F12: 1 | G12: 個 | I12: 1 | J12: 個 | L12: 1 | M12: 個 | R12: 個 | U12: 個 | X12: 個 | AA12: 個
B13: 大竹山賀英 | C13: 1 | D13: 個 | F13: 1 | G13: 個 | I13: 1 | J13: 個 | L13: 1 | M13: 個 | R13: 個 | U13: 個 | X13: 個 | AA13: 個
B14: 山辺 淳 | C14: 2 | D14: 個 | F14: 2 | G14: 個 | I14: 2 | J14: 個 | L14: 2 | M14: 個 | R14: 個 | U14: 個 | X14: 個 | AA14: 個
B15: 猿橋普子 | C15: 1 | D15: 個 | G15: 個 | I15: 1 | J15: 個 | M15: 個 | R15: 個 | U15: 個 | X15: 個 | AA15: 個
B16: 岸本雅文 | C16: 1 | D16: 個 | G16: 個 | I16: 1 | J16: 個 | M16: 個 | R16: 個 | U16: 個 | X16: 個 | AA16: 個
B17: 小松善行 | C17: 1 | D17: 個 | F17: 1 | G17: 個 | I17: 1 | J17: 個 | L17: 1 | M17: 個 | R17: 個 | U17: 個 | X17: 個 | AA17: 個
B18: 京田和子 | C18: 1 | D18: 個 | F18: 1 | G18: 個 | I18: 1 | J18: 個 | L18: 1 | M18: 個 | R18: 個 | U18: 個 | X18: 個 | AA18: 個
B19: 井手上国夫 | C19: 2 | D19: 個 | F19: 2 | G19: 個 | I19: 2 | J19: 個 | L19: 2 | M19: 個 | R19: 個 | U19: 個 | X19: 個 | AA19: 個
A20: 桂春園 | B20: 藤原敬子 | C20: 2 | D20: 個 | F20: 2 | G20: 個 | I20: 2 | J20: 個 | L20: 2 | M20: 個 | R20: 個 | U20: 個 | X20: 個 | AA20: 個
A21: 中岡園芸 | B21: 中岡弘美 | C21: 2 | D21: 個 | F21: 2 | G21: 個 | I21: 2 | J21: 個 | L21: 2 | M21: 個 | R21: 個 | U21: 個 | X21: 個 | AA21: 個
A22: 松芳商店 | B22: 松芳永泰 | C22: 1 | D22: 個 | F22: 1 | G22: 個 | I22: 1 | J22: 個 | L22: 1 | M22: 個 | R22: 個 | U22: 個 | X22: 個 | AA22: 個
A23: 小木曽陶器 | B23: 小木曽幹夫 | C23: 1 | D23: 個 | F23: 1 | G23: 個 | I23: 1 | J23: 個 | L23: 1 | M23: 個 | R23: 個 | U23: 個 | X23: 個 | AA23: 個
B24: 寺尾覚子 | C24: 2 | D24: 個 | F24: 2 | G24: 個 | I24: 2 | J24: 個 | L24: 2 | M24: 個 | R24: 個 | U24: 個 | X24: 個 | AA24: 個
A25: 田中商店 | B25: 西田初子 | C25: 2 | D25: 個 | F25: 2 | G25: 個 | I25: 2 | J25: 個 | L25: 2 | M25: 個 | R25: 個 | U25: 個 | X25: 個 | AA25: 個
A26: 大黒食品 (古志利克) | B26: 中川 真 | C26: 6 | D26: 個 | F26: 6 | G26: 個 | I26: 6 | J26: 個 | L26: 6 | M26: 個 | R26: 個 | U26: 個 | X26: 個 | AA26: 個
A27: なおくら (畠山尚志） | B27: 岸上真人 | C27: 1 | D27: 個 | F27: 1 | G27: 個 | I27: 1 | J27: 個 | L27: 1 | M27: 個 | R27: 個 | U27: 個 | X27: 個 | AA27: 個
B28: 山本尚代 | C28: 1 | D28: 個 | F28: 1 | G28: 個 | I28: 1 | J28: 個 | L28: 1 | M28: 個 | R28: 個 | U28: 個 | X28: 個 | AA28: 個
B29: 吉岡宏子 | C29: 3 | D29: 個 | F29: 3 | G29: 個 | I29: 3 | J29: 個 | L29: 3 | M29: 個 | R29: 個 | U29: 個 | X29: 個 | AA29: 個
B30: 大八木隆博 | C30: 1 | D30: 個 | F30: 1 | G30: 個 | I30: 1 | J30: 個 | M30: 個 | R30: 個 | U30: 個 | X30: 個 | AA30: 個
C31: =SUM(C2:C30) -> 47 | F31: =SUM(F2:F30) -> 42 | I31: =SUM(I2:I30) -> 47 | L31: =SUM(L2:L30) -> 41 | Q31: =SUM(Q2:Q30) -> 27 | T31: =SUM(T2:T30) -> 27 | W31: =SUM(W2:W30) -> 27 | Z31: =SUM(Z2:Z30) -> 27
B34: =C31+F31+I31+L31+Q31+T31+W31+Z31 -> 285

Sheet FAX1 
U1: 送信日 | X1: 平成 | Z1: 28 | AB1: 年 | AC1: 2 | AE1: 月 | AF1: 17 | AH1: 日
A2: ＦＡＸ送付状
C4: 送信先：
C5: 【会社名】 | H5: ほっともっと 加西北条店 | Q5: 御中 | W5: 送付枚数： | AA5: 本状含み | AD5: 2 | AF5: 枚
C7: 【ご担当者】 | H7: 店長 | O7: 様
S9: 送信元：
B10: 拝啓 | T10: 【会社名】 | X10: CSI Lead
B11: 貴社ますますご清栄のこととお慶び申し上げます。 | T11: 【会社住所】
B12: 平素は格別のご高配を賜り厚くお礼申し上げます。 | T12: 兵庫県姫路市飾磨区今在家北2-69
B13: 下記の通りＦＡＸにて送信致しますので | T13: 【担当部署】
B14: ご査収の程お願い申し上げます。 | T14: 【担当者名】 | X14: 大崎
B15: 敬具
B18: 件 名 | J18: お弁当発注の件
C21: いつもお世話になっております。
C22: 先ほど連絡入れましたが、また少し、依頼がありました。
C23: 下記の表の通りとなります。
C25: 神農会 | G25: 18 | I25: 日 | J25: 昼 | L25: 74 | O25: 個
J26: 夜 | L26: 69 | O26: 個
G27: 19 | I27: 日 | J27: 昼 | L27: 74 | O27: 個 | R27: 合計 | V27: 支払い金額
J28: 夜 | L28: 68 | O28: 個 | R28: =L25+L26+L27+L28 -> 285 | V28: =R28*500 -> 142500
C30: CSILead | G30: 18 | I30: 日 | J30: 昼 | L30: 38 | O30: 個
J31: 夜 | L31: 38 | O31: 個
G32: 19 | I32: 日 | J32: 昼 | L32: 38 | O32: 個 | R32: 合計 | V32: 支払い金額
J33: 夜 | L33: 38 | O33: 個 | R33: 152 | V33: =R33*500 -> 76000
C35: 隊長さんの、連絡先が、昨年同様ですが、現在データがないため、確認でき次第
C36: ご連絡入れます。
C37: よろしくお願いいたします。

Sheet Sheet4
A2: 建設業退職金共済証紙交付 辞退届
P6: 平成 | S6: 年 | U6: 月 | W6: 日
B7: 元受
B8: 事業所 | D8: 殿
D11: 下請事業所 | H11: 有限会社ミキライフサービス
D12: 収書 | H12: 姫路市飾磨区今在家647番地10
D13: 工事名
D14: 工事コード
D17: 元受業者より指示のありました建退共証紙受払いについて
D19: 自社退職金制度に加入しているので受領を辞退致します。
P26: 平成 | S26: 年 | U26: 月 | W26: 日
I29: 下請業者 | L29: 有限会社ミキライフサービス ㊞

Sheet 領収書 (2)
M2: 平成28年2月18・19日
B3: 北村商事 | F3: 様
A5: 領 収 書
D7: 金 | F7: ￥ | G7: 4800 | L7: ※
D8: 但し：お弁当代金として上記正に領収いたしました。
I10: 宗佐厄神八幡神社露店商運営協議会 ㊞
M12: 平成28年2月18・19日
B13: 露店協議会 | F13: 様
A15: 領 収 書
D17: 金 | F17: ￥ | G17: 7200 | L17: ※
D18: 但し：お弁当代金として上記正に領収いたしました。
I20: 宗佐厄神八幡神社露店商運営協議会 ㊞
M23: 平成28年2月18・19日
B24: 金城亮吉 | F24: 様
A26: 領 収 書
D28: 金 | F28: ￥ | G28: 4800 | L28: ※
D29: 但し：お弁当代金として上記正に領収いたしました。
I31: 宗佐厄神八幡神社露店商運営協議会 ㊞
M34: 平成28年2月18・19日
F35: 様
A37: 領 収 書
D39: 金 | F39: ￥ | L39: ※
D40: 但し：お弁当代金として上記正に領収いたしました。
I42: 宗佐厄神八幡神社露店商運営協議会 ㊞

Sheet Sheet3
A2: 建設業退職金共済証紙交付 辞退届
F8: 平成 27 年 10 月 1 日
B10: 元 請
B11: 事業所 | C11: 株式会社 岡崎組 | E11: 殿
C15: 下請事業所 | E15: 有限会社 ミキライフサービス
C16: 住所 | E16: 姫路市飾磨区今在家６４７番地10
C17: 工事名 | E17: （北部）菅野99号線道路改良工事
C18: 工事コード
C23: 元請業者より指示のありました建退共証紙受払いについて
C25: 自社退職金制度に加入しているので受領を辞退致します。
F36: 平成 27 年 10 月 1 日
D43: 下請事業所 | I43: ㊞

Sheet 領収書
M1: 平成29年2月18・19日
B2: ='2017神農会弁当'!B2 -> 石井偵介様
A4: 領 収 書
F6: ￥ | G6: ='2017神農会弁当'!O2 -> 3600 | L6: ※
D7: 但し：お弁当代金として上記正に領収いたしました。
I9: 宗佐厄神八幡神社露店商運営協議会 ㊞
M12: 平成29年2月18・19日
B13: ='2017神農会弁当'!B3 -> 坂本義則様
A15: 領 収 書
F17: ￥ | G17: ='2017神農会弁当'!O3 -> 21600 | L17: ※
D18: 但し：お弁当代金として上記正に領収いたしました。
I20: 宗佐厄神八幡神社露店商運営協議会 ㊞
M23: 平成29年2月18・19日
B24: ='2017神農会弁当'!A4 -> 広島屋
A26: 領 収 書
F28: ￥ | G28: ='2017神農会弁当'!O4 -> 7200 | L28: ※
D29: 但し：お弁当代金として上記正に領収いたしました。
I31: 宗佐厄神八幡神社露店商運営協議会 ㊞
M34: 平成29年2月18・19日
B35: ='2017神農会弁当'!B5 -> 京田和子様
A37: 領 収 書
F39: ￥ | G39: ='2017神農会弁当'!O5 -> 2400 | L39: ※
D40: 但し：お弁当代金として上記正に領収いたしました。
I42: 宗佐厄神八幡神社露店商運営協議会 ㊞
M43: 平成29年2月18・19日
B44: ='2017神農会弁当'!B6 -> 藤原敬子様
A46: 領 収 書
F48: ￥ | G48: ='2017神農会弁当'!O6 -> 2400 | L48: ※
D49: 但し：お弁当代金として上記正に領収いたしました。
I51: 宗佐厄神八幡神社露店商運営協議会 ㊞
M54: 平成29年2月18・19日
B55: ='2017神農会弁当'!B7 -> 中岡弘美様
A57: 領 収 書
F59: ￥ | G59: ='2017神農会弁当'!O7 -> 4800 | L59: ※
D60: 但し：お弁当代金として上記正に領収いたしました。
I62: 宗佐厄神八幡神社露店商運営協議会 ㊞
M65: 平成29年2月18・19日
B66: ='2017神農会弁当'!B8 -> 小島太一様
A68: 領 収 書
F70: ￥ | G70: ='2017神農会弁当'!O8 -> 2400 | L70: ※
...

Sheet 新人名簿
A1: 屋号 | B1: 申請者 | C1: 品目 | D1: 販売補助者
A2: 石井商店 | B2: 石井偵介 | C2: 生生姜 | D2: 🈟高杉裕次郎
A3: まるかず商店 | B3: 裙本和行 | C3: 茶店 | D3: 裙本 修 | E3: 安田幸恵 | F3: 黒田茉弥
C4: 駅そば | D4: 多田玲奈 | E4: 🈟上川路晴子
C5: 栗まんじゅう | D5: 岡崎高志 | E5: 岡崎 恵 | F5: 🈟是川昌仁
C6: カステラ | D6: 🈟田村綾子 | E6: 🈟上川路晴子
B7: 坂本義則 | C7: ラーメン | D7: 🈟福永芳美
B8: 福永かおる | C8: 生生姜・岩納豆・岩おこし | D8: 🈟福永美浪
B9: 和田英之 | C9: 岩おこし
B10: 中島靖弘 | C10: 菓子・岩おこし
B11: 渋谷一央 | C11: 岩おこし・岩納豆他 | D11: 🈟田中 空
B12: 黒井栄一郎 | C12: たこ焼き | D12: 黒井律子
C13: ポテト | D13: 🈟東さゆり
C14: たい焼き | D14: 黒井栄司
C15: エンカン | D15: 園田顕芳
C16: から揚げ・串揚げ | D16: 🈟大西千夏
C17: 大判焼き | D17: 🈟芝地哲夫
C18: 焼きそば | D18: 🈟黒井明日香
C19: から揚げ | D19: 🈟黒井慶吾
C20: 広島焼き | D20: 🈟得 弘樹
C21: はしまき | D21: 黒井純子
A22: 広島屋 | B22: 山辺 淳 | C22: イカ焼き | D22: 山辺礼子 | E22: 大西美佳
B23: 安永智美 | C23: イカ焼き | D23: 浜田裕樹 | E23: 大西雅弥
C24: イカ焼き | D24: 🈟松岡剛史 | E24: 🈟荒枝和美
C25: イカ焼き | D25: 河野友宣 | E25: 大西里奈
A26: 大清食品 | B26: 大角 清 | C26: カステラ | D26: 🈟大角良子 | E26: 今城綾子
C27: カステラ | D27: 大角 清
C28: カステラ | D28: 🈟大角光平
A29: 🈟内海商店 | B29: 🈟志賀一信 | C29: から揚げ
A30: 1
B32: 小瀧幸子 | C32: スマートボール | D32: 藤廣瑞樹
C33: 大福 | D33: 🈟藤廣みのり
C34: たい焼き | D34: 岡田貴久
B35: 杉本誠司 | C35: イカ焼き
C36: カステラ | D36: 🈟大田竜夜
B37: 大野 創 | C37: カステラ | D37: 大野しのぶ
C38: カステラ | D38: 田水 唯
C39: カステラ | D39: 🈟真田顕在
C40: から揚げ | D40: 🈟高月亜希
A41: 大谷商店 | B41: 大谷孝志 | C41: はしまき | D41: 大谷秀美
...

Sheet 2018
A1: 屋号 | B1: 申請者 | C1: 番号 | D1: 品目 | E1: 販売補助者
A2: 石井商店 | B2: 石井偵介 | D2: 生生姜
A3: まるかず商店 | B3: 裙本和幸 | D3: 茶店 | E3: 裙本 修 | F3: 安田幸恵 | G3: 黒田茉弥
D4: 駅そば | E4: 多田玲奈
D5: 栗まんじゅう | E5: 岡崎高志 | F5: 是川昌仁
D6: ケバブ | E6: アカギュル・イスマイル
D7: カステラ | E7: 田村綾子
B8: 大西 誠 | D8: ポテト | E8: 大西純子
B9: 大西拓磨 | D9: わたがし
A10: 夢屋 （堤商店） | B10: 堤 末男 | D10: カステラ | E10: 堤 恵美 | F10: 堤 数昌
D11: くじ引き | E11: 堤 寿美
A12: 福永商店 | B12: 坂本義則 | D12: ラーメン
B13: 福永かおる | D13: 生生姜・岩納豆・岩おこし
B14: 和田英之 | D14: 岩おこし
B15: 中島靖弘 | D15: 菓子・岩おこし
B16: 渋谷一央 | D16: 岩おこし・岩納豆他
A17: 黒井食品 | B17: 黒井栄一郎 | D17: ポテト | E17: 末澤 篤
D18: 広島焼き | E18: 東さゆり
D19: たい焼き | E19: 黒井栄司
D20: 焼き鳥串 | E20: 東鈴之助
D21: ポテト | E21: 市瀬 玲
D22: 焼きそば | E22: 神野凪砂
D23: 大判焼き | E23: 中瀬慶作
D24: 焼きそば | E24: 冬本崇司
D25: から揚げ | E25: 藤林頌一
D26: から揚げ | E26: 前田祐甫
D27: わたがし | E27: 黒井純子
B28: 新井保子 | D28: たこ焼き
D29: から揚げ | E29: 新井新司
A30: 山辺銀商店 | B30: 山辺 淳 | D30: イカ焼き | E30: 山辺礼子 | F30: 大西美佳
A31: 広島屋 | B31: 安永智美 | D31: イカ焼き | E31: 大西雅弥 | F31: 福永和美
D32: イカ焼き | E32: 大西理奈 | F32: 玉田辰次
A33: 岸本商店 | B33: 岸本雅史 | D33: 射的
A34: 猿橋商店 | B34: 猿橋普子 | D34: ボール投げ
B35: 見野山勝翼 | D35: たこ焼き | E35: 悦本政美
A36: 大清食品 | B36: 大角 清 | D36: カステラ | E36: 大角良子 | F36: 今城綾子
D37: カステラ
D38: カステラ | E38: 大角光平
B39: 島林真澄 | D39: わなげ | E39: 高見正勝
D40: 射的 | E40: 高見多恵子
...

Sheet 名簿
A1: 屋号 | B1: 申請者 | C1: 品目 | D1: 販売補助者
A2: 石井商店 | B2: 石井偵介 | C2: 生生姜 | D2: 🈟高杉裕次郎
A3: まるかず商店 | B3: 裙本和行 | C3: 茶店 | D3: 裙本 修 | E3: 安田幸恵 | F3: 黒田茉弥
C4: 駅そば | D4: 多田玲奈 | E4: 🈟上川路晴子
C5: 栗まんじゅう | D5: 岡崎高志 | E5: 岡崎 恵 | F5: 🈟是川昌仁
C6: カステラ | D6: 🈟田村綾子 | E6: 🈟上川路晴子
B7: 大西 誠 | C7: ポテト | D7: 大西純子
B8: 大西拓磨 | C8: わたがし
A9: 夢屋（堤商店） | B9: 堤 末男 | C9: カステラ | D9: 堤 恵美 | E9: 堤 数昌
C10: くじ引き | D10: 堤 寿美
B11: 坂本義則 | C11: ラーメン | D11: 🈟福永芳美
B12: 福永かおる | C12: 生生姜・岩納豆・岩おこし | D12: 🈟福永美浪
B13: 和田英之 | C13: 岩おこし
B14: 中島靖弘 | C14: 菓子・岩おこし
B15: 渋谷一央 | C15: 岩おこし・岩納豆他 | D15: 🈟田中 空
B16: 黒井栄一郎 | C16: たこ焼き | D16: 黒井律子
C17: ポテト | D17: 🈟東さゆり
C18: たい焼き | D18: 黒井栄司
C19: エンカン | D19: 園田顕芳
C20: から揚げ・串揚げ | D20: 🈟大西千夏
C21: 大判焼き | D21: 🈟芝地哲夫
C22: 焼きそば | D22: 🈟黒井明日香
C23: から揚げ | D23: 🈟黒井慶吾
C24: 広島焼き | D24: 🈟得 弘樹
C25: はしまき | D25: 黒井純子
B26: 新井保子 | C26: たこ焼き
C27: から揚げ | D27: 新井新司
A28: 広島屋 | B28: 山辺 淳 | C28: イカ焼き | D28: 山辺礼子 | E28: 大西美佳
B29: 安永智美 | C29: イカ焼き | D29: 浜田裕樹 | E29: 大西雅弥
C30: イカ焼き | D30: 🈟松岡剛史 | E30: 🈟新枝和美
C31: イカ焼き | D31: 河野友宣 | E31: 大西里奈
A32: 岸本商店 | B32: 岸本雅史 | C32: 射的
A33: 猿橋商店 | B33: 猿橋普子 | C33: ボール投げ
B34: 見野山勝翼 | C34: たこ焼き | D34: 悦本政美
A35: 大清食品 | B35: 大角 清 | C35: カステラ | D35: 🈟大角良子 | E35: 今城綾子
C36: カステラ | D36: 大角 清
C37: カステラ | D37: 🈟大角光平
B38: 島林真澄 | C38: わなげ | D38: 高見正勝
C39: 射的 | D39: 高見多恵子
C40: 射的
...

Sheet Sheet1 (2)
H1: 販売許可証有効期限切れの方申し出ください。
H2: 販売許可証有効期限切れの方申し出ください。
H3: 販売許可証有効期限切れの方申し出ください。
H4: 販売許可証有効期限切れの方申し出ください。
H5: 販売許可証有効期限切れの方申し出ください。
H6: 販売許可証有効期限切れの方申し出ください。
H7: 販売許可証有効期限切れの方申し出ください。
H8: 販売許可証有効期限切れの方申し出ください。
H9: 販売許可証有効期限切れの方申し出ください。
H10: 販売許可証有効期限切れの方申し出ください。
H11: 販売許可証有効期限切れの方申し出ください。
H12: 販売許可証有効期限切れの方申し出ください。
... H16: 販売許可証有効期限切れの方申し出ください。
H17: 証 | I17: 証 | J17: 証 | K17: 証 | L17: 証 | M17: 証 | N17: 証 | O17: 証 | P17: 証 | Q17: 証 | R17: 証 | S17: 証 | T17: 証 | U17: 証 | V17: 証 | W17: 証 | X17: 証 | Y17: 証 | Z17: 証 | AA17: 証 | AB17: 証
H18: 証 | I18: 証 | J18: 証 | K18: 証 | L18: 証 | M18: 証 | N18: 証 | O18: 証 | P18: 証 | Q18: 証 | R18: 証 | S18: 証 | T18: 証 | U18: 証 | V18: 証 | W18: 証 | X18: 証 | Y18: 証 | Z18: 証 | AA18: 証 | AB18: 証

Sheet 2017神農会弁当
A1: 店舗名 | B1: 氏名 | C1: 18日(昼) | E1: 受取㊞ | F1: 18日(夜) | H1: 受取㊞ | I1: 19日(昼) | K1: 受取㊞ | L1: 19日(夜) | N1: 受取㊞ | O1: 合計金額 | S1: 18日(昼) | U1: 受取㊞ | V1: 18日(夜) | X1: 受取㊞ | Y1: 19日(昼) | AA1: 受取㊞ | AB1: 19日(夜) | AD1: 受取㊞
A2: 石井商店 | B2: 石井偵介様 | C2: 2 | D2: 個 | F2: 2 | G2: 個 | I2: 2 | J2: 個 | M2: 個 | O2: =(C2+F2+I2+L2)*600 -> 3600 | S2: 2 | T2: 個 | V2: 2 | W2: 個 | Y2: 2 | Z2: 個 | AC2: 個
A3: 福永商店 | B3: 坂本義則様 | C3: 9 | D3: 個 | F3: 9 | G3: 個 | I3: 9 | J3: 個 | L3: 9 | M3: 個 | O3: =(C3+F3+I3+L3)*600 -> 21600 | S3: 9 | T3: 個 | V3: 9 | W3: 個 | Y3: 9 | Z3: 個 | AB3: 9 | AC3: 個
A4: 広島屋 | B4: 安永智美様 | C4: 3 | D4: 個 | F4: 3 | G4: 個 | I4: 3 | J4: 個 | L4: 3 | M4: 個 | O4: =(C4+F4+I4+L4)*600 -> 7200 | S4: 3 | T4: 個 | V4: 3 | W4: 個 | Y4: 3 | Z4: 個 | AB4: 3 | AC4: 個
A5: 京田商店 | B5: 京田和子様 | C5: 1 | D5: 個 | F5: 1 | G5: 個 | I5: 1 | J5: 個 | L5: 1 | M5: 個 | O5: =(C5+F5+I5+L5)*600 -> 2400 | S5: 1 | T5: 個 | V5: 1 | W5: 個 | Y5: 1 | Z5: 個 | AB5: 1 | AC5: 個
A6: 藤原園芸 | B6: 藤原敬子様 | C6: 1 | D6: 個 | F6: 1 | G6: 個 | I6: 1 | J6: 個 | L6: 1 | M6: 個 | O6: =(C6+F6+I6+L6)*600 -> 2400 | S6: 1 | T6: 個 | V6: 1 | W6: 個 | Y6: 1 | Z6: 個 | AB6: 1 | AC6: 個
A7: 中岡園芸 | B7: 中岡弘美様 | C7: 2 | D7: 個 | F7: 2 | G7: 個 | I7: 2 | J7: 個 | L7: 2 | M7: 個 | O7: =(C7+F7+I7+L7)*600 -> 4800 | S7: 2 | T7: 個 | V7: 2 | W7: 個 | Y7: 2 | Z7: 個 | AB7: 2 | AC7: 個
A8: 小島商店 | B8: 小島太一様 | C8: 1 | D8: 個 | F8: 1 | G8: 個 | I8: 1 | J8: 個 | L8: 1 | M8: 個 | O8: =(C8+F8+I8+L8)*600 -> 2400 | S8: 1 | T8: 個 | V8: 1 | W8: 個 | Y8: 1 | Z8: 個 | AB8: 1 | AC8: 個
A9: 小木曽陶器 | B9: 小木曽幹夫 | C9: 1 | D9: 個 | F9: 1 | G9: 個 | I9: 1 | J9: 個 | L9: 1 | M9: 個 | O9: =(C9+F9+I9+L9)*600 -> 2400 | S9: 1 | T9: 個 | V9: 1 | W9: 個 | Y9: 1 | Z9: 個 | AB9: 1 | AC9: 個
A10: 杉本商店 | B10: 杉本卓司様 | C10: 6 | D10: 個 | F10: 6 | G10: 個 | I10: 6 | J10: 個 | L10: 6 | M10: 個 | O10: =(C10+F10+I10+L10)*600 -> 14400 | S10: 6 | T10: 個 | V10: 6 | W10: 個 | Y10: 6 | Z10: 個 | AB10: 6 | AC10: 個
A11: 寺尾商店 | B11: 寺尾覚子様 | C11: 1 | D11: 個 | F11: 1 | G11: 個 | I11: 1 | J11: 個 | L11: 1 | M11: 個 | O11: =(C11+F11+I11+L11)*600 -> 2400 | S11: 1 | T11: 個 | V11: 1 | W11: 個 | Y11: 1 | Z11: 個 | AB11: 1 | AC11: 個
A12: 広島屋 | B12: 山辺淳様 | C12: 2 | D12: 個 | F12: 2 | G12: 個 | I12: 2 | J12: 個 | L12: 2 | M12: 個 | O12: =(C12+F12+I12+L12)*600 -> 4800 | S12: 2 | T12: 個 | V12: 2 | W12: 個 | Y12: 2 | Z12: 個 | AB12: 2 | AC12: 個
A13: 田中商店 | B13: 西田弘行様 | C13: 5 | D13: 個 | G13: 個 | I13: 5 | J13: 個 | M13: 個 | O13: =(C13+F13+I13+L13)*600 -> 6000 | S13: 5 | T13: 個 | W13: 個 | Y13: 5 | Z13: 個 | AC13: 個
B14: 石川弘様 | C14: 3 | D14: 個 | F14: 3 | G14: 個 | I14: 3 | J14: 個 | L14: 3 | M14: 個 | O14: =(C14+F14+I14+L14)*600 -> 7200 | S14: 3 | T14: 個 | V14: 3 | W14: 個 | Y14: 3 | Z14: 個 | AB14: 3 | AC14: 個
A15: なおくら | B15: 畠山尚志様 | C15: 5 | D15: 個 | F15: 5 | G15: 個 | I15: 5 | J15: 個 | L15: 5 | M15: 個 | O15: =(C15+F15+I15+L15)*600 -> 12000 | S15: 5 | T15: 個 | V15: 5 | W15: 個 | Y15: 5 | Z15: 個 | AB15: 5 | AC15: 個
A16: 北村商事 | B16: 北村雅利様 | C16: 2 | D16: 個 | F16: 2 | G16: 個 | I16: 2 | J16: 個 | L16: 2 | M16: 個 | O16: =(C16+F16+I16+L16)*600 -> 4800 | S16: 2 | T16: 個 | V16: 2 | W16: 個 | Y16: 2 | Z16: 個 | AB16: 2 | AC16: 個
B17: 大八木隆博様 | C17: 1 | D17: 個 | F17: 2 | G17: 個 | I17: 1 | J17: 個 | L17: 2 | M17: 個 | O17: =(C17+F17+I17+L17)*600 -> 3600 | S17: 1 | T17: 個 | V17: 2 | W17: 個 | Y17: 1 | Z17: 個 | AB17: 2 | AC17: 個
B18: 木村吉之 | C18: 1 | D18: 個 | G18: 個 | I18: 1 | J18: 個 | M18: 個 | O18: =(C18+F18+I18+L18)*600 -> 1200 | S18: 1 | T18: 個 | W18: 個 | Y18: 1 | Z18: 個 | AC18: 個
A19: 金城商店 | B19: 金城亮吉様 | C19: 6 | D19: 個 | G19: 個 | I19: 6 | J19: 個 | M19: 個 | O19: =(C19+F19+I19+L19)*600 -> 7200 | S19: 6 | T19: 個 | W19: 個 | Y19: 6 | Z19: 個 | AC19: 個
A20: 露店協議会 | C20: 3 | D20: 個 | F20: 3 | G20: 個 | I20: 3 | J20: 個 | L20: 3 | M20: 個 | O20: =(C20+F20+I20+L20)*600 -> 7200 | S20: 3 | T20: 個 | V20: 3 | W20: 個 | Y20: 3 | Z20: 個 | AB20: 3 | AC20: 個
A21: 共伸電機 | C21: 3 | D21: 個 | F21: 3 | G21: 個 | I21: 3 | J21: 個 | L21: 3 | M21: 個 | O21: =(C21+F21+I21+L21)*600 -> 7200 | S21: 3 | T21: 個 | V21: 3 | W21: 個 | Y21: 3 | Z21: 個 | AB21: 3 | AC21: 個
A22: 福田 | C22: 10 | D22: 個 | F22: 10 | G22: 個 | I22: 10 | J22: 個 | L22: 10 | M22: 個 | O22: =(C22+F22+I22+L22)*600 -> 24000 | S22: 10 | T22: 個 | V22: 10 | W22: 個 | Y22: 10 | Z22: 個 | AB22: 10 | AC22: 個
A23: 大清食品 | B23: 大角 清 | C23: 3 | D23: 個 | F23: 3 | G23: 個 | I23: 3 | J23: 個 | L23: 3 | M23: 個 | O23: =(C23+F23+I23+L23)*600 -> 7200 | S23: 3 | T23: 個 | V23: 3 | W23: 個 | Y23: 3 | Z23: 個 | AB23: 3 | AC23: 個
B24: 小松善行 | C24: 1 | D24: 個 | F24: 1 | G24: 個 | I24: 1 | J24: 個 | L24: 1 | M24: 個 | O24: =(C24+F24+I24+L24)*600 -> 2400 | S24: 1 | T24: 個 | V24: 1 | W24: 個 | Y24: 1 | Z24: 個 | AB24: 1 | AC24: 個
A25: 大黒食品 | B25: 古志利克 | C25: 6 | D25: 個 | F25: 6 | G25: 個 | I25: 6 | J25: 個 | L25: 6 | M25: 個 | O25: =(C25+F25+I25+L25)*600 -> 14400 | S25: 6 | T25: 個 | V25: 6 | W25: 個 | Y25: 6 | Z25: 個 | AB25: 6 | AC25: 個
A26: 大森光生 | C26: 3 | D26: 個 | G26: 個 | I26: 3 | J26: 個 | M26: 個 | O26: =(C26+F26+I26+L26)*600 -> 3600 | S26: 3 | T26: 個 | W26: 個 | Y26: 3 | Z26: 個 | AC26: 個
A27: 西岡商店 | B27: 西岡 裕 | C27: 1 | D27: 個 | G27: 個 | I27: 1 | J27: 個 | M27: 個 | O27: =(C27+F27+I27+L27)*600 -> 1200 | S27: 1 | T27: 個 | W27: 個 | Y27: 1 | Z27: 個 | AC27: 個
A28: 笹山商店 | B28: 笹山政治 | C28: 1 | D28: 個 | G28: 個 | I28: 1 | J28: 個 | M28: 個 | O28: =(C28+F28+I28+L28)*600 -> 1200 | S28: 1 | T28: 個 | W28: 個 | Y28: 1 | Z28: 個 | AC28: 個
A29: 山口商店 | B29: 山口拓也 | C29: 1 | D29: 個 | G29: 個 | I29: 1 | J29: 個 | M29: 個 | O29: =(C29+F29+I29+L29)*600 -> 1200 | S29: 1 | T29: 個 | W29: 個 | Y29: 1 | Z29: 個 | AC29: 個
A30: 川地商店 | B30: 川地昌弘 | C30: 1 | D30: 個 | G30: 個 | I30: 1 | J30: 個 | M30: 個 | O30: =(C30+F30+I30+L30)*600 -> 1200 | S30: 1 | T30: 個 | W30: 個 | Y30: 1 | Z30: 個 | AC30: 個
A31: 金城商店 | C31: 5 | D31: 個 | F31: 5 | G31: 個 | I31: 5 | J31: 個 | L31: 5 | M31: 個 | O31: =(C31+F31+I31+L31)*600 -> 12000 | S31: 5 | T31: 個 | V31: 5 | W31: 個 | Y31: 5 | Z31: 個 | AB31: 5 | AC31: 個
A32: 追加① | C32: 3 | D32: 個 | F32: 3 | G32: 個 | I32: 3 | J32: 個 | L32: 3 | M32: 個 | O32: =(C32+F32+I32+L32)*600 -> 7200 | T32: 個 | W32: 個 | Z32: 個 | AC32: 個
A33: 追加② | C33: 3 | D33: 個 | F33: 3 | G33: 個 | I33: 3 | J33: 個 | L33: 3 | M33: 個 | O33: =(C33+F33+I33+L33)*600 -> 7200 | T33: 個 | W33: 個 | Z33: 個 | AC33: 個
A34: 追加③ | D34: 個 | F34: 12 | G34: 個 | J34: 個 | L34: 12 | M34: 個 | O34: =(C34+F34+I34+L34)*600 -> 14400 | T34: 個 | W34: 個 | Z34: 個 | AC34: 個
D35: 個 | G35: 個 | J35: 個 | M35: 個 | O35: =(C35+F35+I35+L35)*600 -> 0 | T35: 個 | W35: 個 | Z35: 個 | AC35: 個
D36: 個 | G36: 個 | J36: 個 | M36: 個 | O36: =(C36+F36+I36+L36)*600 -> 0 | T36: 個 | W36: 個 | Z36: 個 | AC36: 個
C37: =SUM(C2:C36) -> 96 | D37: 個 | F37: =SUM(F2:F36) -> 90 | G37: 個 | I37: =SUM(I2:I36) -> 96 | J37: 個 | L37: =SUM(L2:L36) -> 88 | M37: 個 | O37: =SUM(O2:O36) -> 222000 | S37: =SUM(S2:S36) -> 90 | T37: 個 | V37: =SUM(V2:V36) -> 72 | W37: 個 | Y37: =SUM(Y2:Y36) -> 90 | Z37: 個 | AB37: =SUM(AB2:AB36) -> 70 | AC37: 個
S40: =C37+F37+I37+L37 -> 370

Sheet Sheet2
A1: お弁当・書類一式 受け渡し用名簿
A10: 〒675-2312 | C10: 〒675-2312
A11: 兵庫県加西市北条町北条1121 | C11: 兵庫県加西市北条町北条1121
A12: TEL0790-20-7223FAX0790-20-7224 | C12: TEL0790-20-7223FAX0790-20-7224
A13: 〒675-2312 | C13: 〒675-2312
A14: 兵庫県加西市北条町北条1121 | C14: 兵庫県加西市北条町北条1121
A15: TEL0790-20-7223FAX0790-20-7224 | C15: TEL0790-20-7223FAX0790-20-7224
A16: 〒675-2312 | C16: 〒675-2312
A17: 兵庫県加西市北条町北条1121 | C17: 兵庫県加西市北条町北条1121
A18: TEL0790-20-7223FAX0790-20-7224 | C18: TEL0790-20-7223FAX0790-20-7224
A19: 〒675-2312 | C19: 〒675-2312
A20: 兵庫県加西市北条町北条1121 | C20: 兵庫県加西市北条町北条1121
A21: TEL0790-20-7223FAX0790-20-7224 | C21: TEL0790-20-7223FAX0790-20-7224
... A33: TEL0790-20-7223FAX0790-20-7224 | C33: TEL0790-20-7223FAX0790-20-7224

Sheet Sheet1
A1: 販売許可証有効期限切れの方申し出てください。
A2: 販売許可証有効期限切れの方申し出てください。
A3: 販売許可証有効期限切れの方申し出てください。
A4: 販売許可証有効期限切れの方申し出てください。
A5: 販売許可証有効期限切れの方申し出てください。
A6: 販売許可証有効期限切れの方申し出てください。
A7: 販売許可証有効期限切れの方申し出てください。
A8: 販売許可証有効期限切れの方申し出てください。
A9: 販売許可証有効期限切れの方申し出てください。
A10: 販売許可証有効期限切れの方申し出てください。
A11: 販売許可証有効期限切れの方申し出てください。
A12: 販売許可証有効期限切れの方申し出てください。
... A18: 販売許可証有効期限切れの方申し出てください。

Sheet Sheet5
A1: 夜 | B1: 露店運営協議会 | D1: 個
A3: 夜 | B3: 露店運営協議会 | D3: 個
A5: 夜 | B5: 露店運営協議会 | C5: 3 | D5: 個
A7: 夜 | B7: 露店運営協議会 | D7: 個
A9: 夜 | B9: 露店運営協議会 | D9: 個
A11: 夜 | B11: 露店運営協議会 | D11: 個
A13: 夜 | B13: 共伸電気 | D13: 個

Sheet 表紙
A1: ２０１８年
A2: 宗佐厄神八幡神社厄除け例大祭
A5: 露店商名簿

Sheet 神農会弁当 2018
A1: 店舗名 | B1: 氏名 | C1: 18日(昼) | E1: 受取㊞ | F1: 18日(夜) | H1: 受取㊞ | I1: 19日(昼) | K1: 受取㊞ | L1: 19日(夜) | N1: 受取㊞ | O1: 合計金額 | S1: 18日(昼) | U1: 受取㊞ | V1: 18日(夜) | X1: 受取㊞ | Y1: 19日(昼) | AA1: 受取㊞ | AB1: 19日(夜) | AD1: 受取㊞
A2: 田中屋本店 | B2: 西田弘行 | C2: 3 | D2: 個 | G2: 個 | I2: 3 | J2: 個 | M2: 個 | O2: =(C2+F2+I2+L2)*600 -> 3600 | S2: 2 | T2: 個 | V2: 2 | W2: 個 | Y2: 2 | Z2: 個 | AC2: 個
A3: 大黒食品 | B3: 古志利克 | C3: 6 | D3: 個 | F3: 6 | G3: 個 | J3: 個 | M3: 個 | O3: =(C3+F3+I3+L3)*600 -> 7200 | S3: 9 | T3: 個 | V3: 9 | W3: 個 | Y3: 9 | Z3: 個 | AB3: 9 | AC3: 個
A4: なおくら | B4: 畠山尚志 | C4: 4 | D4: 個 | F4: 4 | G4: 個 | I4: 4 | J4: 個 | L4: 4 | M4: 個 | O4: =(C4+F4+I4+L4)*600 -> 9600 | S4: 3 | T4: 個 | V4: 3 | W4: 個 | Y4: 3 | Z4: 個 | AB4: 3 | AC4: 個
A5: 北村商事 | B5: 北村雅利 | C5: 2 | D5: 個 | F5: 2 | G5: 個 | I5: 2 | J5: 個 | L5: 2 | M5: 個 | O5: =(C5+F5+I5+L5)*600 -> 4800 | S5: 1 | T5: 個 | V5: 1 | W5: 個 | Y5: 1 | Z5: 個 | AB5: 1 | AC5: 個
A6: 古賀家 | B6: 古賀敏憲 | C6: 2 | D6: 個 | F6: 2 | G6: 個 | I6: 2 | J6: 個 | L6: 2 | M6: 個 | O6: =(C6+F6+I6+L6)*600 -> 4800 | S6: 1 | T6: 個 | V6: 1 | W6: 個 | Y6: 1 | Z6: 個 | AB6: 1 | AC6: 個
A7: 大清食品 | B7: 大角 清 | C7: 3 | D7: 個 | F7: 3 | G7: 個 | I7: 3 | J7: 個 | L7: 3 | M7: 個 | O7: =(C7+F7+I7+L7)*600 -> 7200 | S7: 2 | T7: 個 | V7: 2 | W7: 個 | Y7: 2 | Z7: 個 | AB7: 2 | AC7: 個
A8: 中岡園芸 | B8: 中岡弘美 | C8: 2 | D8: 個 | G8: 個 | I8: 2 | J8: 個 | M8: 個 | O8: =(C8+F8+I8+L8)*600 -> 2400 | S8: 1 | T8: 個 | V8: 1 | W8: 個 | Y8: 1 | Z8: 個 | AB8: 1 | AC8: 個
A9: 小林商店 | B9: 小林満男 | C9: 1 | D9: 個 | F9: 1 | G9: 個 | I9: 1 | J9: 個 | L9: 1 | M9: 個 | O9: =(C9+F9+I9+L9)*600 -> 2400 | S9: 1 | T9: 個 | V9: 1 | W9: 個 | Y9: 1 | Z9: 個 | AB9: 1 | AC9: 個
A10: 小木曽陶器 | B10: 小木曽幹夫 | C10: 1 | D10: 個 | F10: 1 | G10: 個 | I10: 1 | J10: 個 | L10: 1 | M10: 個 | O10: =(C10+F10+I10+L10)*600 -> 2400 | S10: 6 | T10: 個 | V10: 6 | W10: 個 | Y10: 6 | Z10: 個 | AB10: 6 | AC10: 個
D11: 個 | G11: 個 | J11: 個 | M11: 個 | O11: =(C11+F11+I11+L11)*600 -> 0 | S11: 1 | T11: 個 | V11: 1 | W11: 個 | Y11: 1 | Z11: 個 | AB11: 1 | AC11: 個
A12: 山邊銀商店 | B12: 山邊 淳 | C12: 2 | D12: 個 | F12: 2 | G12: 個 | I12: 2 | J12: 個 | M12: 個 | O12: =(C12+F12+I12+L12)*600 -> 3600 | S12: 2 | T12: 個 | V12: 2 | W12: 個 | Y12: 2 | Z12: 個 | AB12: 2 | AC12: 個
A13: 福田商事 | B13: 福田健士郎 | C13: 10 | D13: 個 | F13: 10 | G13: 個 | I13: 10 | J13: 個 | L13: 10 | M13: 個 | O13: =(C13+F13+I13+L13)*600 -> 24000 | S13: 3 | T13: 個 | V13: 3 | W13: 個 | Y13: 3 | Z13: 個 | AB13: 3 | AC13: 個
B14: 杉本謙人 | C14: 6 | D14: 個 | F14: 6 | G14: 個 | I14: 6 | J14: 個 | L14: 6 | M14: 個 | O14: =(C14+F14+I14+L14)*600 -> 14400 | S14: 5 | T14: 個 | V14: 5 | W14: 個 | Y14: 5 | Z14: 個 | AB14: 5 | AC14: 個
A15: 広島屋 | B15: 福永和美 | C15: 1 | D15: 個 | F15: 1 | G15: 個 | I15: 1 | J15: 個 | L15: 1 | M15: 個 | O15: =(C15+F15+I15+L15)*600 -> 2400 | S15: 2 | T15: 個 | V15: 2 | W15: 個 | Y15: 2 | Z15: 個 | AB15: 2 | AC15: 個
B16: 玉田辰次 | C16: 1 | D16: 個 | F16: 1 | G16: 個 | I16: 1 | J16: 個 | L16: 1 | M16: 個 | O16: =(C16+F16+I16+L16)*600 -> 2400 | S16: 1 | T16: 個 | V16: 2 | W16: 個 | Y16: 1 | Z16: 個 | AB16: 2 | AC16: 個
B17: 澁谷一央 | C17: 2 | D17: 個 | F17: 2 | G17: 個 | I17: 2 | J17: 個 | L17: 2 | M17: 個 | O17: =(C17+F17+I17+L17)*600 -> 4800 | S17: 1 | T17: 個 | W17: 個 | Y17: 1 | Z17: 個 | AC17: 個
B18: 福永かおる | C18: 2 | D18: 個 | F18: 2 | G18: 個 | I18: 2 | J18: 個 | L18: 2 | M18: 個 | O18: =(C18+F18+I18+L18)*600 -> 4800 | S18: 6 | T18: 個 | W18: 個 | Y18: 6 | Z18: 個 | AC18: 個
B19: 中島靖弘 | C19: 1 | D19: 個 | F19: 1 | G19: 個 | I19: 1 | J19: 個 | L19: 1 | M19: 個 | O19: =(C19+F19+I19+L19)*600 -> 2400 | S19: 3 | T19: 個 | V19: 3 | W19: 個 | Y19: 3 | Z19: 個 | AB19: 3 | AC19: 個
B20: 坂本義則 | C20: 2 | D20: 個 | F20: 2 | G20: 個 | I20: 2 | J20: 個 | L20: 2 | M20: 個 | O20: =(C20+F20+I20+L20)*600 -> 4800 | S20: 3 | T20: 個 | V20: 3 | W20: 個 | Y20: 3 | Z20: 個 | AB20: 3 | AC20: 個
B21: 和田英之 | C21: 1 | D21: 個 | F21: 1 | G21: 個 | I21: 1 | J21: 個 | L21: 1 | M21: 個 | O21: =(C21+F21+I21+L21)*600 -> 2400 | S21: 3 | T21: 個 | V21: 3 | W21: 個 | Y21: 3 | Z21: 個 | AB21: 3 | AC21: 個
B22: 金城亮吉 | C22: 5 | D22: 個 | F22: 5 | G22: 個 | I22: 5 | J22: 個 | M22: 個 | O22: =(C22+F22+I22+L22)*600 -> 9000 | S22: 10 | T22: 個 | V22: 10 | W22: 個 | Y22: 10 | Z22: 個 | AB22: 10 | AC22: 個
B23: 小島太一 | C23: 1 | D23: 個 | F23: 1 | G23: 個 | I23: 1 | J23: 個 | L23: 1 | M23: 個 | O23: =(C23+F23+I23+L23)*600 -> 2400 | S23: 1 | T23: 個 | V23: 1 | W23: 個 | Y23: 1 | Z23: 個 | AB23: 1 | AC23: 個
B24: 奥本 | D24: 個 | F24: 2 | G24: 個 | J24: 個 | M24: 個 | O24: =(C24+F24+I24+L24)*600 -> 1200 | S24: 6 | T24: 個 | V24: 6 | W24: 個 | Y24: 6 | Z24: 個 | AB24: 6 | AC24: 個
B25: 寺尾 | C25: 2 | D25: 個 | F25: 2 | G25: 個 | I25: 2 | J25: 個 | L25: 2 | M25: 個 | O25: =(C25+F25+I25+L25)*600 -> 4800 | S25: 3 | T25: 個 | W25: 個 | Y25: 3 | Z25: 個 | AC25: 個
B26: 黒井 | C26: 10 | D26: 個 | F26: 10 | G26: 個 | I26: 10 | J26: 個 | L26: 10 | M26: 個 | O26: =(C26+F26+I26+L26)*600 -> 24000 | S26: 1 | T26: 個 | W26: 個 | Y26: 1 | Z26: 個 | AC26: 個
B27: 二木 | C27: 3 | D27: 個 | F27: 3 | G27: 個 | I27: 3 | J27: 個 | L27: 3 | M27: 個 | O27: =(C27+F27+I27+L27)*600 -> 7200 | S27: 1 | T27: 個 | W27: 個 | Y27: 1 | Z27: 個 | AC27: 個
D28: 個 | G28: 個 | J28: 個 | M28: 個 | O28: =(C28+F28+I28+L28)*600 -> 0 | S28: 1 | T28: 個 | W28: 個 | Y28: 1 | Z28: 個 | AC28: 個
D29: 個 | G29: 個 | J29: 個 | M29: 個 | O29: =(C29+F29+I29+L29)*600 -> 0 | S29: 1 | T29: 個 | W29: 個 | Y29: 1 | Z29: 個 | AC29: 個
D30: 個 | G30: 個 | J30: 個 | M30: 個 | O30: =(C30+F30+I30+L30)*600 -> 0 | S30: 5 | T30: 個 | V30: 5 | W30: 個 | Y30: 5 | Z30: 個 | AB30: 5 | AC30: 個
D31: 個 | G31: 個 | J31: 個 | M31: 個 | O31: =(C31+F31+I31+L31)*600 -> 0 | T31: 個 | W31: 個 | Z31: 個 | AC31: 個
D32: 個 | G32: 個 | J32: 個 | M32: 個 | O32: =(C32+F32+I32+L32)*600 -> 0 | T32: 個 | W32: 個 | Z32: 個 | AC32: 個
D33: 個 | G33: 個 | J33: 個 | M33: 個 | O33: =(C33+F33+I33+L33)*600 -> 0 | T33: 個 | W33: 個 | Z33: 個 | AC33: 個
D34: 個 | G34: 個 | J34: 個 | M34: 個 | O34: =(C34+F34+I34+L34)*600 -> 0
D35: 個 | G35: 個 | J35: 個 | M35: 個 | O35: =(C35+F35+I35+L35)*600 -> 0 | T35: 個 | W35: 個 | Z35: 個 | AC35: 個
D36: 個 | G36: 個 | J36: 個 | M36: 個 | O36: =(C36+F36+I36+L36)*600 -> 0 | T36: 個 | W36: 個 | Z36: 個 | AC36: 個
C37: =SUM(C2:C36) -> 73 | D37: 個 | F37: =SUM(F2:F36) -> 70 | G37: 個 | I37: =SUM(I2:I36) -> 67 | J37: 個 | L37: =SUM(L2:L36) -> 55 | M37: 個 | O37: =SUM(O2:O36) -> 159000 | S37: =SUM(S2:S36) -> 85 | T37: 個 | V37: =SUM(V2:V36) -> 72 | W37: 個 | Y37: =SUM(Y2:Y36) -> 85 | Z37: 個 | AB37: =SUM(AB2:AB36) -> 70 | AC37: 個
S40: =C37+F37+I37+L37 -> 265

Sheet 2018領収書 
A1: ='神農会弁当 2018'!A2 -> 田中屋本店 | M1: 平成30年2月18・19日
B2: ='神農会弁当 2018'!A2:B2 -> 西田弘行 | G2: 様
A4: 領 収 書
F6: ￥ | G6: ='神農会弁当 2018'!O2 -> 3600 | L6: ※
D7: 但し：お弁当代金として上記正に領収いたしました。
I9: 宗佐厄神八幡神社露店運営協議会 ㊞
A12: ='神農会弁当 2018'!A3 -> 大黒食品 | M12: =M1 -> 平成30年2月18・19日
B13: ='神農会弁当 2018'!B3 -> 古志利克 | G13: 様
A15: 領 収 書
F17: ￥ | G17: ='神農会弁当 2018'!O3 -> 7200 | L17: ※
D18: 但し：お弁当代金として上記正に領収いたしました。
I20: 宗佐厄神八幡神社露店運営協議会 ㊞
A23: ='神農会弁当 2018'!A4 -> なおくら | M23: =M12 -> 平成30年2月18・19日
B24: ='神農会弁当 2018'!B4 -> 畠山尚志 | G24: 様
A26: 領 収 書
F28: ￥ | G28: ='神農会弁当 2018'!O4 -> 9600 | L28: ※
D29: 但し：お弁当代金として上記正に領収いたしました。
I31: 宗佐厄神八幡神社露店運営協議会 ㊞
A34: ='神農会弁当 2018'!A5 -> 北村商事 | M34: =M23 -> 平成30年2月18・19日
B35: ='神農会弁当 2018'!B5 -> 北村雅利 | G35: 様
A37: 領 収 書
F39: ￥ | G39: ='神農会弁当 2018'!O5 -> 4800 | L39: ※
D40: 但し：お弁当代金として上記正に領収いたしました。
I42: 宗佐厄神八幡神社露店運営協議会 ㊞
A43: ='神農会弁当 2018'!A6 -> 古賀家 | M43: =M34 -> 平成30年2月18・19日
B44: ='神農会弁当 2018'!B6 -> 古賀敏憲 | G44: 様
A46: 領 収 書
F48: ￥ | G48: ='神農会弁当 2018'!O6 -> 4800 | L48: ※
D49: 但し：お弁当代金として上記正に領収いたしました。
I51: 宗佐厄神八幡神社露店運営協議会 ㊞
A54: ='神農会弁当 2018'!A8 -> 中岡園芸 | M54: =M43 -> 平成30年2月18・19日
B55: ='神農会弁当 2018'!B8 -> 中岡弘美 | G55: 様
A57: 領 収 書
F59: ￥ | G59: ='神農会弁当 2018'!O8 -> 2400 | L59: ※
D60: 但し：お弁当代金として上記正に領収いたしました。
I62: 宗佐厄神八幡神社露店運営協議会 ㊞
A65: ='神農会弁当 2018'!A10 -> 小木曽陶器 | M65: =M54 -> 平成30年2月18・19日
B66: ='神農会弁当 2018'!B10 -> 小木曽幹夫 | G66: 様
A68: 領 収 書
F70: ￥ | G70: ='神農会弁当 2018'!O10 -> 2400 | L70: ※
...

Sheet 2018引換券
A1: ='神農会弁当 2018'!A2:B2 -> 田中屋本店 | C1: =A1 -> 田中屋本店 | E1: =A1 -> 田中屋本店 | G1: =A1 -> 田中屋本店
A2: ='神農会弁当 2018'!B2 -> 西田弘行 | C2: =A2 -> 西田弘行 | E2: =A2 -> 西田弘行 | G2: =A2 -> 西田弘行
A3: お弁当引換券 | C3: お弁当引換券 | E3: お弁当引換券 | G3: お弁当引換券
A4: 18日（昼） | C4: 18日（夜） | E4: 19日（昼） | G4: 19日（夜）
A5: ='神農会弁当 2018'!C2 -> 3 | C5: ='神農会弁当 2018'!F2 -> 0 | E5: ='神農会弁当 2018'!I2 -> 3 | G5: ='神農会弁当 2018'!L2 -> 0
A8: ='神農会弁当 2018'!A3 -> 大黒食品 | C8: =A8 -> 大黒食品 | E8: =A8 -> 大黒食品 | G8: =A8 -> 大黒食品
A9: ='神農会弁当 2018'!B3 -> 古志利克 | C9: =A9 -> 古志利克 | E9: =A9 -> 古志利克 | G9: =A9 -> 古志利克
A10: お弁当引換券 | C10: お弁当引換券 | E10: お弁当引換券 | G10: お弁当引換券
A11: 18日（昼） | C11: 18日（夜） | E11: 19日（昼） | G11: 19日（夜）
A12: ='神農会弁当 2018'!C3 -> 6 | C12: ='神農会弁当 2018'!F3 -> 6 | E12: ='神農会弁当 2018'!I3 -> 0 | G12: ='神農会弁当 2018'!L3 -> 0
A15: ='神農会弁当 2018'!A4 -> なおくら | C15: =A15 -> なおくら | E15: =A15 -> なおくら | G15: =A15 -> なおくら
A16: ='神農会弁当 2018'!B4 -> 畠山尚志 | C16: =A16 -> 畠山尚志 | E16: =A16 -> 畠山尚志 | G16: =A16 -> 畠山尚志
A17: お弁当引換券 | C17: お弁当引換券 | E17: お弁当引換券 | G17: お弁当引換券
A18: 18日（昼） | C18: 18日（夜） | E18: 19日（昼） | G18: 19日（夜）
A19: ='神農会弁当 2018'!C4 -> 4 | C19: ='神農会弁当 2018'!F4 -> 4 | E19: ='神農会弁当 2018'!I4 -> 4 | G19: ='神農会弁当 2018'!L4 -> 4
A22: ='神農会弁当 2018'!A5 -> 北村商事 | C22: =A22 -> 北村商事 | E22: =A22 -> 北村商事 | G22: =A22 -> 北村商事
A23: ='神農会弁当 2018'!B5 -> 北村雅利 | C23: =A23 -> 北村雅利 | E23: =A23 -> 北村雅利 | G23: =A23 -> 北村雅利
A24: お弁当引換券 | C24: お弁当引換券 | E24: お弁当引換券 | G24: お弁当引換券
A25: 18日（昼） | C25: 18日（夜） | E25: 19日（昼） | G25: 19日（夜）
A26: ='神農会弁当 2018'!C5 -> 2 | C26: ='神農会弁当 2018'!F5 -> 2 | E26: ='神農会弁当 2018'!I5 -> 2 | G26: ='神農会弁当 2018'!L5 -> 2
A29: ='神農会弁当 2018'!A6 -> 古賀家 | C29: =A29 -> 古賀家 | E29: =A29 -> 古賀家 | G29: =A29 -> 古賀家
A30: ='神農会弁当 2018'!B6 -> 古賀敏憲 | C30: =A30 -> 古賀敏憲 | E30: =A30 -> 古賀敏憲 | G30: =A30 -> 古賀敏憲
A31: お弁当引換券 | C31: お弁当引換券 | E31: お弁当引換券 | G31: お弁当引換券
A32: 18日（昼） | C32: 18日（夜） | E32: 19日（昼） | G32: 19日（夜）
A33: ='神農会弁当 2018'!C6 -> 2 | C33: ='神農会弁当 2018'!F6 -> 2 | E33: ='神農会弁当 2018'!I6 -> 2 | G33: ='神農会弁当 2018'!L6 -> 2
A36: ='神農会弁当 2018'!A7 -> 大清食品 | C36: =A36 -> 大清食品 | E36: =A36 -> 大清食品 | G36: =A36 -> 大清食品
A37: ='神農会弁当 2018'!B7 -> 大角 清 | C37: =A37 -> 大角 清 | E37: =A37 -> 大角 清 | G37: =A37 -> 大角 清
A38: お弁当引換券 | C38: お弁当引換券 | E38: お弁当引換券 | G38: お弁当引換券
A39: 18日（昼） | C39: 18日（夜） | E39: 19日（昼） | G39: 19日（夜）
A40: ='神農会弁当 2018'!C7 -> 3 | C40: ='神農会弁当 2018'!F7 -> 3 | E40: ='神農会弁当 2018'!I7 -> 3 | G40: ='神農会弁当 2018'!L7 -> 3
A43: ='神農会弁当 2018'!A8 -> 中岡園芸 | C43: =A43 -> 中岡園芸 | E43: =A43 -> 中岡園芸 | G43: =A43 -> 中岡園芸
A44: ='神農会弁当 2018'!B8 -> 中岡弘美 | C44: =A44 -> 中岡弘美 | E44: =A44 -> 中岡弘美 | G44: =A44 -> 中岡弘美
A45: お弁当引換券 | C45: お弁当引換券 | E45: お弁当引換券 | G45: お弁当引換券
A46: 18日（昼） | C46: 18日（夜） | E46: 19日（昼） | G46: 19日（夜）
A47: ='神農会弁当 2018'!C8 -> 2 | C47: ='神農会弁当 2018'!F8 -> 0 | E47: ='神農会弁当 2018'!I8 -> 2 | G47: ='神農会弁当 2018'!L8 -> 0
A50: ='神農会弁当 2018'!A9 -> 小林商店 | C50: =A50 -> 小林商店 | E50: =A50 -> 小林商店 | G50: =A50 -> 小林商店
A51: ='神農会弁当 2018'!B9 -> 小林満男 | C51: =A51 -> 小林満男 | E51: =A51 -> 小林満男 | G51: =A51 -> 小林満男
A52: お弁当引換券 | C52: お弁当引換券 | E52: お弁当引換券 | G52: お弁当引換券
A53: 18日（昼） | C53: 18日（夜） | E53: 19日（昼） | G53: 19日（夜）
A54: ='神農会弁当 2018'!C9 -> 1 | C54: ='神農会弁当 2018'!F9 -> 1 | E54: ='神農会弁当 2018'!I9 -> 1 | G54: ='神農会弁当 2018'!L9 -> 1
...

Sheet FAX
A1: 0790-38-8554 | U1: 送信日 | X1: 平成 | Z1: 30 | AB1: 年 | AC1: 2 | AE1: 月 | AF1: =+L -> #NAME? | AH1: 日
A2: ＦＡＸ送付状
C4: 送信先：
C5: 【会社名】 | H5: ほっともっと 加西北条店 | Q5: 御中 | W5: 送付枚数： | AA5: 本状含み | AD5: 1 | AF5: 枚
C7: 【ご担当者】 | H7: 店長 | O7: 様 | AX7: 関西パトロール：尾崎さん（09069815853）
S9: 送信元：
B10: 拝啓 | T10: 【会社名】 | X10: CSI Lead
B11: 貴社ますますご清栄のこととお慶び申し上げます。 | T11: 【会社住所】 | AJ11: =C23 -> 露店運営 協議会 | AR11: =R26 -> 303 | AW11: 個 | BA11: =C28 -> CSILead | BI11: 160 | BN11: 個
B12: 平素は格別のご高配を賜り厚くお礼申し上げます。 | T12: 兵庫県姫路市飾磨区今在家北2-69
B13: 下記の通りＦＡＸにて送信致しますので | T13: 【担当者名】 | X13: 大崎
B14: ご査収の程お願い申し上げます。 | X14: 080-3036-3821
B15: 敬具 | AJ15: 共伸電気 | AR15: =R36 -> 16 | AW15: 個
B16: 件 名 | J16: 2月18日現在の発注合計数
C19: いつもお世話になっております。 | AR19: =AR11+AR15 -> 319 | AW19: 個
C20: 昨日の変更から、その後変更はありません。
C21: 受けｔ理事の隊長を下記の方となります。
C23: 露店運営 協議会 | G23: 18 | I23: 日 | J23: 昼 | L23: ='神農会弁当 2018'!C37 -> 73 | O23: 個
J24: 夜 | L24: 84 | O24: 個 | R24: 500
G25: 19 | I25: 日 | J25: 昼 | L25: 79 | O25: 個 | R25: 合計 | V25: 支払い金額 | AL25: =AR19 -> 319 | AQ25: × | AS25: 500 | AW25: ＝ | AY25: =AL25*AS25 -> 159500
J26: 夜 | L26: 67 | O26: 個 | R26: =L23+L24+L25+L26 -> 303 | V26: =R24*R26 -> 151500
C28: CSILead | G28: 18 | I28: 日 | J28: 昼 | L28: 40 | O28: 個
J29: 夜 | L29: 40 | O29: 個 | R29: 700 | AL29: 160 | AQ29: × | AS29: 700 | AW29: ＝ | AY29: =AL29*AS29 -> 112000
G30: 19 | I30: 日 | J30: 昼 | L30: 40 | O30: 個 | R30: 合計 | V30: 支払い金額
J31: 夜 | L31: 40 | O31: 個 | R31: =L28+L29+L31+L30 -> 160 | V31: =R29*R31 -> 112000
C33: 共伸電気 | G33: 18 | I33: 日 | J33: 昼 | L33: 4 | O33: 個 | AL33: 370 | AQ33: × | AS33: 600 | AW33: ＝ | AY33: =AL33*AS33 -> 222000
J34: 夜 | L34: 4 | O34: 個 | R34: 500 | AB34: 支払い合計
G35: 19 | I35: 日 | J35: 昼 | L35: 4 | O35: 個 | R35: 合計 | V35: 支払い金額 | AB35: =V26+V31+V36 -> 271500
J36: 夜 | L36: 4 | O36: 個 | R36: =L33+L34+L36+L35 -> 16 | V36: =R34*R36 -> 8000
C37: 警備隊長 | AY37: =AY25+AY29 -> 271500
C38: 関西パトロール：尾崎さん（09069815853）
M44: 最新

Sheet 201経理
A1: 露店協議会 | F1: お弁当
A2: 岸本商店 | C2: 48000 | F2: 303 | G2: 個 | H2: 500 | I2: =F2*H2 -> 151500
A3: 石井 | C3: 24000 | F3: 16 | G3: 個 | H3: 500 | I3: =F3*H3 -> 8000
A4: 五島一郎 | C4: 144000 | I4: =SUM(I2:I3) -> 159500
A5: 杉本商店 | C5: 32000
A6: 井上 | C6: 8000
A7: 名主川 | C7: 24000
A8: 寺田 | C8: 48000
A9: 平井 | C9: 48000
A10: 二木 | C10: 72000
A11: 裙本 | C11: 116000
C12: =SUM(C2:C11) -> 564000

Sheet バイト
Q2: 43152
B3: 増本由紀子 | E3: 殿
B5: 日付 | E5: 時間 | I5: 単価 | L5: 残業単価 | O5: 時間 | Q5: 残業 | S5: 日給
B6: 43447 | E6: 11:00～03:00 | I6: 850 | O6: 4 | P6: H | R6: H | S6: =I6*O6+L6*Q6 -> 3400
B7: 43448 | E7: 14:00～19:00 | I7: 850 | O7: 5 | P7: H | R7: H | S7: =I7*O7+L7*Q7 -> 4250
B8: 43449 | E8: 10:00～16:00 | I8: 850 | O8: 6 | P8: H | R8: H | S8: =I8*O8+L8*Q8 -> 5100
B9: 43450 | E9: 12:00～17:30 | I9: 850 | O9: 5.5 | P9: H | R9: H | S9: =I9*O9+L9*Q9 -> 4675
B10: 43451 | E10: 09:30～17:30 | I10: 850 | O10: 8 | P10: H | R10: H | S10: =I10*O10+L10*Q10 -> 6800
B11: 43452 | E11: 10:00～17:30 | I11: 850 | O11: 6.5 | P11: H | R11: H | S11: =I11*O11+L11*Q11 -> 5525
B12: 43460 | E12: 10:00～17:00 | I12: 850 | O12: 6 | P12: H | R12: H | S12: =I12*O12+L12*Q12 -> 5100
B13: 43463 | E13: 10:00～17:00 | I13: 850 | O13: 6 | P13: H | R13: H | S13: =I13*O13+L13*Q13 -> 5100
B14: 43101 | P14: H | R14: H | S14: 5000
B15: 43102 | P15: H | R15: H | S15: 5000
B16: 43103 | P16: H | R16: H | S16: 5000
B17: 43104 | P17: H | R17: H | S17: 5000
B18: 43142 | E18: 10:30～17:00 | I18: 850 | O18: 5.5 | P18: H | R18: H | S18: =I18*O18+L18*Q18 -> 4675
B19: 43143 | E19: 10:00～17:00 | I19: 850 | O19: 5 | P19: H | R19: H | S19: =I19*O19+L19*Q19 -> 4250
B20: 43149 | E20: 13:00～16:00//18:00～22:00 | I20: 850 | O20: 7 | P20: H | R20: H | S20: =I20*O20+L20*Q20 -> 5950
B21: 43150 | E21: 18:00～21:30 | I21: 850 | O21: 3.5 | P21: H | R21: H | S21: =I21*O21+L21*Q21 -> 2975
S22: =SUM(S6:S21) -> 77800
O23: 12/30先渡し | S23: 10000
S24: =S22-S23 -> 67800
A26: 機種変更代 | E26: 10000 | I26: 金額不明
A27: 携帯代/保険代 | E27: 34000 | I27: 5万円（12/30受け取り）
Q32: 42419
B33: 大崎和哉 | E33: 殿
B35: 日付 | E35: 時間 | I35: 単価 | L35: 残業単価 | O35: 時間 | Q35: 残業 | S35: 日給
B36: 43142 | E36: 09:00～17:00 | I36: 1250 | L36: 1875 | O36: 8 | P36: H | R36: H | S36: =I36*O36+L36*Q36 -> 10000
B37: 43143 | E37: 09:00～17:00 | I37: 1250 | L37: 1875 | O37: 8 | P37: H | R37: H | S37: =I37*O37+L37*Q37 -> 10000
B38: 交通費
S39: =SUM(S36:S38) -> 20000
Q41: 42419
B42: 大崎宏稀 | E42: 殿
B44: 日付 | E44: 時間 | I44: 単価 | L44: 残業単価 | O44: 時間 | Q44: 残業 | S44: 日給
B45: 43142 | E45: 09:00～17:00 | I45: 1250 | L45: 1875 | O45: 8 | P45: H | R45: H | S45: =I45*O45+L45*Q45 -> 10000
B46: 43143 | E46: 09:00～17:00 | I46: 1250 | L46: 1875 | O46: 8 | P46: H | R46: H | S46: =I46*O46+L46*Q46 -> 10000
B47: 43151 | P47: H | R47: H | S47: 10000
S48: =I48 -> 0
S49: =SUM(S45:S48) -> 30000

Sheet 2018拍子 (2)
A1: 事業所名 | B1: 石井商店 | E1: 事業所名 | F1: 広島屋 | I1: 事業所名 | M1: 事業所名 | Q1: 事業所名 | R1: 門脇商事 | U1: 事業所名 | V1: 大黒食品 | Y1: 事業所名 | Z1: 福田商事 | AC1: 事業所名 | AD1: 二木商事 | AG1: 事業所名
A3: 代表者 | B3: 石井偵介 | E3: 代表者 | F3: 安永智美 | I3: 代表者 | J3: 岡田貴久 | M3: 代表者 | N3: 金谷栄造 | Q3: 代表者 | U3: 代表者 | Y3: 代表者 | AC3: 代表者 | AD3: 二木茂樹 | AG3: 代表者
A4: 責任者 補助者 | E4: 責任者 補助者 | F4: 玉田辰次 | I4: 責任者 補助者 | J4: 小瀧幸子 | M4: 責任者 補助者 | N4: 田中 正 | Q4: 責任者 補助者 | R4: 門脇嘉子 | U4: 責任者 補助者 | V4: 古志利克 | Y4: 責任者 補助者 | Z4: 森 紘嵩 | AA4: 川口 恵 | AC4: 責任者 補助者 | AD4: 二木茂樹 | AG4: 責任者 補助者
F5: 大西理奈 | J5: 藤廣瑞樹 | R5: 池下泰子 | V5: 中川 真 | Z5: 福田健士郎 | AA5: 澤田和俊 | AD5: 津田久実
F6: 福永和実 | R6: 久保睦美 | V6: 北井浩行 | Z6: 服部達哉 | AA6: 岡崎信人 | AD6: 竹内富子
F7: 大西雅弥 | R7: 懸樋拓司（かけひ） | V7: 斉藤将之 | Z7: 牧野政美
R8: 池下一郎 | V8: 東田宗康 | Z8: 大西美幸
R9: 岩水麻衣 | V9: 北井久子 | Z9: 谷口敏宏
R10: 大工和俊 | V10: 増田眞一 | Z10: 宮内幸一郎
A12: 販売品目 許可証 | B12: 生姜漬//納豆豆//玉色豆 | E12: 販売品目 許可証 | F12: イカ焼き | G12: 東播(加健） ４０１－２３１ | I12: 販売品目 許可証 | J12: たい焼き | K12: 神北（宝健） ３－２５ | M12: 販売品目 許可証 | N12: カステラ | O12: 中播（中健） １２－１０ | Q12: 販売品目 許可証 | R12: リンゴ飴 | S12: 神北（宝健） １－９０ | U12: 販売品目 許可証 | V12: 福玉焼 | W12: 東播（明健） ５１４７３ | Y12: 販売品目 許可証 | Z12: たこ焼き | AA12: 中播（中健） １１－２９ | AC12: 販売品目 許可証 | AD12: はしまき | AE12: 西播(龍健） ７００－８９ | AG12: 販売品目 許可証
F13: イカ焼き | G13: 東播(加健） ４０１－１７８ | J13: 大福 | K13: 神北（宝健） １－６４ | R13: 菓子（その他） | S13: 神北（宝健） １－89 | V13: あんまき | W13: 東播（明健） ５１４７３ | Z13: カステラ | AA13: 中播（中健） １２－２１ | AD13: はしまき | AE13: 西播(龍健） ７００－９５
J14: スマートボール | R14: お好み焼き | S14: 神北（宝健） 3-4 | V14: 福玉焼 | W14: 東播（明健） ５１４７３ | Z14: リンゴ飴 | AA14: 西播(龍健） ７０１－１９ | AD14: ボールすくい
R15: からあげ | Z15: から揚げ | AA15: 西播(龍健） ７００－７２
Z16: から揚げ | AA16: 中播（中健） １２－７１
Z17: お好み焼き | AA17: 中播（中健） １１－３５
Z18: カステラ | AA18: 中播（中健） １２－１４
Z19: たい焼き | AA19: 西播(龍健） ７００－６８
A21: お弁当 | B21: 18日 | C21: 個 | D21: 個 | E21: お弁当 | F21: 18日 | G21: 個 | H21: 個 | I21: お弁当 | J21: 18日 | K21: 個 | L21: 個 | M21: お弁当 | N21: 18日 | O21: 個 | P21: 個 | Q21: お弁当 | R21: 18日 | S21: 個 | T21: 個 | U21: お弁当 | V21: 18日 | W21: 個 | X21: 個 | Y21: お弁当 | Z21: 18日 | AA21: 個 | AB21: 個 | AC21: お弁当 | AD21: 18日 | AE21: 個 | AF21: 個 | AG21: お弁当 | AH21: 18日 | AI21: 個 | AJ21: 個
B22: 19日 | C22: 個 | D22: 個 | F22: 19日 | G22: 個 | H22: 個 | J22: 19日 | K22: 個 | L22: 個 | N22: 19日 | O22: 個 | P22: 個 | R22: 19日 | S22: 個 | T22: 個 | V22: 19日 | W22: 個 | X22: 個 | Z22: 19日 | AA22: 個 | AB22: 個 | AD22: 19日 | AE22: 個 | AF22: 個 | AH22: 19日 | AI22: 個 | AJ22: 個
A23: 事業所名 | E23: 事業所名 | F23: 岸本商店//猿橋商店 | I23: 事業所名 | M23: 事業所名 | Q23: 事業所名 | R23: かまくら商店 | U23: 事業所名 | V23: 北村商店 | Y23: 事業所名 | Z23: 圓福寺商店//金城商店//芳川商店 | AC23: 事業所名 | AD23: 古賀家 | AG23: 事業所名
A25: 代表者 | B25: 裙本和幸（つまもと） | E25: 代表者 | F25: 岸本雅文 | I25: 代表者 | J25: 杉本誠司 | M25: 代表者 | N25: 亀井勝典 | Q25: 代表者 | U25: 代表者 | V25: 北井俊春 | Y25: 代表者 | AC25: 代表者 | AD25: 古賀敏憲 | AG25: 代表者
A26: 責任者 補助者 | B26: 是川昌仁 | E26: 代表者 | F26: 猿橋普子 | I26: 責任者 補助者 | J26: 杉本竜夜 | M26: 責任者 補助者 | N26: 亀井稔子 | Q26: 責任者 補助者 | R26: 伊藤哲也 | U26: 責任者 補助者 | V26: 北井俊春 | W26: 河合成展 | Y26: 責任者 補助者 | Z26: 圓福寺一郎 | AC26: 責任者 補助者 | AD26: 古賀敏憲 | AG26: 責任者 補助者
B27: 岡崎高志 | E27: 責任者 補助者 | R27: 大内智代 | V27: 安積千恵子 | W27: 石井雅也 | Z27: 金城亮吉（あきよし） | AD27: 大月彰太
B28: 黒田茉弥 | R28: 石井和美 | V28: 長尾清子 | W28: 斎藤治美 | Z28: 芳川伸啓（のぶひろ） | AD28: 前山めぐみ
B29: 多田玲奈 | R29: 伊藤哲也 | V29: 團 勝一
B30: 裙本 修 | R30: 鎌倉みゆき | V30: 木村義忠
B31: 安田幸恵 | V31: 北村幸二
B32: アカギュル・イスマイル | V32: 七村健次
A34: 販売品目 許可証 | B34: 茶店 | C34: 東播(加健） ４０１－３６０ | E34: 販売品目 許可証 | F34: 射的 | I34: 販売品目 許可証 | J34: イカ焼き | K34: 北神(宝健） １－６２ | M34: 販売品目 許可証 | N34: 塩干 | O34: いりこ/ちりめんじゃこ | Q34: 販売品目 許可証 | R34: 酒まんじゅう | U34: 販売品目 許可証 | V34: 茶店 | W34: 中播（中健） １１－３２ | Y34: 販売品目 許可証 | Z34: かすてら | AA34: 神南（芦健） ３－３８ | AC34: 販売品目 許可証 | AD34: 厄除けまんじゅう | AE34: 東播（加健） ４０１－３７１ | AG34: 販売品目 許可証
B35: 栗まんじゅう | C35: 東播(加健） ４０３－１４ | F35: ボール投げ | J35: カステラ | K35: 北神(宝健） ３－９６ | R35: たこ焼き | V35: 大判焼き | W35: 中播（中健） １２－１１ | Z35: かすてら | AA35: 北神（伊健） ３－２２ | AD35: みたらしだんご | AE35: 東播（加健） ４０３－４７
B36: 駅そば | C36: 東播(加健） ４０１－３６０ | Z36: かすてら | AA36: 神南（芦健） ３－３９ | AD36: わらびもち
B37: ケバブ | C37: 西播（龍健） ７００－５２
A43: お弁当 | B43: 18日 | C43: 個 | D43: 個 | E43: お弁当 | F43: 18日 | G43: 個 | H43: 個 | I43: お弁当 | J43: 18日 | K43: 個 | L43: 個 | M43: お弁当 | N43: 18日 | O43: 個 | P43: 個 | Q43: お弁当 | R43: 18日 | S43: 個 | T43: 個 | U43: お弁当 | V43: 18日 | W43: 個 | X43: 個 | Y43: お弁当 | Z43: 18日 | AA43: 個 | AB43: 個 | AC43: お弁当 | AD43: 18日 | AE43: 個 | AF43: 個 | AG43: お弁当 | AH43: 18日 | AI43: 個 | AJ43: 個
B44: 19日 | C44: 個 | D44: 個 | F44: 19日 | G44: 個 | H44: 個 | J44: 19日 | K44: 個 | L44: 個 | N44: 19日 | O44: 個 | P44: 個 | R44: 19日 | S44: 個 | T44: 個 | V44: 19日 | W44: 個 | X44: 個 | Z44: 19日 | AA44: 個 | AB44: 個 | AD44: 19日 | AE44: 個 | AF44: 個 | AH44: 19日 | AI44: 個 | AJ44: 個
A45: 事業所名 | E45: 事業所名 | F45: 大清食品 | I45: 事業所名 | M45: 事業所名 | N45: 平井商店 | Q45: 事業所名 | R45: 山下商事 | U45: 事業所名 | V45: 寺田商店 | Y45: 事業所名 | AC45: 事業所名 | AG45: 事業所名
A47: 代表者 | B47: 大西 誠 | E47: 代表者 | F47: 大角 清（だいかく） | I47: 代表者 | J47: 林 延之 | M47: 代表者 | N47: 平井満男 | Q47: 代表者 | U47: 代表者 | V47: 寺田好美 | Y47: 代表者 | Z47: 五島一郎 | AC47: 代表者 | AD47: 奥本保一（やすいち） | AG47: 代表者
A48: 責任者 補助者 | B48: 大西純子 | E48: 責任者 補助者 | F48: 大角良子 | I48: 責任者 補助者 | J48: 岡松 久 | M48: 責任者 補助者 | N48: 農座敏光 | Q48: 責任者 補助者 | R48: 山下伸一 | U48: 責任者 補助者 | V48: 寺田好美 | Y48: 責任者 補助者 | Z48: 五島一郎 | AC48: 責任者 補助者 | AD48: 和田正之 | AG48: 責任者 補助者
B49: 大西拓麿 | F49: 今城綾子 | J49: 岡松末子 | N49: 三橋 徹 | R49: 田村幸子 | V49: 寺田正二 | Z49: 三木 麗 | AD49: 和田景子
F50: 大角光平 | J50: 湊谷敦志（みなとや） | V50: 寺田博子 | Z50: 鶴 直人
Z51: 祖浦節男
...

Sheet なふだ2018 (2)
A1: 氏名 | B1: 石井偵介 | D1: 氏名 | E1: 堤 恵美 | H1: 氏名 | I1: 中瀬慶作 | K1: 氏名 | L1: 大西雅弥 | N1: 氏名 | O1: 佐藤 茂 | Q1: 氏名 | R1: 湊谷敦志 | U1: 氏名 | V1: 岡田由利香 | X1: 氏名 | Y1: 寺浦陽二 | AA1: 氏名 | AB1: 岩崎妙子 | AD1: 氏名 | AE1: 岩水麻衣 | AH1: 氏名 | AI1: 田村誠也 | AK1: 氏名 | AL1: 磯山幸子 | AN1: 氏名 | AO1: 増田眞一 | AQ1: 氏名 | AR1: 寺田博子 | AU1: 氏名 | AV1: 南 太一 | AX1: 氏名 | AY1: 岡田信人 | BA1: 氏名 | BB1: 鉄本 翔 | BD1: 氏名 | BE1: 竹内富子 | BH1: 氏名 | BK1: 氏名
A2: 有効期限 | B2: 44985 | D2: 有効期限 | E2: 44985 | H2: 有効期限 | I2: 44985 | K2: 有効期限 | L2: 44985 | N2: 有効期限 | O2: 44985 | Q2: 有効期限 | R2: 44985 | U2: 有効期限 | V2: 44985 | X2: 有効期限 | Y2: 44985 | AA2: 有効期限 | AB2: 44985 | AD2: 有効期限 | AE2: 44985 | AH2: 有効期限 | AI2: 44985 | AK2: 有効期限 | AL2: 44985 | AN2: 有効期限 | AO2: 44985 | AQ2: 有効期限 | AR2: 44985 | AU2: 有効期限 | AV2: 44985 | AX2: 有効期限 | AY2: 44985 | BA2: 有効期限 | BB2: 44985 | BD2: 有効期限 | BE2: 44985 | BH2: 有効期限 | BI2: 44985 | BK2: 有効期限 | BL2: 44985
A3: 氏名 | B3: 裙本和幸 | D3: 氏名 | E3: 澁谷一央 | H3: 氏名 | I3: 東さゆり | K3: 氏名 | L3: 岸本雅文 | N3: 氏名 | O3: 佐藤幸士 | Q3: 氏名 | R3: 大野 創 | U3: 氏名 | V3: 中岡瑞毅 | X3: 氏名 | Y3: 小林誠弥 | AA3: 氏名 | AB3: 寺尾賢一 | AD3: 氏名 | AE3: 大工和俊 | AH3: 氏名 | AI3: 亀井秀明 | AK3: 氏名 | AL3: 石川 弘 | AN3: 氏名 | AO3: 北井俊春 | AQ3: 氏名 | AR3: 畠山尚志 | AU3: 氏名 | AV3: 古志貴志 | AX3: 氏名 | AY3: 圓福寺一郎 | BA3: 氏名 | BB3: 徳永政秀 | BD3: 氏名 | BE3: 古賀敏憲 | BH3: 氏名 | BK3: 氏名
A4: 有効期限 | B4: 44985 | D4: 有効期限 | E4: 44985 | H4: 有効期限 | I4: 44985 | K4: 有効期限 | L4: 44985 | N4: 有効期限 | O4: 44985 | Q4: 有効期限 | R4: 44985 | U4: 有効期限 | V4: 44985 | X4: 有効期限 | Y4: 44985 | AA4: 有効期限 | AB4: 44985 | AD4: 有効期限 | AE4: 44985 | AH4: 有効期限 | AI4: 44985 | AK4: 有効期限 | AL4: 44985 | AN4: 有効期限 | AO4: 44985 | AQ4: 有効期限 | AR4: 44985 | AU4: 有効期限 | AV4: 44985 | AX4: 有効期限 | AY4: 44985 | BA4: 有効期限 | BB4: 44985 | BD4: 有効期限 | BE4: 44985 | BH4: 有効期限 | BI4: 44985 | BK4: 有効期限 | BL4: 44985
A5: 氏名 | B5: 是川昌仁 | D5: 氏名 | E5: 福永かおる | H5: 氏名 | I5: 東鈴之助 | K5: 氏名 | L5: 猿橋普子 | N5: 氏名 | O5: 佐藤幾子 | Q5: 氏名 | R5: 林 純也 | U5: 氏名 | V5: 松永永泰 | X5: 氏名 | Y5: 寺浦明彦 | AA5: 氏名 | AB5: 寺尾覚子 | AD5: 氏名 | AE5: 伊藤哲也 | AH5: 氏名 | AI5: 亀井なおみ | AK5: 氏名 | AL5: 上田八代美 | AN5: 氏名 | AO5: 安積千恵子 | AQ5: 氏名 | AR5: 吉岡宏子 | AU5: 氏名 | AV5: 岡本 康 | AX5: 氏名 | AY5: 金城亮吉 | BA5: 氏名 | BB5: 福山洋和 | BD5: 氏名 | BE5: 大月彰太 | BH5: 氏名 | BK5: 氏名
A6: 有効期限 | B6: 44985 | D6: 有効期限 | E6: 44985 | H6: 有効期限 | I6: 44985 | K6: 有効期限 | L6: 44985 | N6: 有効期限 | O6: 44985 | Q6: 有効期限 | R6: 44985 | U6: 有効期限 | V6: 44985 | X6: 有効期限 | Y6: 44985 | AA6: 有効期限 | AB6: 44985 | AD6: 有効期限 | AE6: 44985 | AH6: 有効期限 | AI6: 44985 | AK6: 有効期限 | AL6: 44985 | AN6: 有効期限 | AO6: 44985 | AQ6: 有効期限 | AR6: 44985 | AU6: 有効期限 | AV6: 44985 | AX6: 有効期限 | AY6: 44985 | BA6: 有効期限 | BB6: 44985 | BD6: 有効期限 | BE6: 44985 | BH6: 有効期限 | BI6: 44985 | BK6: 有効期限 | BL6: 44985
A7: 氏名 | B7: 岡崎高志 | D7: 氏名 | E7: 中島靖弘 | H7: 氏名 | I7: 前田祐甫 | K7: 氏名 | L7: 大角 清 | N7: 氏名 | O7: 志賀一信 | Q7: 氏名 | R7: 真田顕在 | U7: 氏名 | V7: 小木曽幹夫 | X7: 氏名 | Y7: 木林紀貴 | AA7: 氏名 | AB7: 中島逸郎 | AD7: 氏名 | AE7: 大内智代 | AH7: 氏名 | AI7: 西田弘行 | AK7: 氏名 | AL7: 宮本哲也 | AN7: 氏名 | AO7: 長尾清子 | AQ7: 氏名 | AR7: 岸上真人 | AU7: 氏名 | AV7: 原 直之 | AX7: 氏名 | AY7: 芳川伸啓 | BA7: 氏名 | BB7: 名主川清安 | BD7: 氏名 | BE7: 前山めぐみ | BH7: 氏名 | BK7: 氏名
A8: 有効期限 | B8: 44985 | D8: 有効期限 | E8: 44985 | H8: 有効期限 | I8: 44985 | K8: 有効期限 | L8: 44985 | N8: 有効期限 | O8: 44985 | Q8: 有効期限 | R8: 44985 | U8: 有効期限 | V8: 44985 | X8: 有効期限 | Y8: 44985 | AA8: 有効期限 | AB8: 44985 | AD8: 有効期限 | AE8: 44985 | AH8: 有効期限 | AI8: 44985 | AK8: 有効期限 | AL8: 44985 | AN8: 有効期限 | AO8: 44985 | AQ8: 有効期限 | AR8: 44985 | AU8: 有効期限 | AV8: 44985 | AX8: 有効期限 | AY8: 44985 | BA8: 有効期限 | BB8: 44985 | BD8: 有効期限 | BE8: 44985 | BH8: 有効期限 | BI8: 44985 | BK8: 有効期限 | BL8: 44985
A9: 氏名 | B9: 黒田茉莉 | D9: 氏名 | E9: 和田英之 | H9: 氏名 | I9: 新井保子 | K9: 氏名 | L9: 大角良子 | N9: 氏名 | O9: 井上 均 | Q9: 氏名 | R9: 黒井慶吾 | U9: 氏名 | V9: 松浦小夜子 | X9: 氏名 | Y9: 鈴木雅弘 | AA9: 氏名 | AB9: 山田千裕 | AD9: 氏名 | AE9: 石井和美 | AH9: 氏名 | AI9: 矢野和紀 | AK9: 氏名 | AL9: 下田正徳 | AN9: 氏名 | AO9: 團 勝一 | AQ9: 氏名 | AR9: 池田龍二 | AU9: 氏名 | AV9: 森 紘嵩 | AX9: 氏名 | AY9: 五島一郎 | BA9: 氏名 | BB9: 大角一郎 | BD9: 氏名 | BE9: 奥本保一 | BH9: 氏名 | BK9: 氏名
A10: 有効期限 | B10: 44985 | D10: 有効期限 | E10: 44985 | H10: 有効期限 | I10: 44985 | K10: 有効期限 | L10: 44985 | N10: 有効期限 | O10: 44985 | Q10: 有効期限 | R10: 44985 | U10: 有効期限 | V10: 44985 | X10: 有効期限 | Y10: 44985 | AA10: 有効期限 | AB10: 44985 | AD10: 有効期限 | AE10: 44985 | AH10: 有効期限 | AI10: 44985 | AK10: 有効期限 | AL10: 44985 | AN10: 有効期限 | AO10: 44985 | AQ10: 有効期限 | AR10: 44985 | AU10: 有効期限 | AV10: 44985 | AX10: 有効期限 | AY10: 44985 | BA10: 有効期限 | BB10: 44985 | BD10: 有効期限 | BE10: 44985 | BH10: 有効期限 | BI10: 44985 | BK10: 有効期限 | BL10: 44985
A11: 氏名 | B11: 多田玲奈 | D11: 氏名 | E11: 黒井栄一郎 | H11: 氏名 | I11: 新井紳助 | K11: 氏名 | L11: 今城綾子 | N11: 氏名 | O11: 井上清子 | Q11: 氏名 | R11: 田水 唯 | U11: 氏名 | V11: 金谷栄造 | X11: 氏名 | Y11: 鈴木知加子 | AA11: 氏名 | AB11: 山田衡一 | AD11: 氏名 | AE11: 鎌倉みゆき | AH11: 氏名 | AI11: 川勝恵理子 | AK11: 氏名 | AL11: 杉山和久 | AN11: 氏名 | AO11: 木村義忠 | AQ11: 氏名 | AR11: 野田伸行 | AU11: 氏名 | AV11: 福田健士郎 | AX11: 氏名 | AY11: 三木 麗 | BA11: 氏名 | BB11: 大西 茂 | BD11: 氏名 | BE11: 和田正之 | BH11: 氏名 | BK11: 氏名
A12: 有効期限 | B12: 44985 | D12: 有効期限 | E12: 44985 | H12: 有効期限 | I12: 44985 | K12: 有効期限 | L12: 44985 | N12: 有効期限 | O12: 44985 | Q12: 有効期限 | R12: 44985 | U12: 有効期限 | V12: 44985 | X12: 有効期限 | Y12: 44985 | AA12: 有効期限 | AB12: 44985 | AD12: 有効期限 | AE12: 44985 | AH12: 有効期限 | AI12: 44985 | AK12: 有効期限 | AL12: 44985 | AN12: 有効期限 | AO12: 44985 | AQ12: 有効期限 | AR12: 44985 | AU12: 有効期限 | AV12: 44985 | AX12: 有効期限 | AY12: 44985 | BA12: 有効期限 | BB12: 44985 | BD12: 有効期限 | BE12: 44985 | BH12: 有効期限 | BI12: 44985 | BK12: 有効期限 | BL12: 44985
A13: 氏名 | B13: 裙本 修 | D13: 氏名 | E13: 市瀬 玲 | H13: 氏名 | I13: 渡邉 淳 | K13: 氏名 | L13: 大角光平 | N13: 氏名 | O13: 岡田貴久 | Q13: 氏名 | R13: 大野しのぶ | U13: 氏名 | V13: 田中 正 | X13: 氏名 | Y13: 生友 哲 | AA13: 氏名 | AB13: 山田善樹 | AD13: 氏名 | AE13: 山下伸一 | AH13: 氏名 | AI13: 西田初子 | AK13: 氏名 | AL13: 上田香奈 | AN13: 氏名 | AO13: 北村幸二 | AQ13: 氏名 | AR13: 鹿野辰也 | AU13: 氏名 | AV13: 服部達哉 | AX13: 氏名 | AY13: 鶴 直人 | BA13: 氏名 | BB13: 佐々木郁夫 | BD13: 氏名 | BE13: 和田景子 | BH13: 氏名 | BK13: 氏名
A14: 有効期限 | B14: 44985 | D14: 有効期限 | E14: 44985 | H14: 有効期限 | I14: 44985 | K14: 有効期限 | L14: 44985 | N14: 有効期限 | O14: 44985 | Q14: 有効期限 | R14: 44985 | U14: 有効期限 | V14: 44985 | X14: 有効期限 | Y14: 44985 | AA14: 有効期限 | AB14: 44985 | AD14: 有効期限 | AE14: 44985 | AH14: 有効期限 | AI14: 44985 | AK14: 有効期限 | AL14: 44985 | AN14: 有効期限 | AO14: 44985 | AQ14: 有効期限 | AR14: 44985 | AU14: 有効期限 | AV14: 44985 | AX14: 有効期限 | AY14: 44985 | BA14: 有効期限 | BB14: 44985 | BD14: 有効期限 | BE14: 44985 | BH14: 有効期限 | BI14: 44985 | BK14: 有効期限 | BL14: 44985
A15: 氏名 | B15: 安田幸恵 | D15: 氏名 | E15: 黒井純子 | H15: 氏名 | I15: 渡邉礼子 | K15: 氏名 | L15: 島林真澄 | N15: 氏名 | O15: 小瀧幸子 | Q15: 氏名 | R15: 益田光徳 | U15: 氏名 | V15: 亀井勝典 | X15: 氏名 | Y15: 生友美穂子 | AA15: 氏名 | AB15: 大森 誠 | AD15: 氏名 | AE15: 田村幸子 | AH15: 氏名 | AI15: 古林 忍 | AK15: 氏名 | AL15: 古志利克 | AN15: 氏名 | AO15: 七村健次 | AQ15: 氏名 | AR15: 北村雅利 | AU15: 氏名 | AV15: 牧野政美 | AX15: 氏名 | AY15: 祖浦節男 | BA15: 氏名 | BB15: 田中順子 | BD15: 氏名 | BH15: 氏名 | BK15: 氏名
A16: 有効期限 | B16: 44985 | D16: 有効期限 | E16: 44985 | H16: 有効期限 | I16: 44985 | K16: 有効期限 | L16: 44985 | N16: 有効期限 | O16: 44985 | Q16: 有効期限 | R16: 44985 | U16: 有効期限 | V16: 44985 | X16: 有効期限 | Y16: 44985 | AA16: 有効期限 | AB16: 44985 | AD16: 有効期限 | AE16: 44985 | AH16: 有効期限 | AI16: 44985 | AK16: 有効期限 | AL16: 44985 | AN16: 有効期限 | AO16: 44985 | AQ16: 有効期限 | AR16: 44985 | AU16: 有効期限 | AV16: 44985 | AX16: 有効期限 | AY16: 44985 | BA16: 有効期限 | BB16: 44985 | BD16: 有効期限 | BE16: 44985 | BH16: 有効期限 | BI16: 44985 | BK16: 有効期限 | BL16: 44985
A17: 氏名 | B17: アカギュル・イスマイル | D17: 氏名 | E17: 冬本崇司 | H17: 氏名 | I17: 大西美佳 | K17: 氏名 | L17: 高見多恵子 | N17: 氏名 | O17: 藤廣瑞樹 | Q17: 氏名 | R17: 益田清子 | U17: 氏名 | V17: 亀井稔子 | X17: 氏名 | Y17: 細川勝彦 | AA17: 氏名 | AB17: 門脇嘉子 | AD17: 氏名 | AE17: 新熊一真 | AH17: 氏名 | AI17: 北岡基樹 | AK17: 氏名 | AL17: 中川 真 | AN17: 氏名 | AO17: 河合成展 | AQ17: 氏名 | AR17: 北村大志 | AU17: 氏名 | AV17: 大西美幸 | AX17: 氏名 | AY17: 江藤 忍 | BA17: 氏名 | BB17: 土倉 大 | BD17: 氏名 | BH17: 氏名 | BK17: 氏名
A18: 有効期限 | B18: 44985 | D18: 有効期限 | E18: 44985 | H18: 有効期限 | K18: 有効期限 | L18: 44985 | N18: 有効期限 | O18: 44985 | Q18: 有効期限 | R18: 44985 | U18: 有効期限 | V18: 44985 | X18: 有効期限 | Y18: 44985 | AA18: 有効期限 | AB18: 44985 | AD18: 有効期限 | AE18: 44985 | AH18: 有効期限 | AI18: 44985 | AK18: 有効期限 | AL18: 44985 | AN18: 有効期限 | AO18: 44985 | AQ18: 有効期限 | AR18: 44985 | AU18: 有効期限 | AV18: 44985 | AX18: 有効期限 | AY18: 44985 | BA18: 有効期限 | BB18: 44985 | BD18: 有効期限 | BE18: 44985 | BH18: 有効期限 | BI18: 44985 | BK18: 有効期限 | BL18: 44985
A19: 氏名 | B19: 大西純子 | D19: 氏名 | E19: 藤林頌一 | H19: 氏名 | I19: 安永智美 | K19: 氏名 | L19: 形見優弥 | N19: 氏名 | O19: 杉本誠司 | Q19: 氏名 | R19: 小林満男 | U19: 氏名 | V19: 平井満男 | X19: 氏名 | Y19: 門脇弘樹 | AA19: 氏名 | AB19: 池下泰子 | AD19: 氏名 | AE19: 田村正信 | AH19: 氏名 | AI19: 森下堅三 | AK19: 氏名 | AL19: 北井浩行 | AN19: 氏名 | AO19: 石井雅也 | AQ19: 氏名 | AR19: 高倉梢吾 | AU19: 氏名 | AV19: 谷口敏宏 | AX19: 氏名 | AY19: 北原澄江 | BA19: 氏名 | BB19: 行武ゆかり | BD19: 氏名 | BH19: 氏名 | BK19: 氏名
A20: 有効期限 | B20: 44985 | D20: 有効期限 | E20: 44985 | H20: 有効期限 | I20: 44985 | K20: 有効期限 | L20: 44985 | N20: 有効期限 | O20: 44985 | Q20: 有効期限 | R20: 44985 | U20: 有効期限 | V20: 44985 | X20: 有効期限 | Y20: 44985 | AA20: 有効期限 | AB20: 44985 | AD20: 有効期限 | AE20: 44985 | AH20: 有効期限 | AI20: 44985 | AK20: 有効期限 | AL20: 44985 | AN20: 有効期限 | AO20: 44985 | AQ20: 有効期限 | AR20: 44985 | AU20: 有効期限 | AV20: 44985 | AX20: 有効期限 | AY20: 44985 | BA20: 有効期限 | BB20: 44985 | BD20: 有効期限 | BE20: 44985 | BH20: 有効期限 | BI20: 44985 | BK20: 有効期限 | BL20: 44985
A21: 氏名 | B21: 大西拓麿 | D21: 氏名 | E21: 神野凪砂 | H21: 氏名 | I21: 玉田辰次 | K21: 氏名 | L21: 井手上国夫 | N21: 氏名 | O21: 杉本竜夜 | Q21: 氏名 | R21: 大谷孝一 | U21: 氏名 | V21: 農座敏光 | X21: 氏名 | Y21: 杉本千鶴子 | AA21: 氏名 | AB21: 久保睦美 | AD21: 氏名 | AE21: 平野寛一 | AH21: 氏名 | AI21: 森下 実 | AK21: 氏名 | AL21: 斉藤将之 | AN21: 氏名 | AO21: 斎藤治美 | AQ21: 氏名 | AR21: 木村吉之 | AU21: 氏名 | AV21: 宮内幸一郎 | AX21: 氏名 | AY21: 三宅英太郎 | BA21: 氏名 | BB21: 行武大輝 | BD21: 氏名 | BH21: 氏名 | BK21: 氏名
A22: 有効期限 | B22: 44985 | D22: 有効期限 | E22: 44985 | H22: 有効期限 | I22: 44985 | K22: 有効期限 | L22: 44985 | N22: 有効期限 | O22: 44985 | Q22: 有効期限 | R22: 44985 | U22: 有効期限 | V22: 44985 | X22: 有効期限 | Y22: 44985 | AA22: 有効期限 | AB22: 44985 | AD22: 有効期限 | AE22: 44985 | AH22: 有効期限 | AI22: 44985 | AK22: 有効期限 | AL22: 44985 | AN22: 有効期限 | AO22: 44985 | AQ22: 有効期限 | AR22: 44985 | AU22: 有効期限 | AV22: 44985 | AX22: 有効期限 | AY22: 44985 | BA22: 有効期限 | BB22: 44985 | BD22: 有効期限 | BE22: 44985 | BH22: 有効期限 | BI22: 44985 | BK22: 有効期限 | BL22: 44985
A23: 氏名 | B23: 堤 寿美 | D23: 氏名 | E23: 黒井栄司 | H23: 氏名 | I23: 大西理奈 | K23: 氏名 | L23: 井手上シズエ | N23: 氏名 | O23: 林 延之 | Q23: 氏名 | R23: 大谷孝志 | U23: 氏名 | V23: 三橋 徹 | X23: 氏名 | Y23: 杉本謙人 | AA23: 氏名 | AB23: 懸樋拓司 | AD23: 氏名 | AE23: 松井和也 | AH23: 氏名 | AI23: 坂本祐太 | AK23: 氏名 | AL23: 東田宗康 | AN23: 氏名 | AO23: 寺田好美 | AQ23: 氏名 | AR23: 西 裕幸 | AU23: 氏名 | AV23: 川口 恵 | AX23: 氏名 | AY23: 山本和男 | BA23: 氏名 | BB23: 二木茂樹 | BD23: 氏名 | BH23: 氏名 | BK23: 氏名
A24: 有効期限 | B24: 44985 | D24: 有効期限 | E24: 44985 | H24: 有効期限 | I24: 44985 | K24: 有効期限 | L24: 44985 | N24: 有効期限 | O24: 44985 | Q24: 有効期限 | R24: 44985 | U24: 有効期限 | V24: 44985 | X24: 有効期限 | Y24: 44985 | AA24: 有効期限 | AB24: 44985 | AD24: 有効期限 | AE24: 44985 | AH24: 有効期限 | AI24: 44985 | AK24: 有効期限 | AL24: 44985 | AN24: 有効期限 | AO24: 44985 | AQ24: 有効期限 | AR24: 44985 | AU24: 有効期限 | AV24: 44985 | AX24: 有効期限 | AY24: 44985 | BA24: 有効期限 | BB24: 44985 | BD24: 有効期限 | BE24: 44985 | BH24: 有効期限 | BI24: 44985 | BK24: 有効期限 | BL24: 44985
A25: 氏名 | B25: 堤 数昌 | D25: 氏名 | E25: 横山 積 | H25: 氏名 | I25: 福永和美 | K25: 氏名 | L25: 中岡弘美 | N25: 氏名 | O25: 岡松 久 | Q25: 氏名 | R25: 大谷美沙 | U25: 氏名 | V25: 畑中美優紀 | X25: 氏名 | Y25: 杉本卓司 | AA25: 氏名 | AB25: 池下一郎 | AD25: 氏名 | AE25: 松岡秀雄 | AH25: 氏名 | AI25: 森下裕三 | AK25: 氏名 | AL25: 北井久子 | AN25: 氏名 | AO25: 寺田正二 | AQ25: 氏名 | AR25: 西岡 裕 | AU25: 氏名 | AV25: 澤田和俊 | AX25: 氏名 | AY25: 奥 博行 | BA25: 氏名 | BB25: 津田久実 | BD25: 氏名 | BH25: 氏名 | BK25: 氏名
A26: 有効期限 | B26: 44985 | D26: 有効期限 | E26: 44985 | H26: 有効期限 | I26: 44985 | K26: 有効期限 | L26: 44985 | N26: 有効期限 | O26: 44985 | Q26: 有効期限 | R26: 44985 | U26: 有効期限 | V26: 44985 | X26: 有効期限 | Y26: 44985 | AA26: 有効期限 | AB26: 44985 | AD26: 有効期限 | AE26: 44985 | AH26: 有効期限 | AI26: 44985 | AK26: 有効期限 | AL26: 44985 | AN26: 有効期限 | AO26: 44985 | AQ26: 有効期限 | AR26: 44985 | AU26: 有効期限 | AV26: 44985 | AX26: 有効期限 | AY26: 44985 | BA26: 有効期限 | BB26: 44985 | BD26: 有効期限 | BE26: 44985 | BH26: 有効期限 | BI26: 44985 | BK26: 有効期限 | BL26: 44985

Sheet なふだ2018
A1: 氏名 | D1: 氏名 | G1: 氏名
A2: 有効期限 | B2: 44985 | D2: 有効期限 | E2: 44985 | G2: 有効期限 | H2: 44985
A3: 氏名 | D3: 氏名 | G3: 氏名
A4: 有効期限 | B4: 44985 | D4: 有効期限 | E4: 44985 | G4: 有効期限 | H4: 44985
A5: 氏名 | D5: 氏名 | G5: 氏名
A6: 有効期限 | B6: 44985 | D6: 有効期限 | E6: 44985 | G6: 有効期限 | H6: 44985
A7: 氏名 | D7: 氏名 | G7: 氏名
A8: 有効期限 | B8: 44985 | D8: 有効期限 | E8: 44985 | G8: 有効期限 | H8: 44985
A9: 氏名 | D9: 氏名 | G9: 氏名
A10: 有効期限 | B10: 44985 | D10: 有効期限 | E10: 44985 | G10: 有効期限 | H10: 44985
A13: 氏名 | D13: 氏名 | G13: 氏名
A14: 有効期限 | B14: 44985 | D14: 有効期限 | E14: 44985 | G14: 有効期限 | H14: 44985
A15: 氏名 | D15: 氏名 | G15: 氏名
A16: 有効期限 | B16: 44985 | D16: 有効期限 | E16: 44985 | G16: 有効期限 | H16: 44985
A17: 氏名 | D17: 氏名 | G17: 氏名
A18: 有効期限 | B18: 44985 | D18: 有効期限 | E18: 44985 | G18: 有効期限 | H18: 44985
A19: 氏名 | D19: 氏名 | G19: 氏名
A20: 有効期限 | B20: 44985 | D20: 有効期限 | E20: 44985 | G20: 有効期限 | H20: 44985
A21: 氏名 | D21: 氏名 | G21: 氏名
A22: 有効期限 | B22: 44985 | D22: 有効期限 | E22: 44985 | G22: 有効期限 | H22: 44985
A23: 氏名 | D23: 氏名 | G23: 氏名
A24: 有効期限 | B24: 44985 | D24: 有効期限 | E24: 44985 | G24: 有効期限 | H24: 44985
A25: 氏名 | D25: 氏名 | G25: 氏名
A26: 有効期限 | B26: 44985 | D26: 有効期限 | E26: 44985 | G26: 有効期限 | H26: 44985
A27: 氏名 | D27: 氏名 | G27: 氏名
A28: 有効期限 | B28: 44985 | D28: 有効期限 | E28: 44985 | G28: 有効期限 | H28: 44985

Sheet 2018拍子
A1: 事業所名 | B1: 石井商店 | E1: 事業所名 | F1: 広島屋 | I1: 事業所名 | M1: 事業所名 | Q1: 事業所名 | R1: 門脇商事 | U1: 事業所名 | V1: 大黒食品 | Y1: 事業所名 | Z1: 福田商事 | AC1: 事業所名 | AD1: 二木商事 | AG1: 事業所名
A3: 代表者 | B3: 石井偵介 | E3: 代表者 | F3: 安永智美 | I3: 代表者 | J3: 岡田貴久 | M3: 代表者 | N3: 金谷栄造 | Q3: 代表者 | U3: 代表者 | Y3: 代表者 | AC3: 代表者 | AD3: 二木茂樹 | AG3: 代表者
A4: 責任者 補助者 | E4: 責任者 補助者 | F4: 玉田辰次 | I4: 責任者 補助者 | J4: 小瀧幸子 | M4: 責任者 補助者 | N4: 田中 正 | Q4: 責任者 補助者 | R4: 門脇嘉子 | U4: 責任者 補助者 | V4: 古志利克 | Y4: 責任者 補助者 | Z4: 森 紘嵩 | AA4: 川口 恵 | AC4: 責任者 補助者 | AD4: 二木茂樹 | AG4: 責任者 補助者
F5: 大西理奈 | J5: 藤廣瑞樹 | R5: 池下泰子 | V5: 中川 真 | Z5: 福田健士郎 | AA5: 澤田和俊 | AD5: 津田久実
F6: 福永和実 | R6: 久保睦美 | V6: 北井浩行 | Z6: 服部達哉 | AA6: 岡崎信人 | AD6: 竹内富子
F7: 大西雅弥 | R7: 懸樋拓司（かけひ） | V7: 斉藤将之 | Z7: 牧野政美
R8: 池下一郎 | V8: 東田宗康 | Z8: 大西美幸
R9: 岩水麻衣 | V9: 北井久子 | Z9: 谷口敏宏
R10: 大工和俊 | V10: 増田眞一 | Z10: 宮内幸一郎
A12: 販売品目 許可証 | B12: 生姜漬//納豆豆//玉色豆 | E12: 販売品目 許可証 | F12: イカ焼き | G12: 東播(加健） ４０１－２３１ | I12: 販売品目 許可証 | J12: たい焼き | K12: 神北（宝健） ３－２５ | M12: 販売品目 許可証 | N12: カステラ | O12: 中播（中健） １２－１０ | Q12: 販売品目 許可証 | R12: リンゴ飴 | S12: 神北（宝健） １－９０ | U12: 販売品目 許可証 | V12: 福玉焼 | W12: 東播（明健） ５１４７３ | Y12: 販売品目 許可証 | Z12: たこ焼き | AA12: 中播（中健） １１－２９ | AC12: 販売品目 許可証 | AD12: はしまき | AE12: 西播(龍健） ７００－８９ | AG12: 販売品目 許可証
F13: イカ焼き | G13: 東播(加健） ４０１－１７８ | J13: 大福 | K13: 神北（宝健） １－６４ | R13: 菓子（その他） | S13: 神北（宝健） １－89 | V13: あんまき | W13: 東播（明健） ５１４７３ | Z13: カステラ | AA13: 中播（中健） １２－２１ | AD13: はしまき | AE13: 西播(龍健） ７００－９５
J14: スマートボール | R14: お好み焼き | S14: 神北（宝健） 3-4 | V14: 福玉焼 | W14: 東播（明健） ５１４７３ | Z14: リンゴ飴 | AA14: 西播(龍健） ７０１－１９ | AD14: ボールすくい
R15: からあげ | Z15: から揚げ | AA15: 西播(龍健） ７００－７２
Z16: から揚げ | AA16: 中播（中健） １２－７１
Z17: お好み焼き | AA17: 中播（中健） １１－３５
Z18: カステラ | AA18: 中播（中健） １２－１４
Z19: たい焼き | AA19: 西播(龍健） ７００－６８
A21: お弁当 | B21: 18日 | C21: 個 | D21: 個 | E21: お弁当 | F21: 18日 | G21: 個 | H21: 個 | I21: お弁当 | J21: 18日 | K21: 個 | L21: 個 | M21: お弁当 | N21: 18日 | O21: 個 | P21: 個 | Q21: お弁当 | R21: 18日 | S21: 個 | T21: 個 | U21: お弁当 | V21: 18日 | W21: 個 | X21: 個 | Y21: お弁当 | Z21: 18日 | AA21: 個 | AB21: 個 | AC21: お弁当 | AD21: 18日 | AE21: 個 | AF21: 個 | AG21: お弁当 | AH21: 18日 | AI21: 個 | AJ21: 個
B22: 19日 | C22: 個 | D22: 個 | F22: 19日 | G22: 個 | H22: 個 | J22: 19日 | K22: 個 | L22: 個 | N22: 19日 | O22: 個 | P22: 個 | R22: 19日 | S22: 個 | T22: 個 | V22: 19日 | W22: 個 | X22: 個 | Z22: 19日 | AA22: 個 | AB22: 個 | AD22: 19日 | AE22: 個 | AF22: 個 | AH22: 19日 | AI22: 個 | AJ22: 個
A23: 事業所名 | E23: 事業所名 | F23: 岸本商店//猿橋商店 | I23: 事業所名 | M23: 事業所名 | Q23: 事業所名 | R23: かまくら商店 | U23: 事業所名 | V23: 北村商店 | Y23: 事業所名 | Z23: 圓福寺商店//金城商店//芳川商店 | AC23: 事業所名 | AD23: 古賀家 | AG23: 事業所名
A25: 代表者 | B25: 裙本和幸（つまもと） | E25: 代表者 | F25: 岸本雅文 | I25: 代表者 | J25: 杉本誠司 | M25: 代表者 | N25: 亀井勝典 | Q25: 代表者 | U25: 代表者 | V25: 北井俊春 | Y25: 代表者 | AC25: 代表者 | AD25: 古賀敏憲 | AG25: 代表者
A26: 責任者 補助者 | B26: 是川昌仁 | E26: 代表者 | F26: 猿橋普子 | I26: 責任者 補助者 | J26: 杉本竜夜 | M26: 責任者 補助者 | N26: 亀井稔子 | Q26: 責任者 補助者 | R26: 伊藤哲也 | U26: 責任者 補助者 | V26: 北井俊春 | W26: 河合成展 | Y26: 責任者 補助者 | Z26: 圓福寺一郎 | AC26: 責任者 補助者 | AD26: 古賀敏憲 | AG26: 責任者 補助者
B27: 岡崎高志 | E27: 責任者 補助者 | R27: 大内智代 | V27: 安積千恵子 | W27: 石井雅也 | Z27: 金城亮吉（あきよし） | AD27: 大月彰太
B28: 黒田茉弥 | R28: 石井和美 | V28: 長尾清子 | W28: 斎藤治美 | Z28: 芳川伸啓（のぶひろ） | AD28: 前山めぐみ
B29: 多田玲奈 | R29: 伊藤哲也 | V29: 團 勝一
B30: 裙本 修 | R30: 鎌倉みゆき | V30: 木村義忠
B31: 安田幸恵 | V31: 北村幸二
B32: アカギュル・イスマイル | V32: 七村健次
A34: 販売品目 許可証 | B34: 茶店 | C34: 東播(加健） ４０１－３６０ | E34: 販売品目 許可証 | F34: 射的 | I34: 販売品目 許可証 | J34: イカ焼き | K34: 北神(宝健） １－６２ | M34: 販売品目 許可証 | N34: 塩干 | O34: いりこ/ちりめんじゃこ | Q34: 販売品目 許可証 | R34: 酒まんじゅう | U34: 販売品目 許可証 | V34: 茶店 | W34: 中播（中健） １１－３２ | Y34: 販売品目 許可証 | Z34: かすてら | AA34: 神南（芦健） ３－３８ | AC34: 販売品目 許可証 | AD34: 厄除けまんじゅう | AE34: 東播（加健） ４０１－３７１ | AG34: 販売品目 許可証
B35: 栗まんじゅう | C35: 東播(加健） ４０３－１４ | F35: ボール投げ | J35: カステラ | K35: 北神(宝健） ３－９６ | R35: たこ焼き | V35: 大判焼き | W35: 中播（中健） １２－１１ | Z35: かすてら | AA35: 北神（伊健） ３－２２ | AD35: みたらしだんご | AE35: 東播（加健） ４０３－４７
B36: 駅そば | C36: 東播(加健） ４０１－３６０ | Z36: かすてら | AA36: 神南（芦健） ３－３９ | AD36: わらびもち
B37: ケバブ | C37: 西播（龍健） ７００－５２
A43: お弁当 | B43: 18日 | C43: 個 | D43: 個 | E43: お弁当 | F43: 18日 | G43: 個 | H43: 個 | I43: お弁当 | J43: 18日 | K43: 個 | L43: 個 | M43: お弁当 | N43: 18日 | O43: 個 | P43: 個 | Q43: お弁当 | R43: 18日 | S43: 個 | T43: 個 | U43: お弁当 | V43: 18日 | W43: 個 | X43: 個 | Y43: お弁当 | Z43: 18日 | AA43: 個 | AB43: 個 | AC43: お弁当 | AD43: 18日 | AE43: 個 | AF43: 個 | AG43: お弁当 | AH43: 18日 | AI43: 個 | AJ43: 個
B44: 19日 | C44: 個 | D44: 個 | F44: 19日 | G44: 個 | H44: 個 | J44: 19日 | K44: 個 | L44: 個 | N44: 19日 | O44: 個 | P44: 個 | R44: 19日 | S44: 個 | T44: 個 | V44: 19日 | W44: 個 | X44: 個 | Z44: 19日 | AA44: 個 | AB44: 個 | AD44: 19日 | AE44: 個 | AF44: 個 | AH44: 19日 | AI44: 個 | AJ44: 個
A45: 事業所名 | E45: 事業所名 | F45: 大清食品 | I45: 事業所名 | M45: 事業所名 | N45: 平井商店 | Q45: 事業所名 | R45: 山下商事 | U45: 事業所名 | V45: 寺田商店 | Y45: 事業所名 | AC45: 事業所名 | AG45: 事業所名
A47: 代表者 | B47: 大西 誠 | E47: 代表者 | F47: 大角 清（だいかく） | I47: 代表者 | J47: 林 延之 | M47: 代表者 | N47: 平井満男 | Q47: 代表者 | U47: 代表者 | V47: 寺田好美 | Y47: 代表者 | Z47: 五島一郎 | AC47: 代表者 | AD47: 奥本保一（やすいち） | AG47: 代表者
A48: 責任者 補助者 | B48: 大西純子 | E48: 責任者 補助者 | F48: 大角良子 | I48: 責任者 補助者 | J48: 岡松 久 | M48: 責任者 補助者 | N48: 農座敏光 | Q48: 責任者 補助者 | R48: 山下伸一 | U48: 責任者 補助者 | V48: 寺田好美 | Y48: 責任者 補助者 | Z48: 五島一郎 | AC48: 責任者 補助者 | AD48: 和田正之 | AG48: 責任者 補助者
B49: 大西拓麿 | F49: 今城綾子 | J49: 岡松末子 | N49: 三橋 徹 | R49: 田村幸子 | V49: 寺田正二 | Z49: 三木 麗 | AD49: 和田景子
F50: 大角光平 | J50: 湊谷敦志（みなとや） | V50: 寺田博子 | Z50: 鶴 直人
Z51: 祖浦節男
...

Sheet シール
A1: 本部用
A3: カフェインレスコーヒー | C3: カフェインレスコーヒー
A4: 下//警備用
A6: =A3 -> カフェインレスコーヒー
A7: コーヒー/マドラー/フレッシュ/シュガー （コーヒーの瓶の中にスプーン入れてます）
A9: コーヒー/マドラー/フレッシュ/シュガー （コーヒーの瓶の中にスプーン入れてます）
