Workbook

Sheet 原本
M1: 氏名 | AB1: 氏名 | AC1: =N1 -> 0
A3: ７月 | E3: 会場 | F3: 時間 | G3: 定時 | I3: 残業 | K3: 単価 | L3: 残業単価 | M3: 金額 | N3: 交通費 | O3: 合計 | P3: 8月 | T3: 会場 | U3: 時間 | V3: 定時 | X3: 残業 | Z3: 単価 | AA3: 残業単価 | AB3: 金額 | AC3: 交通費 | AD3: 合計
A4: 1 | B4: 日 | C4: 火 | D4: 曜日 | H4: H | J4: H | M4: =G4*K4+I4*L4 -> 0 | O4: =M4+N4 -> 0 | P4: 1 | Q4: 日 | R4: 金 | S4: 曜日 | W4: H | Y4: H | AB4: =V4*Z4+X4*AA4 -> 0 | AD4: =AB4+AC4 -> 0
A5: 2 | B5: 日 | C5: 水 | D5: 曜日 | H5: H | J5: H | M5: =G5*K5+I5*L5 -> 0 | O5: =M5+N5 -> 0 | P5: 2 | Q5: 日 | R5: 土 | S5: 曜日 | W5: H | Y5: H | AB5: =V5*Z5+X5*AA5 -> 0 | AD5: =AB5+AC5 -> 0
A6: 3 | B6: 日 | C6: 木 | D6: 曜日 | H6: H | J6: H | M6: =G6*K6+I6*L6 -> 0 | O6: =M6+N6 -> 0 | P6: 3 | Q6: 日 | R6: 日 | S6: 曜日 | W6: H | Y6: H | AB6: =V6*Z6+X6*AA6 -> 0 | AD6: =AB6+AC6 -> 0
A7: 4 | B7: 日 | C7: 金 | D7: 曜日 | H7: H | J7: H | M7: =G7*K7+I7*L7 -> 0 | O7: =M7+N7 -> 0 | P7: 4 | Q7: 日 | R7: 月 | S7: 曜日 | W7: H | Y7: H | AB7: =V7*Z7+X7*AA7 -> 0 | AD7: =AB7+AC7 -> 0
A8: 5 | B8: 日 | C8: 土 | D8: 曜日 | H8: H | J8: H | M8: =G8*K8+I8*L8 -> 0 | O8: =M8+N8 -> 0 | P8: 5 | Q8: 日 | R8: 火 | S8: 曜日 | W8: H | Y8: H | AB8: =V8*Z8+X8*AA8 -> 0 | AD8: =AB8+AC8 -> 0
A9: 6 | B9: 日 | C9: 日 | D9: 曜日 | H9: H | J9: H | M9: =G9*K9+I9*L9 -> 0 | O9: =M9+N9 -> 0 | P9: 6 | Q9: 日 | R9: 水 | S9: 曜日 | W9: H | Y9: H | AB9: =V9*Z9+X9*AA9 -> 0 | AD9: =AB9+AC9 -> 0
A10: 7 | B10: 日 | C10: 月 | D10: 曜日 | H10: H | J10: H | M10: =G10*K10+I10*L10 -> 0 | O10: =M10+N10 -> 0 | P10: 7 | Q10: 日 | R10: 木 | S10: 曜日 | W10: H | Y10: H | AB10: =V10*Z10+X10*AA10 -> 0 | AD10: =AB10+AC10 -> 0
A11: 8 | B11: 日 | C11: 火 | D11: 曜日 | H11: H | J11: H | M11: =G11*K11+I11*L11 -> 0 | O11: =M11+N11 -> 0 | P11: 8 | Q11: 日 | R11: 金 | S11: 曜日 | W11: H | Y11: H | AB11: =V11*Z11+X11*AA11 -> 0 | AD11: =AB11+AC11 -> 0
A12: 9 | B12: 日 | C12: 水 | D12: 曜日 | H12: H | J12: H | M12: =G12*K12+I12*L12 -> 0 | O12: =M12+N12 -> 0 | P12: 9 | Q12: 日 | R12: 土 | S12: 曜日 | W12: H | Y12: H | AB12: =V12*Z12+X12*AA12 -> 0 | AD12: =AB12+AC12 -> 0
A13: 10 | B13: 日 | C13: 木 | D13: 曜日 | H13: H | J13: H | M13: =G13*K13+I13*L13 -> 0 | O13: =M13+N13 -> 0 | P13: 10 | Q13: 日 | R13: 日 | S13: 曜日 | W13: H | Y13: H | AB13: =V13*Z13+X13*AA13 -> 0 | AD13: =AB13+AC13 -> 0
A14: 11 | B14: 日 | C14: 金 | D14: 曜日 | H14: H | J14: H | M14: =G14*K14+I14*L14 -> 0 | O14: =M14+N14 -> 0 | P14: 11 | Q14: 日 | R14: 月 | S14: 曜日 | W14: H | Y14: H | AB14: =V14*Z14+X14*AA14 -> 0 | AD14: =AB14+AC14 -> 0
A15: 12 | B15: 日 | C15: 土 | D15: 曜日 | H15: H | J15: H | M15: =G15*K15+I15*L15 -> 0 | O15: =M15+N15 -> 0 | P15: 12 | Q15: 日 | R15: 火 | S15: 曜日 | W15: H | Y15: H | AB15: =V15*Z15+X15*AA15 -> 0 | AD15: =AB15+AC15 -> 0
... A34: 31 | B34: 日 | C34: 木 | D34: 曜日 | H34: H | J34: H | M34: =G34*K34+I34*L34 -> 0 | O34: =M34+N34 -> 0 | P34: 31 | Q34: 日 | R34: 日 | S34: 曜日 | W34: H | Y34: H | AB34: =V34*Z34+X34*AA34 -> 0 | AD34: =AB34+AC34 -> 0
N35: ㈱CSILead | AC35: ㈱CSILead

Sheet 中村
M1: 氏名 | N1: 中村 奉 | U1: 基本 ０８：00～17：00 （９時間拘束８時間労働） ９時始まりであっても、 上記の時間で計算しております。 | AB1: 氏名 | AC1: =N1 -> 中村 奉
A3: ７月 | E3: 会場 | F3: 時間 | G3: 定時 | I3: 残業 | K3: 単価 | L3: 残業単価 | M3: 金額 | N3: 交通費 | O3: 合計 | P3: 8月 | T3: 会場 | U3: 時間 | V3: 定時 | X3: 残業 | Z3: 単価 | AA3: 残業単価 | AB3: 金額 | AC3: 交通費 | AD3: 合計
A4: 1 | B4: 日 | C4: 火 | D4: 曜日 | H4: H | J4: H | M4: =G4*K4+I4*L4 -> 0 | O4: =M4+N4 -> 0 | P4: 1 | Q4: 日 | R4: 金 | S4: 曜日 | W4: H | Y4: H | AB4: =V4*Z4+X4*AA4 -> 0 | AD4: =AB4+AC4 -> 0
A5: 2 | B5: 日 | C5: 水 | D5: 曜日 | H5: H | J5: H | M5: =G5*K5+I5*L5 -> 0 | O5: =M5+N5 -> 0 | P5: 2 | Q5: 日 | R5: 土 | S5: 曜日 | W5: H | Y5: H | AB5: =V5*Z5+X5*AA5 -> 0 | AD5: =AB5+AC5 -> 0
A6: 3 | B6: 日 | C6: 木 | D6: 曜日 | H6: H | J6: H | M6: =G6*K6+I6*L6 -> 0 | O6: =M6+N6 -> 0 | P6: 3 | Q6: 日 | R6: 日 | S6: 曜日 | W6: H | Y6: H | AB6: =V6*Z6+X6*AA6 -> 0 | AD6: =AB6+AC6 -> 0
A7: 4 | B7: 日 | C7: 金 | D7: 曜日 | H7: H | J7: H | M7: =G7*K7+I7*L7 -> 0 | O7: =M7+N7 -> 0 | P7: 4 | Q7: 日 | R7: 月 | S7: 曜日 | W7: H | Y7: H | AB7: =V7*Z7+X7*AA7 -> 0 | AD7: =AB7+AC7 -> 0
A8: 5 | B8: 日 | C8: 土 | D8: 曜日 | H8: H | J8: H | M8: =G8*K8+I8*L8 -> 0 | O8: =M8+N8 -> 0 | P8: 5 | Q8: 日 | R8: 火 | S8: 曜日 | T8: 大津 | U8: 09：00～17：00 | V8: 8 | W8: H | Y8: H | Z8: 2000 | AA8: 3125 | AB8: =V8*Z8+X8*AA8 -> 16000 | AD8: =AB8+AC8 -> 16000
A9: 6 | B9: 日 | C9: 日 | D9: 曜日 | H9: H | J9: H | M9: =G9*K9+I9*L9 -> 0 | O9: =M9+N9 -> 0 | P9: 6 | Q9: 日 | R9: 水 | S9: 曜日 | T9: 大津 | U9: 08：30～19：38 | V9: 8 | W9: H | X9: 2 | Y9: H | Z9: 2000 | AA9: 3125 | AB9: =V9*Z9+X9*AA9 -> 22250 | AD9: =AB9+AC9 -> 22250
A10: 7 | B10: 日 | C10: 月 | D10: 曜日 | H10: H | J10: H | M10: =G10*K10+I10*L10 -> 0 | O10: =M10+N10 -> 0 | P10: 7 | Q10: 日 | R10: 木 | S10: 曜日 | U10: 09：00～17：30 | V10: 8 | W10: H | Y10: H | Z10: 2000 | AA10: 3125 | AB10: =V10*Z10+X10*AA10 -> 16000 | AD10: =AB10+AC10 -> 16000
A11: 8 | B11: 日 | C11: 火 | D11: 曜日 | H11: H | J11: H | M11: =G11*K11+I11*L11 -> 0 | O11: =M11+N11 -> 0 | P11: 8 | Q11: 日 | R11: 金 | S11: 曜日 | U11: 06：30～27：00 | V11: 8 | W11: H | X11: 10.5 | Y11: H | Z11: 2000 | AA11: 3125 | AB11: =V11*Z11+X11*AA11 -> 48812.5 | AD11: =AB11+AC11 -> 48812.5
A12: 9 | B12: 日 | C12: 水 | D12: 曜日 | H12: H | J12: H | M12: =G12*K12+I12*L12 -> 0 | O12: =M12+N12 -> 0 | P12: 9 | Q12: 日 | R12: 土 | S12: 曜日 | U12: 09：00～20：00 | V12: 8 | W12: H | X12: 3 | Y12: H | Z12: 2000 | AA12: 3125 | AB12: =V12*Z12+X12*AA12 -> 25375 | AD12: =AB12+AC12 -> 25375
A13: 10 | B13: 日 | C13: 木 | D13: 曜日 | H13: H | J13: H | M13: =G13*K13+I13*L13 -> 0 | O13: =M13+N13 -> 0 | P13: 10 | Q13: 日 | R13: 日 | S13: 曜日 | U13: 08：30～17：00 | V13: 8 | W13: H | Y13: H | Z13: 2000 | AA13: 3125 | AB13: =V13*Z13+X13*AA13 -> 16000 | AD13: =AB13+AC13 -> 16000
A14: 11 | B14: 日 | C14: 金 | D14: 曜日 | H14: H | J14: H | M14: =G14*K14+I14*L14 -> 0 | O14: =M14+N14 -> 0 | P14: 11 | Q14: 日 | R14: 月 | S14: 曜日 | U14: 08：30～18：16 | V14: 8 | W14: H | X14: 1 | Y14: H | Z14: 2000 | AA14: 3125 | AB14: =V14*Z14+X14*AA14 -> 19125 | AD14: =AB14+AC14 -> 19125
A15: 12 | B15: 日 | C15: 土 | D15: 曜日 | H15: H | J15: H | M15: =G15*K15+I15*L15 -> 0 | O15: =M15+N15 -> 0 | P15: 12 | Q15: 日 | R15: 火 | S15: 曜日 | W15: H | Y15: H | AB15: =V15*Z15+X15*AA15 -> 0 | AD15: =AB15+AC15 -> 0
A16: 13 | B16: 日 | C16: 日 | D16: 曜日 | H16: H | J16: H | M16: =G16*K16+I16*L16 -> 0 | O16: =M16+N16 -> 0 | P16: 13 | Q16: 日 | R16: 水 | S16: 曜日 | W16: H | Y16: H | AB16: =V16*Z16+X16*AA16 -> 0 | AD16: =AB16+AC16 -> 0
A17: 14 | B17: 日 | C17: 月 | D17: 曜日 | H17: H | J17: H | M17: =G17*K17+I17*L17 -> 0 | O17: =M17+N17 -> 0 | P17: 14 | Q17: 日 | R17: 木 | S17: 曜日 | W17: H | Y17: H | AB17: =V17*Z17+X17*AA17 -> 0 | AD17: =AB17+AC17 -> 0
A18: 15 | B18: 日 | C18: 火 | D18: 曜日 | H18: H | J18: H | M18: =G18*K18+I18*L18 -> 0 | O18: =M18+N18 -> 0 | P18: 15 | Q18: 日 | R18: 金 | S18: 曜日 | W18: H | Y18: H | AB18: =V18*Z18+X18*AA18 -> 0 | AD18: =AB18+AC18 -> 0
A19: 16 | B19: 日 | C19: 水 | D19: 曜日 | H19: H | J19: H | M19: =G19*K19+I19*L19 -> 0 | O19: =M19+N19 -> 0 | P19: 16 | Q19: 日 | R19: 土 | S19: 曜日 | W19: H | Y19: H | AB19: =V19*Z19+X19*AA19 -> 0 | AD19: =AB19+AC19 -> 0
A20: 17 | B20: 日 | C20: 木 | D20: 曜日 | H20: H | J20: H | M20: =G20*K20+I20*L20 -> 0 | O20: =M20+N20 -> 0 | P20: 17 | Q20: 日 | R20: 日 | S20: 曜日 | W20: H | Y20: H | AB20: =V20*Z20+X20*AA20 -> 0 | AD20: =AB20+AC20 -> 0
A21: 18 | B21: 日 | C21: 金 | D21: 曜日 | H21: H | J21: H | M21: =G21*K21+I21*L21 -> 0 | O21: =M21+N21 -> 0 | P21: 18 | Q21: 日 | R21: 月 | S21: 曜日 | W21: H | Y21: H | AB21: =V21*Z21+X21*AA21 -> 0 | AD21: =AB21+AC21 -> 0
A22: 19 | B22: 日 | C22: 土 | D22: 曜日 | H22: H | J22: H | M22: =G22*K22+I22*L22 -> 0 | O22: =M22+N22 -> 0 | P22: 19 | Q22: 日 | R22: 火 | S22: 曜日 | W22: H | Y22: H | AB22: =V22*Z22+X22*AA22 -> 0 | AD22: =AB22+AC22 -> 0
A23: 20 | B23: 日 | C23: 日 | D23: 曜日 | H23: H | J23: H | M23: =G23*K23+I23*L23 -> 0 | O23: =M23+N23 -> 0 | P23: 20 | Q23: 日 | R23: 水 | S23: 曜日 | W23: H | Y23: H | AB23: =V23*Z23+X23*AA23 -> 0 | AD23: =AB23+AC23 -> 0
A24: 21 | B24: 日 | C24: 月 | D24: 曜日 | H24: H | J24: H | M24: =G24*K24+I24*L24 -> 0 | O24: =M24+N24 -> 0 | P24: 21 | Q24: 日 | R24: 木 | S24: 曜日 | W24: H | Y24: H | AB24: =V24*Z24+X24*AA24 -> 0 | AD24: =AB24+AC24 -> 0
A25: 22 | B25: 日 | C25: 火 | D25: 曜日 | H25: H | J25: H | M25: =G25*K25+I25*L25 -> 0 | O25: =M25+N25 -> 0 | P25: 22 | Q25: 日 | R25: 金 | S25: 曜日 | W25: H | Y25: H | AB25: =V25*Z25+X25*AA25 -> 0 | AD25: =AB25+AC25 -> 0
A26: 23 | B26: 日 | C26: 水 | D26: 曜日 | H26: H | J26: H | M26: =G26*K26+I26*L26 -> 0 | O26: =M26+N26 -> 0 | P26: 23 | Q26: 日 | R26: 土 | S26: 曜日 | W26: H | Y26: H | AB26: =V26*Z26+X26*AA26 -> 0 | AD26: =AB26+AC26 -> 0
... A34: 31 | B34: 日 | C34: 木 | D34: 曜日 | H34: H | J34: H | M34: =G34*K34+I34*L34 -> 0 | O34: =M34+N34 -> 0 | P34: 31 | Q34: 日 | R34: 日 | S34: 曜日 | W34: H | Y34: H | AB34: =V34*Z34+X34*AA34 -> 0 | AD34: =AB34+AC34 -> 0
N35: ㈱CSILead | AC35: ㈱CSILead
N38: =SUM(O4:O37) -> 0 | AC38: =SUM(AD4:AD37) -> 163562.5

Sheet 小泉
M1: 氏名 | N1: 小泉春翔 | AB1: 氏名 | AC1: =N1 -> 小泉春翔
A3: ７月 | E3: 会場 | F3: 時間 | G3: 定時 | I3: 残業 | K3: 単価 | L3: 残業単価 | M3: 金額 | N3: 交通費 | O3: 合計 | P3: 8月 | T3: 会場 | U3: 時間 | V3: 定時 | X3: 残業 | Z3: 単価 | AA3: 残業単価 | AB3: 金額 | AC3: 交通費 | AD3: 合計
A4: 1 | B4: 日 | C4: 火 | D4: 曜日 | H4: H | J4: H | M4: =G4*K4+I4*L4 -> 0 | O4: =M4+N4 -> 0 | P4: 1 | Q4: 日 | R4: 金 | S4: 曜日 | W4: H | Y4: H | AB4: =V4*Z4+X4*AA4 -> 0 | AD4: =AB4+AC4 -> 0
A5: 2 | B5: 日 | C5: 水 | D5: 曜日 | H5: H | J5: H | M5: =G5*K5+I5*L5 -> 0 | O5: =M5+N5 -> 0 | P5: 2 | Q5: 日 | R5: 土 | S5: 曜日 | W5: H | Y5: H | AB5: =V5*Z5+X5*AA5 -> 0 | AD5: =AB5+AC5 -> 0
A6: 3 | B6: 日 | C6: 木 | D6: 曜日 | H6: H | J6: H | M6: =G6*K6+I6*L6 -> 0 | O6: =M6+N6 -> 0 | P6: 3 | Q6: 日 | R6: 日 | S6: 曜日 | W6: H | Y6: H | AB6: =V6*Z6+X6*AA6 -> 0 | AD6: =AB6+AC6 -> 0
A7: 4 | B7: 日 | C7: 金 | D7: 曜日 | H7: H | J7: H | M7: =G7*K7+I7*L7 -> 0 | O7: =M7+N7 -> 0 | P7: 4 | Q7: 日 | R7: 月 | S7: 曜日 | W7: H | Y7: H | AB7: =V7*Z7+X7*AA7 -> 0 | AD7: =AB7+AC7 -> 0
A8: 5 | B8: 日 | C8: 土 | D8: 曜日 | H8: H | J8: H | M8: =G8*K8+I8*L8 -> 0 | O8: =M8+N8 -> 0 | P8: 5 | Q8: 日 | R8: 火 | S8: 曜日 | W8: H | Y8: H | AB8: =V8*Z8+X8*AA8 -> 0 | AD8: =AB8+AC8 -> 0
A9: 6 | B9: 日 | C9: 日 | D9: 曜日 | H9: H | J9: H | M9: =G9*K9+I9*L9 -> 0 | O9: =M9+N9 -> 0 | P9: 6 | Q9: 日 | R9: 水 | S9: 曜日 | W9: H | Y9: H | AB9: =V9*Z9+X9*AA9 -> 0 | AD9: =AB9+AC9 -> 0
A10: 7 | B10: 日 | C10: 月 | D10: 曜日 | H10: H | J10: H | M10: =G10*K10+I10*L10 -> 0 | O10: =M10+N10 -> 0 | P10: 7 | Q10: 日 | R10: 木 | S10: 曜日 | W10: H | Y10: H | AB10: =V10*Z10+X10*AA10 -> 0 | AD10: =AB10+AC10 -> 0
A11: 8 | B11: 日 | C11: 火 | D11: 曜日 | H11: H | J11: H | M11: =G11*K11+I11*L11 -> 0 | O11: =M11+N11 -> 0 | P11: 8 | Q11: 日 | R11: 金 | S11: 曜日 | W11: H | Y11: H | AB11: =V11*Z11+X11*AA11 -> 0 | AD11: =AB11+AC11 -> 0
A12: 9 | B12: 日 | C12: 水 | D12: 曜日 | H12: H | J12: H | M12: =G12*K12+I12*L12 -> 0 | O12: =M12+N12 -> 0 | P12: 9 | Q12: 日 | R12: 土 | S12: 曜日 | W12: H | Y12: H | AB12: =V12*Z12+X12*AA12 -> 0 | AD12: =AB12+AC12 -> 0
A13: 10 | B13: 日 | C13: 木 | D13: 曜日 | H13: H | J13: H | M13: =G13*K13+I13*L13 -> 0 | O13: =M13+N13 -> 0 | P13: 10 | Q13: 日 | R13: 日 | S13: 曜日 | W13: H | Y13: H | AB13: =V13*Z13+X13*AA13 -> 0 | AD13: =AB13+AC13 -> 0
A14: 11 | B14: 日 | C14: 金 | D14: 曜日 | H14: H | J14: H | M14: =G14*K14+I14*L14 -> 0 | O14: =M14+N14 -> 0 | P14: 11 | Q14: 日 | R14: 月 | S14: 曜日 | W14: H | Y14: H | AB14: =V14*Z14+X14*AA14 -> 0 | AD14: =AB14+AC14 -> 0
A15: 12 | B15: 日 | C15: 土 | D15: 曜日 | H15: H | J15: H | M15: =G15*K15+I15*L15 -> 0 | O15: =M15+N15 -> 0 | P15: 12 | Q15: 日 | R15: 火 | S15: 曜日 | W15: H | Y15: H | AB15: =V15*Z15+X15*AA15 -> 0 | AD15: =AB15+AC15 -> 0
... A34: 31 | B34: 日 | C34: 木 | D34: 曜日 | H34: H | J34: H | M34: =G34*K34+I34*L34 -> 0 | O34: =M34+N34 -> 0 | P34: 31 | Q34: 日 | R34: 日 | S34: 曜日 | W34: H | Y34: H | AB34: =V34*Z34+X34*AA34 -> 0 | AD34: =AB34+AC34 -> 0
N35: ㈱CSILead | AC35: ㈱CSILead
N38: =SUM(O4:O37) -> 0 | AC38: =SUM(AD4:AD37) -> 0

Sheet 小早川開大
M1: 氏名 | N1: 小早川開大 | AB1: 氏名 | AC1: =N1 -> 小早川開大
A3: ７月 | E3: 会場 | F3: 時間 | G3: 定時 | I3: 残業 | K3: 単価 | L3: 残業単価 | M3: 金額 | N3: 交通費 | O3: 合計 | P3: 8月 | T3: 会場 | U3: 時間 | V3: 定時 | X3: 残業 | Z3: 単価 | AA3: 残業単価 | AB3: 金額 | AC3: 交通費 | AD3: 合計
A4: 1 | B4: 日 | C4: 火 | D4: 曜日 | H4: H | J4: H | M4: =G4*K4+I4*L4 -> 0 | O4: =M4+N4 -> 0 | P4: 1 | Q4: 日 | R4: 金 | S4: 曜日 | W4: H | Y4: H | AB4: =V4*Z4+X4*AA4 -> 0 | AD4: =AB4+AC4 -> 0
A5: 2 | B5: 日 | C5: 水 | D5: 曜日 | H5: H | J5: H | M5: =G5*K5+I5*L5 -> 0 | O5: =M5+N5 -> 0 | P5: 2 | Q5: 日 | R5: 土 | S5: 曜日 | W5: H | Y5: H | AB5: =V5*Z5+X5*AA5 -> 0 | AD5: =AB5+AC5 -> 0
A6: 3 | B6: 日 | C6: 木 | D6: 曜日 | H6: H | J6: H | M6: =G6*K6+I6*L6 -> 0 | O6: =M6+N6 -> 0 | P6: 3 | Q6: 日 | R6: 日 | S6: 曜日 | W6: H | Y6: H | AB6: =V6*Z6+X6*AA6 -> 0 | AD6: =AB6+AC6 -> 0
A7: 4 | B7: 日 | C7: 金 | D7: 曜日 | H7: H | J7: H | M7: =G7*K7+I7*L7 -> 0 | O7: =M7+N7 -> 0 | P7: 4 | Q7: 日 | R7: 月 | S7: 曜日 | W7: H | Y7: H | AB7: =V7*Z7+X7*AA7 -> 0 | AD7: =AB7+AC7 -> 0
A8: 5 | B8: 日 | C8: 土 | D8: 曜日 | H8: H | J8: H | M8: =G8*K8+I8*L8 -> 0 | O8: =M8+N8 -> 0 | P8: 5 | Q8: 日 | R8: 火 | S8: 曜日 | W8: H | Y8: H | AB8: =V8*Z8+X8*AA8 -> 0 | AD8: =AB8+AC8 -> 0
A9: 6 | B9: 日 | C9: 日 | D9: 曜日 | H9: H | J9: H | M9: =G9*K9+I9*L9 -> 0 | O9: =M9+N9 -> 0 | P9: 6 | Q9: 日 | R9: 水 | S9: 曜日 | W9: H | Y9: H | AB9: =V9*Z9+X9*AA9 -> 0 | AD9: =AB9+AC9 -> 0
A10: 7 | B10: 日 | C10: 月 | D10: 曜日 | H10: H | J10: H | M10: =G10*K10+I10*L10 -> 0 | O10: =M10+N10 -> 0 | P10: 7 | Q10: 日 | R10: 木 | S10: 曜日 | W10: H | Y10: H | AB10: =V10*Z10+X10*AA10 -> 0 | AD10: =AB10+AC10 -> 0
A11: 8 | B11: 日 | C11: 火 | D11: 曜日 | H11: H | J11: H | M11: =G11*K11+I11*L11 -> 0 | O11: =M11+N11 -> 0 | P11: 8 | Q11: 日 | R11: 金 | S11: 曜日 | W11: H | Y11: H | AB11: =V11*Z11+X11*AA11 -> 0 | AD11: =AB11+AC11 -> 0
A12: 9 | B12: 日 | C12: 水 | D12: 曜日 | H12: H | J12: H | M12: =G12*K12+I12*L12 -> 0 | O12: =M12+N12 -> 0 | P12: 9 | Q12: 日 | R12: 土 | S12: 曜日 | W12: H | Y12: H | AB12: =V12*Z12+X12*AA12 -> 0 | AD12: =AB12+AC12 -> 0
A13: 10 | B13: 日 | C13: 木 | D13: 曜日 | H13: H | J13: H | M13: =G13*K13+I13*L13 -> 0 | O13: =M13+N13 -> 0 | P13: 10 | Q13: 日 | R13: 日 | S13: 曜日 | W13: H | Y13: H | AB13: =V13*Z13+X13*AA13 -> 0 | AD13: =AB13+AC13 -> 0
A14: 11 | B14: 日 | C14: 金 | D14: 曜日 | H14: H | J14: H | M14: =G14*K14+I14*L14 -> 0 | O14: =M14+N14 -> 0 | P14: 11 | Q14: 日 | R14: 月 | S14: 曜日 | W14: H | Y14: H | AB14: =V14*Z14+X14*AA14 -> 0 | AD14: =AB14+AC14 -> 0
A15: 12 | B15: 日 | C15: 土 | D15: 曜日 | H15: H | J15: H | M15: =G15*K15+I15*L15 -> 0 | O15: =M15+N15 -> 0 | P15: 12 | Q15: 日 | R15: 火 | S15: 曜日 | W15: H | Y15: H | AB15: =V15*Z15+X15*AA15 -> 0 | AD15: =AB15+AC15 -> 0
... A34: 31 | B34: 日 | C34: 木 | D34: 曜日 | H34: H | J34: H | M34: =G34*K34+I34*L34 -> 0 | O34: =M34+N34 -> 0 | P34: 31 | Q34: 日 | R34: 日 | S34: 曜日 | W34: H | Y34: H | AB34: =V34*Z34+X34*AA34 -> 0 | AD34: =AB34+AC34 -> 0
N35: ㈱CSILead | AC35: ㈱CSILead
N38: =SUM(O4:O37) -> 0 | AC38: =SUM(AD4:AD37) -> 0

Sheet あゆみ
M1: 氏名 | N1: 宮内あゆみ | AB1: 氏名 | AC1: =N1 -> 宮内あゆみ
A3: ７月 | E3: 会場 | F3: 時間 | G3: 定時 | I3: 残業 | K3: 単価 | L3: 残業単価 | M3: 金額 | N3: 交通費 | O3: 合計 | P3: 8月 | T3: 会場 | U3: 時間 | V3: 定時 | X3: 残業 | Z3: 単価 | AA3: 残業単価 | AB3: 金額 | AC3: 交通費 | AD3: 合計
A4: 1 | B4: 日 | C4: 火 | D4: 曜日 | H4: H | J4: H | K4: 1500 | L4: 1875 | M4: =G4*K4+I4*L4 -> 0 | O4: =M4+N4 -> 0 | P4: 1 | Q4: 日 | R4: 金 | S4: 曜日 | T4: 事務所 | U4: 13：00～17：00 | V4: 4 | W4: H | Y4: H | Z4: 1500 | AA4: 1875 | AB4: =V4*Z4+X4*AA4 -> 6000 | AD4: =AB4+AC4 -> 6000
A5: 2 | B5: 日 | C5: 水 | D5: 曜日 | H5: H | J5: H | K5: 1500 | L5: 1875 | M5: =G5*K5+I5*L5 -> 0 | O5: =M5+N5 -> 0 | P5: 2 | Q5: 日 | R5: 土 | S5: 曜日 | W5: H | Y5: H | Z5: 1500 | AA5: 1875 | AB5: =V5*Z5+X5*AA5 -> 0 | AD5: =AB5+AC5 -> 0
A6: 3 | B6: 日 | C6: 木 | D6: 曜日 | H6: H | J6: H | K6: 1500 | L6: 1875 | M6: =G6*K6+I6*L6 -> 0 | O6: =M6+N6 -> 0 | P6: 3 | Q6: 日 | R6: 日 | S6: 曜日 | W6: H | Y6: H | Z6: 1500 | AA6: 1875 | AB6: =V6*Z6+X6*AA6 -> 0 | AD6: =AB6+AC6 -> 0
A7: 4 | B7: 日 | C7: 金 | D7: 曜日 | H7: H | J7: H | K7: 1500 | L7: 1875 | M7: =G7*K7+I7*L7 -> 0 | O7: =M7+N7 -> 0 | P7: 4 | Q7: 日 | R7: 月 | S7: 曜日 | T7: 事務所 | U7: 13：00～17：00 | V7: 4 | W7: H | Y7: H | Z7: 1500 | AA7: 1875 | AB7: =V7*Z7+X7*AA7 -> 6000 | AD7: =AB7+AC7 -> 6000
A8: 5 | B8: 日 | C8: 土 | D8: 曜日 | H8: H | J8: H | K8: 1500 | L8: 1875 | M8: =G8*K8+I8*L8 -> 0 | O8: =M8+N8 -> 0 | P8: 5 | Q8: 日 | R8: 火 | S8: 曜日 | T8: 事務所 | U8: 13：00～17：00 | V8: 4 | W8: H | Y8: H | Z8: 1500 | AA8: 1875 | AB8: =V8*Z8+X8*AA8 -> 6000 | AD8: =AB8+AC8 -> 6000
A9: 6 | B9: 日 | C9: 日 | D9: 曜日 | H9: H | J9: H | K9: 1875 | L9: 2343 | M9: =G9*K9+I9*L9 -> 0 | O9: =M9+N9 -> 0 | P9: 6 | Q9: 日 | R9: 水 | S9: 曜日 | T9: 事務所 | U9: 13：00～17：00 | V9: 4 | W9: H | Y9: H | Z9: 1500 | AA9: 1875 | AB9: =V9*Z9+X9*AA9 -> 6000 | AD9: =AB9+AC9 -> 6000
A10: 7 | B10: 日 | C10: 月 | D10: 曜日 | E10: 事務所 | F10: 13：00～17：00 | G10: 4 | H10: H | J10: H | K10: 1500 | L10: 1875 | M10: =G10*K10+I10*L10 -> 6000 | O10: =M10+N10 -> 6000 | P10: 7 | Q10: 日 | R10: 木 | S10: 曜日 | W10: H | Y10: H | Z10: 1500 | AA10: 1875 | AB10: =V10*Z10+X10*AA10 -> 0 | AD10: =AB10+AC10 -> 0
A11: 8 | B11: 日 | C11: 火 | D11: 曜日 | E11: 事務所 | F11: 13：00～17：00 | G11: 4 | H11: H | J11: H | K11: 1500 | L11: 1875 | M11: =G11*K11+I11*L11 -> 6000 | O11: =M11+N11 -> 6000 | P11: 8 | Q11: 日 | R11: 金 | S11: 曜日 | W11: H | Y11: H | Z11: 1500 | AA11: 1875 | AB11: =V11*Z11+X11*AA11 -> 0 | AD11: =AB11+AC11 -> 0
A12: 9 | B12: 日 | C12: 水 | D12: 曜日 | E12: 事務所 | F12: 13：00～17：00 | G12: 4 | H12: H | J12: H | K12: 1500 | L12: 1875 | M12: =G12*K12+I12*L12 -> 6000 | O12: =M12+N12 -> 6000 | P12: 9 | Q12: 日 | R12: 土 | S12: 曜日 | W12: H | Y12: H | Z12: 1500 | AA12: 1875 | AB12: =V12*Z12+X12*AA12 -> 0 | AD12: =AB12+AC12 -> 0
A13: 10 | B13: 日 | C13: 木 | D13: 曜日 | E13: 事務所 | F13: 13：00～17：00 | G13: 4 | H13: H | J13: H | K13: 1500 | L13: 1875 | M13: =G13*K13+I13*L13 -> 6000 | O13: =M13+N13 -> 6000 | P13: 10 | Q13: 日 | R13: 日 | S13: 曜日 | W13: H | Y13: H | Z13: 1500 | AA13: 1875 | AB13: =V13*Z13+X13*AA13 -> 0 | AD13: =AB13+AC13 -> 0
A14: 11 | B14: 日 | C14: 金 | D14: 曜日 | E14: 事務所 | F14: 13：00～17：00 | G14: 4 | H14: H | J14: H | K14: 1500 | L14: 1875 | M14: =G14*K14+I14*L14 -> 6000 | O14: =M14+N14 -> 6000 | P14: 11 | Q14: 日 | R14: 月 | S14: 曜日 | W14: H | Y14: H | Z14: 1500 | AA14: 1875 | AB14: =V14*Z14+X14*AA14 -> 0 | AD14: =AB14+AC14 -> 0
A15: 12 | B15: 日 | C15: 土 | D15: 曜日 | H15: H | J15: H | K15: 1500 | L15: 1875 | M15: =G15*K15+I15*L15 -> 0 | O15: =M15+N15 -> 0 | P15: 12 | Q15: 日 | R15: 火 | S15: 曜日 | W15: H | Y15: H | Z15: 1500 | AA15: 1875 | AB15: =V15*Z15+X15*AA15 -> 0 | AD15: =AB15+AC15 -> 0
A16: 13 | B16: 日 | C16: 日 | D16: 曜日 | H16: H | J16: H | K16: 1875 | L16: 2343 | M16: =G16*K16+I16*L16 -> 0 | O16: =M16+N16 -> 0 | P16: 13 | Q16: 日 | R16: 水 | S16: 曜日 | W16: H | Y16: H | Z16: 1875 | AA16: 2343 | AB16: =V16*Z16+X16*AA16 -> 0 | AD16: =AB16+AC16 -> 0
A17: 14 | B17: 日 | C17: 月 | D17: 曜日 | E17: 事務所 | F17: 13：00～17：00 | G17: 4 | H17: H | J17: H | K17: 1500 | L17: 1875 | M17: =G17*K17+I17*L17 -> 6000 | O17: =M17+N17 -> 6000 | P17: 14 | Q17: 日 | R17: 木 | S17: 曜日 | W17: H | Y17: H | Z17: 1875 | AA17: 2343 | AB17: =V17*Z17+X17*AA17 -> 0 | AD17: =AB17+AC17 -> 0
A18: 15 | B18: 日 | C18: 火 | D18: 曜日 | E18: 事務所 | F18: 13：00～17：00 | G18: 4 | H18: H | J18: H | K18: 1500 | L18: 1875 | M18: =G18*K18+I18*L18 -> 6000 | O18: =M18+N18 -> 6000 | P18: 15 | Q18: 日 | R18: 金 | S18: 曜日 | W18: H | Y18: H | Z18: 1875 | AA18: 2343 | AB18: =V18*Z18+X18*AA18 -> 0 | AD18: =AB18+AC18 -> 0
A19: 16 | B19: 日 | C19: 水 | D19: 曜日 | E19: 事務所 | F19: 13：00～17：00 | G19: 4 | H19: H | J19: H | K19: 1500 | L19: 1875 | M19: =G19*K19+I19*L19 -> 6000 | O19: =M19+N19 -> 6000 | P19: 16 | Q19: 日 | R19: 土 | S19: 曜日 | W19: H | Y19: H | Z19: 1500 | AA19: 1875 | AB19: =V19*Z19+X19*AA19 -> 0 | AD19: =AB19+AC19 -> 0
A20: 17 | B20: 日 | C20: 木 | D20: 曜日 | E20: 事務所 | F20: 13：00～17：00 | G20: 4 | H20: H | J20: H | K20: 1500 | L20: 1875 | M20: =G20*K20+I20*L20 -> 6000 | O20: =M20+N20 -> 6000 | P20: 17 | Q20: 日 | R20: 日 | S20: 曜日 | W20: H | Y20: H | Z20: 1500 | AA20: 1875 | AB20: =V20*Z20+X20*AA20 -> 0 | AD20: =AB20+AC20 -> 0
A21: 18 | B21: 日 | C21: 金 | D21: 曜日 | E21: 事務所 | F21: 13：00～17：00 | G21: 4 | H21: H | J21: H | K21: 1500 | L21: 1875 | M21: =G21*K21+I21*L21 -> 6000 | O21: =M21+N21 -> 6000 | P21: 18 | Q21: 日 | R21: 月 | S21: 曜日 | T21: 倉庫 | U21: 13：00～17：00 | V21: 4 | W21: H | Y21: H | Z21: 1500 | AA21: 1875 | AB21: =V21*Z21+X21*AA21 -> 6000 | AD21: =AB21+AC21 -> 6000
A22: 19 | B22: 日 | C22: 土 | D22: 曜日 | H22: H | J22: H | K22: 1500 | L22: 1875 | M22: =G22*K22+I22*L22 -> 0 | O22: =M22+N22 -> 0 | P22: 19 | Q22: 日 | R22: 火 | S22: 曜日 | T22: 倉庫 | U22: 13：00～17：00 | V22: 4 | W22: H | Y22: H | Z22: 1500 | AA22: 1875 | AB22: =V22*Z22+X22*AA22 -> 6000 | AD22: =AB22+AC22 -> 6000
A23: 20 | B23: 日 | C23: 日 | D23: 曜日 | H23: H | J23: H | K23: 1875 | L23: 2343 | M23: =G23*K23+I23*L23 -> 0 | O23: =M23+N23 -> 0 | P23: 20 | Q23: 日 | R23: 水 | S23: 曜日 | T23: 倉庫 | U23: 13：00～17：00 | V23: 4 | W23: H | Y23: H | Z23: 1500 | AA23: 1875 | AB23: =V23*Z23+X23*AA23 -> 6000 | AD23: =AB23+AC23 -> 6000
A24: 21 | B24: 日 | C24: 月 | D24: 曜日 | H24: H | J24: H | K24: 1875 | L24: 2343 | M24: =G24*K24+I24*L24 -> 0 | O24: =M24+N24 -> 0 | P24: 21 | Q24: 日 | R24: 木 | S24: 曜日 | T24: 倉庫 | U24: 13：00～17：00 | V24: 4 | W24: H | Y24: H | Z24: 1500 | AA24: 1875 | AB24: =V24*Z24+X24*AA24 -> 6000 | AD24: =AB24+AC24 -> 6000
A25: 22 | B25: 日 | C25: 火 | D25: 曜日 | E25: 事務所 | F25: 13：00～17：00 | G25: 4 | H25: H | J25: H | K25: 1500 | L25: 1875 | M25: =G25*K25+I25*L25 -> 6000 | O25: =M25+N25 -> 6000 | P25: 22 | Q25: 日 | R25: 金 | S25: 曜日 | W25: H | Y25: H | Z25: 1500 | AA25: 1875 | AB25: =V25*Z25+X25*AA25 -> 0 | AD25: =AB25+AC25 -> 0
A26: 23 | B26: 日 | C26: 水 | D26: 曜日 | E26: 事務所 | F26: 13：00～17：00 | G26: 4 | H26: H | J26: H | K26: 1500 | L26: 1875 | M26: =G26*K26+I26*L26 -> 6000 | O26: =M26+N26 -> 6000 | P26: 23 | Q26: 日 | R26: 土 | S26: 曜日 | W26: H | Y26: H | Z26: 1500 | AA26: 1875 | AB26: =V26*Z26+X26*AA26 -> 0 | AD26: =AB26+AC26 -> 0
A27: 24 | B27: 日 | C27: 木 | D27: 曜日 | E27: 事務所 | F27: 13：00～17：00 | G27: 4 | H27: H | J27: H | K27: 1500 | L27: 1875 | M27: =G27*K27+I27*L27 -> 6000 | O27: =M27+N27 -> 6000 | P27: 24 | Q27: 日 | R27: 日 | S27: 曜日 | W27: H | Y27: H | Z27: 1500 | AA27: 1875 | AB27: =V27*Z27+X27*AA27 -> 0 | AD27: =AB27+AC27 -> 0
A28: 25 | B28: 日 | C28: 金 | D28: 曜日 | E28: 事務所 | F28: 13：00～17：00 | G28: 4 | H28: H | J28: H | K28: 1500 | L28: 1875 | M28: =G28*K28+I28*L28 -> 6000 | O28: =M28+N28 -> 6000 | P28: 25 | Q28: 日 | R28: 月 | S28: 曜日 | W28: H | Y28: H | Z28: 1500 | AA28: 1875 | AB28: =V28*Z28+X28*AA28 -> 0 | AD28: =AB28+AC28 -> 0
A29: 26 | B29: 日 | C29: 土 | D29: 曜日 | H29: H | J29: H | K29: 1500 | L29: 1875 | M29: =G29*K29+I29*L29 -> 0 | O29: =M29+N29 -> 0 | P29: 26 | Q29: 日 | R29: 火 | S29: 曜日 | W29: H | Y29: H | Z29: 1500 | AA29: 1875 | AB29: =V29*Z29+X29*AA29 -> 0 | AD29: =AB29+AC29 -> 0
A30: 27 | B30: 日 | C30: 日 | D30: 曜日 | H30: H | J30: H | K30: 1875 | L30: 2343 | M30: =G30*K30+I30*L30 -> 0 | O30: =M30+N30 -> 0 | P30: 27 | Q30: 日 | R30: 水 | S30: 曜日 | W30: H | Y30: H | Z30: 1500 | AA30: 1875 | AB30: =V30*Z30+X30*AA30 -> 0 | AD30: =AB30+AC30 -> 0
A31: 28 | B31: 日 | C31: 月 | D31: 曜日 | H31: H | J31: H | K31: 1500 | L31: 1875 | M31: =G31*K31+I31*L31 -> 0 | O31: =M31+N31 -> 0 | P31: 28 | Q31: 日 | R31: 木 | S31: 曜日 | W31: H | Y31: H | Z31: 1500 | AA31: 1875 | AB31: =V31*Z31+X31*AA31 -> 0 | AD31: =AB31+AC31 -> 0
A32: 29 | B32: 日 | C32: 火 | D32: 曜日 | H32: H | J32: H | K32: 1500 | L32: 1875 | M32: =G32*K32+I32*L32 -> 0 | O32: =M32+N32 -> 0 | P32: 29 | Q32: 日 | R32: 金 | S32: 曜日 | W32: H | Y32: H | Z32: 1500 | AA32: 1875 | AB32: =V32*Z32+X32*AA32 -> 0 | AD32: =AB32+AC32 -> 0
A33: 30 | B33: 日 | C33: 水 | D33: 曜日 | H33: H | J33: H | K33: 1500 | L33: 1875 | M33: =G33*K33+I33*L33 -> 0 | O33: =M33+N33 -> 0 | P33: 30 | Q33: 日 | R33: 土 | S33: 曜日 | W33: H | Y33: H | Z33: 1500 | AA33: 1875 | AB33: =V33*Z33+X33*AA33 -> 0 | AD33: =AB33+AC33 -> 0
A34: 31 | B34: 日 | C34: 木 | D34: 曜日 | H34: H | J34: H | K34: 1500 | L34: 1875 | M34: =G34*K34+I34*L34 -> 0 | O34: =M34+N34 -> 0 | P34: 31 | Q34: 日 | R34: 日 | S34: 曜日 | W34: H | Y34: H | Z34: 1500 | AA34: 1875 | AB34: =V34*Z34+X34*AA34 -> 0 | AD34: =AB34+AC34 -> 0
N35: ㈱CSILead | AC35: ㈱CSILead
N38: =SUM(O4:O37) -> 84000 | AC38: =SUM(AD4:AD37) -> 48000

Sheet 2
M1: 氏名 | AB1: 氏名 | AC1: =N1 -> 0
A3: ７月 | E3: 会場 | F3: 時間 | G3: 定時 | I3: 残業 | K3: 単価 | L3: 残業単価 | M3: 金額 | N3: 交通費 | O3: 合計 | P3: 8月 | T3: 会場 | U3: 時間 | V3: 定時 | X3: 残業 | Z3: 単価 | AA3: 残業単価 | AB3: 金額 | AC3: 交通費 | AD3: 合計
A4: 1 | B4: 日 | C4: 火 | D4: 曜日 | H4: H | J4: H | K4: 1500 | L4: 1875 | M4: =G4*K4+I4*L4 -> 0 | O4: =M4+N4 -> 0 | P4: 1 | Q4: 日 | R4: 金 | S4: 曜日 | T4: 事務所 | U4: 13：00～17：00 | V4: 4 | W4: H | Y4: H | Z4: 1500 | AA4: 1875 | AB4: =V4*Z4+X4*AA4 -> 6000 | AD4: =AB4+AC4 -> 6000
A5: 2 | B5: 日 | C5: 水 | D5: 曜日 | H5: H | J5: H | K5: 1500 | L5: 1875 | M5: =G5*K5+I5*L5 -> 0 | O5: =M5+N5 -> 0 | P5: 2 | Q5: 日 | R5: 土 | S5: 曜日 | W5: H | Y5: H | Z5: 1500 | AA5: 1875 | AB5: =V5*Z5+X5*AA5 -> 0 | AD5: =AB5+AC5 -> 0
A6: 3 | B6: 日 | C6: 木 | D6: 曜日 | H6: H | J6: H | K6: 1500 | L6: 1875 | M6: =G6*K6+I6*L6 -> 0 | O6: =M6+N6 -> 0 | P6: 3 | Q6: 日 | R6: 日 | S6: 曜日 | W6: H | Y6: H | Z6: 1500 | AA6: 1875 | AB6: =V6*Z6+X6*AA6 -> 0 | AD6: =AB6+AC6 -> 0
A7: 4 | B7: 日 | C7: 金 | D7: 曜日 | H7: H | J7: H | K7: 1500 | L7: 1875 | M7: =G7*K7+I7*L7 -> 0 | O7: =M7+N7 -> 0 | P7: 4 | Q7: 日 | R7: 月 | S7: 曜日 | T7: 事務所 | U7: 13：00～17：00 | V7: 4 | W7: H | Y7: H | Z7: 1500 | AA7: 1875 | AB7: =V7*Z7+X7*AA7 -> 6000 | AD7: =AB7+AC7 -> 6000
A8: 5 | B8: 日 | C8: 土 | D8: 曜日 | H8: H | J8: H | K8: 1500 | L8: 1875 | M8: =G8*K8+I8*L8 -> 0 | O8: =M8+N8 -> 0 | P8: 5 | Q8: 日 | R8: 火 | S8: 曜日 | T8: 事務所 | U8: 13：00～17：00 | V8: 4 | W8: H | Y8: H | Z8: 1500 | AA8: 1875 | AB8: =V8*Z8+X8*AA8 -> 6000 | AD8: =AB8+AC8 -> 6000
A9: 6 | B9: 日 | C9: 日 | D9: 曜日 | H9: H | J9: H | K9: 1875 | L9: 2343 | M9: =G9*K9+I9*L9 -> 0 | O9: =M9+N9 -> 0 | P9: 6 | Q9: 日 | R9: 水 | S9: 曜日 | T9: 事務所 | U9: 13：00～17：00 | V9: 4 | W9: H | Y9: H | Z9: 1500 | AA9: 1875 | AB9: =V9*Z9+X9*AA9 -> 6000 | AD9: =AB9+AC9 -> 6000
A10: 7 | B10: 日 | C10: 月 | D10: 曜日 | E10: 事務所 | F10: 13：00～17：00 | G10: 4 | H10: H | J10: H | K10: 1500 | L10: 1875 | M10: =G10*K10+I10*L10 -> 6000 | O10: =M10+N10 -> 6000 | P10: 7 | Q10: 日 | R10: 木 | S10: 曜日 | W10: H | Y10: H | Z10: 1500 | AA10: 1875 | AB10: =V10*Z10+X10*AA10 -> 0 | AD10: =AB10+AC10 -> 0
A11: 8 | B11: 日 | C11: 火 | D11: 曜日 | E11: 事務所 | F11: 13：00～17：00 | G11: 4 | H11: H | J11: H | K11: 1500 | L11: 1875 | M11: =G11*K11+I11*L11 -> 6000 | O11: =M11+N11 -> 6000 | P11: 8 | Q11: 日 | R11: 金 | S11: 曜日 | W11: H | Y11: H | Z11: 1500 | AA11: 1875 | AB11: =V11*Z11+X11*AA11 -> 0 | AD11: =AB11+AC11 -> 0
A12: 9 | B12: 日 | C12: 水 | D12: 曜日 | E12: 事務所 | F12: 13：00～17：00 | G12: 4 | H12: H | J12: H | K12: 1500 | L12: 1875 | M12: =G12*K12+I12*L12 -> 6000 | O12: =M12+N12 -> 6000 | P12: 9 | Q12: 日 | R12: 土 | S12: 曜日 | W12: H | Y12: H | Z12: 1500 | AA12: 1875 | AB12: =V12*Z12+X12*AA12 -> 0 | AD12: =AB12+AC12 -> 0
A13: 10 | B13: 日 | C13: 木 | D13: 曜日 | E13: 事務所 | F13: 13：00～17：00 | G13: 4 | H13: H | J13: H | K13: 1500 | L13: 1875 | M13: =G13*K13+I13*L13 -> 6000 | O13: =M13+N13 -> 6000 | P13: 10 | Q13: 日 | R13: 日 | S13: 曜日 | W13: H | Y13: H | Z13: 1500 | AA13: 1875 | AB13: =V13*Z13+X13*AA13 -> 0 | AD13: =AB13+AC13 -> 0
A14: 11 | B14: 日 | C14: 金 | D14: 曜日 | E14: 事務所 | F14: 13：00～17：00 | G14: 4 | H14: H | J14: H | K14: 1500 | L14: 1875 | M14: =G14*K14+I14*L14 -> 6000 | O14: =M14+N14 -> 6000 | P14: 11 | Q14: 日 | R14: 月 | S14: 曜日 | W14: H | Y14: H | Z14: 1500 | AA14: 1875 | AB14: =V14*Z14+X14*AA14 -> 0 | AD14: =AB14+AC14 -> 0
A15: 12 | B15: 日 | C15: 土 | D15: 曜日 | H15: H | J15: H | K15: 1500 | L15: 1875 | M15: =G15*K15+I15*L15 -> 0 | O15: =M15+N15 -> 0 | P15: 12 | Q15: 日 | R15: 火 | S15: 曜日 | W15: H | Y15: H | Z15: 1500 | AA15: 1875 | AB15: =V15*Z15+X15*AA15 -> 0 | AD15: =AB15+AC15 -> 0
A16: 13 | B16: 日 | C16: 日 | D16: 曜日 | H16: H | J16: H | K16: 1875 | L16: 2343 | M16: =G16*K16+I16*L16 -> 0 | O16: =M16+N16 -> 0 | P16: 13 | Q16: 日 | R16: 水 | S16: 曜日 | W16: H | Y16: H | Z16: 1875 | AA16: 2343 | AB16: =V16*Z16+X16*AA16 -> 0 | AD16: =AB16+AC16 -> 0
A17: 14 | B17: 日 | C17: 月 | D17: 曜日 | E17: 事務所 | F17: 13：00～17：00 | G17: 4 | H17: H | J17: H | K17: 1500 | L17: 1875 | M17: =G17*K17+I17*L17 -> 6000 | O17: =M17+N17 -> 6000 | P17: 14 | Q17: 日 | R17: 木 | S17: 曜日 | W17: H | Y17: H | Z17: 1875 | AA17: 2343 | AB17: =V17*Z17+X17*AA17 -> 0 | AD17: =AB17+AC17 -> 0
A18: 15 | B18: 日 | C18: 火 | D18: 曜日 | E18: 事務所 | F18: 13：00～17：00 | G18: 4 | H18: H | J18: H | K18: 1500 | L18: 1875 | M18: =G18*K18+I18*L18 -> 6000 | O18: =M18+N18 -> 6000 | P18: 15 | Q18: 日 | R18: 金 | S18: 曜日 | W18: H | Y18: H | Z18: 1875 | AA18: 2343 | AB18: =V18*Z18+X18*AA18 -> 0 | AD18: =AB18+AC18 -> 0
A19: 16 | B19: 日 | C19: 水 | D19: 曜日 | E19: 事務所 | F19: 13：00～17：00 | G19: 4 | H19: H | J19: H | K19: 1500 | L19: 1875 | M19: =G19*K19+I19*L19 -> 6000 | O19: =M19+N19 -> 6000 | P19: 16 | Q19: 日 | R19: 土 | S19: 曜日 | W19: H | Y19: H | Z19: 1500 | AA19: 1875 | AB19: =V19*Z19+X19*AA19 -> 0 | AD19: =AB19+AC19 -> 0
A20: 17 | B20: 日 | C20: 木 | D20: 曜日 | E20: 事務所 | F20: 13：00～17：00 | G20: 4 | H20: H | J20: H | K20: 1500 | L20: 1875 | M20: =G20*K20+I20*L20 -> 6000 | O20: =M20+N20 -> 6000 | P20: 17 | Q20: 日 | R20: 日 | S20: 曜日 | W20: H | Y20: H | Z20: 1500 | AA20: 1875 | AB20: =V20*Z20+X20*AA20 -> 0 | AD20: =AB20+AC20 -> 0
A21: 18 | B21: 日 | C21: 金 | D21: 曜日 | E21: 事務所 | F21: 13：00～17：00 | G21: 4 | H21: H | J21: H | K21: 1500 | L21: 1875 | M21: =G21*K21+I21*L21 -> 6000 | O21: =M21+N21 -> 6000 | P21: 18 | Q21: 日 | R21: 月 | S21: 曜日 | T21: 倉庫 | U21: 13：00～17：00 | V21: 4 | W21: H | Y21: H | Z21: 1500 | AA21: 1875 | AB21: =V21*Z21+X21*AA21 -> 6000 | AD21: =AB21+AC21 -> 6000
A22: 19 | B22: 日 | C22: 土 | D22: 曜日 | H22: H | J22: H | K22: 1500 | L22: 1875 | M22: =G22*K22+I22*L22 -> 0 | O22: =M22+N22 -> 0 | P22: 19 | Q22: 日 | R22: 火 | S22: 曜日 | T22: 倉庫 | U22: 13：00～17：00 | V22: 4 | W22: H | Y22: H | Z22: 1500 | AA22: 1875 | AB22: =V22*Z22+X22*AA22 -> 6000 | AD22: =AB22+AC22 -> 6000
A23: 20 | B23: 日 | C23: 日 | D23: 曜日 | H23: H | J23: H | K23: 1875 | L23: 2343 | M23: =G23*K23+I23*L23 -> 0 | O23: =M23+N23 -> 0 | P23: 20 | Q23: 日 | R23: 水 | S23: 曜日 | T23: 倉庫 | U23: 13：00～17：00 | V23: 4 | W23: H | Y23: H | Z23: 1500 | AA23: 1875 | AB23: =V23*Z23+X23*AA23 -> 6000 | AD23: =AB23+AC23 -> 6000
A24: 21 | B24: 日 | C24: 月 | D24: 曜日 | H24: H | J24: H | K24: 1875 | L24: 2343 | M24: =G24*K24+I24*L24 -> 0 | O24: =M24+N24 -> 0 | P24: 21 | Q24: 日 | R24: 木 | S24: 曜日 | T24: 倉庫 | U24: 13：00～17：00 | V24: 4 | W24: H | Y24: H | Z24: 1500 | AA24: 1875 | AB24: =V24*Z24+X24*AA24 -> 6000 | AD24: =AB24+AC24 -> 6000
A25: 22 | B25: 日 | C25: 火 | D25: 曜日 | E25: 事務所 | F25: 13：00～17：00 | G25: 4 | H25: H | J25: H | K25: 1500 | L25: 1875 | M25: =G25*K25+I25*L25 -> 6000 | O25: =M25+N25 -> 6000 | P25: 22 | Q25: 日 | R25: 金 | S25: 曜日 | W25: H | Y25: H | Z25: 1500 | AA25: 1875 | AB25: =V25*Z25+X25*AA25 -> 0 | AD25: =AB25+AC25 -> 0
A26: 23 | B26: 日 | C26: 水 | D26: 曜日 | E26: 事務所 | F26: 13：00～17：00 | G26: 4 | H26: H | J26: H | K26: 1500 | L26: 1875 | M26: =G26*K26+I26*L26 -> 6000 | O26: =M26+N26 -> 6000 | P26: 23 | Q26: 日 | R26: 土 | S26: 曜日 | W26: H | Y26: H | Z26: 1500 | AA26: 1875 | AB26: =V26*Z26+X26*AA26 -> 0 | AD26: =AB26+AC26 -> 0
A27: 24 | B27: 日 | C27: 木 | D27: 曜日 | E27: 事務所 | F27: 13：00～17：00 | G27: 4 | H27: H | J27: H | K27: 1500 | L27: 1875 | M27: =G27*K27+I27*L27 -> 6000 | O27: =M27+N27 -> 6000 | P27: 24 | Q27: 日 | R27: 日 | S27: 曜日 | W27: H | Y27: H | Z27: 1500 | AA27: 1875 | AB27: =V27*Z27+X27*AA27 -> 0 | AD27: =AB27+AC27 -> 0
A28: 25 | B28: 日 | C28: 金 | D28: 曜日 | E28: 事務所 | F28: 13：00～17：00 | G28: 4 | H28: H | J28: H | K28: 1500 | L28: 1875 | M28: =G28*K28+I28*L28 -> 6000 | O28: =M28+N28 -> 6000 | P28: 25 | Q28: 日 | R28: 月 | S28: 曜日 | W28: H | Y28: H | Z28: 1500 | AA28: 1875 | AB28: =V28*Z28+X28*AA28 -> 0 | AD28: =AB28+AC28 -> 0
A29: 26 | B29: 日 | C29: 土 | D29: 曜日 | H29: H | J29: H | K29: 1500 | L29: 1875 | M29: =G29*K29+I29*L29 -> 0 | O29: =M29+N29 -> 0 | P29: 26 | Q29: 日 | R29: 火 | S29: 曜日 | W29: H | Y29: H | Z29: 1500 | AA29: 1875 | AB29: =V29*Z29+X29*AA29 -> 0 | AD29: =AB29+AC29 -> 0
A30: 27 | B30: 日 | C30: 日 | D30: 曜日 | H30: H | J30: H | K30: 1875 | L30: 2343 | M30: =G30*K30+I30*L30 -> 0 | O30: =M30+N30 -> 0 | P30: 27 | Q30: 日 | R30: 水 | S30: 曜日 | W30: H | Y30: H | Z30: 1500 | AA30: 1875 | AB30: =V30*Z30+X30*AA30 -> 0 | AD30: =AB30+AC30 -> 0
A31: 28 | B31: 日 | C31: 月 | D31: 曜日 | H31: H | J31: H | K31: 1500 | L31: 1875 | M31: =G31*K31+I31*L31 -> 0 | O31: =M31+N31 -> 0 | P31: 28 | Q31: 日 | R31: 木 | S31: 曜日 | W31: H | Y31: H | Z31: 1500 | AA31: 1875 | AB31: =V31*Z31+X31*AA31 -> 0 | AD31: =AB31+AC31 -> 0
A32: 29 | B32: 日 | C32: 火 | D32: 曜日 | H32: H | J32: H | K32: 1500 | L32: 1875 | M32: =G32*K32+I32*L32 -> 0 | O32: =M32+N32 -> 0 | P32: 29 | Q32: 日 | R32: 金 | S32: 曜日 | W32: H | Y32: H | Z32: 1500 | AA32: 1875 | AB32: =V32*Z32+X32*AA32 -> 0 | AD32: =AB32+AC32 -> 0
A33: 30 | B33: 日 | C33: 水 | D33: 曜日 | H33: H | J33: H | K33: 1500 | L33: 1875 | M33: =G33*K33+I33*L33 -> 0 | O33: =M33+N33 -> 0 | P33: 30 | Q33: 日 | R33: 土 | S33: 曜日 | W33: H | Y33: H | Z33: 1500 | AA33: 1875 | AB33: =V33*Z33+X33*AA33 -> 0 | AD33: =AB33+AC33 -> 0
A34: 31 | B34: 日 | C34: 木 | D34: 曜日 | H34: H | J34: H | K34: 1500 | L34: 1875 | M34: =G34*K34+I34*L34 -> 0 | O34: =M34+N34 -> 0 | P34: 31 | Q34: 日 | R34: 日 | S34: 曜日 | W34: H | Y34: H | Z34: 1500 | AA34: 1875 | AB34: =V34*Z34+X34*AA34 -> 0 | AD34: =AB34+AC34 -> 0
N35: ㈱CSILead | AC35: ㈱CSILead
O38: =SUM(O4:O37) -> 84000 | AD38: =SUM(AD4:AD37) -> 48000

Sheet 1
M1: 氏名 | AB1: 氏名 | AC1: =N1 -> 0
A3: ７月 | E3: 会場 | F3: 時間 | G3: 定時 | I3: 残業 | K3: 単価 | L3: 残業単価 | M3: 金額 | N3: 交通費 | O3: 合計 | P3: 8月 | T3: 会場 | U3: 時間 | V3: 定時 | X3: 残業 | Z3: 単価 | AA3: 残業単価 | AB3: 金額 | AC3: 交通費 | AD3: 合計
A4: 1 | B4: 日 | C4: 火 | D4: 曜日 | H4: H | J4: H | K4: 1500 | L4: 1875 | M4: =G4*K4+I4*L4 -> 0 | O4: =M4+N4 -> 0 | P4: 1 | Q4: 日 | R4: 金 | S4: 曜日 | T4: 事務所 | U4: 13：00～17：00 | V4: 4 | W4: H | Y4: H | Z4: 1500 | AA4: 1875 | AB4: =V4*Z4+X4*AA4 -> 6000 | AD4: =AB4+AC4 -> 6000
A5: 2 | B5: 日 | C5: 水 | D5: 曜日 | H5: H | J5: H | K5: 1500 | L5: 1875 | M5: =G5*K5+I5*L5 -> 0 | O5: =M5+N5 -> 0 | P5: 2 | Q5: 日 | R5: 土 | S5: 曜日 | T5: 事務所 | U5: 13：00～17：00 | V5: 4 | W5: H | Y5: H | Z5: 1500 | AA5: 1875 | AB5: =V5*Z5+X5*AA5 -> 6000 | AD5: =AB5+AC5 -> 6000
A6: 3 | B6: 日 | C6: 木 | D6: 曜日 | H6: H | J6: H | K6: 1500 | L6: 1875 | M6: =G6*K6+I6*L6 -> 0 | O6: =M6+N6 -> 0 | P6: 3 | Q6: 日 | R6: 日 | S6: 曜日 | W6: H | Y6: H | Z6: 1500 | AA6: 1875 | AB6: =V6*Z6+X6*AA6 -> 0 | AD6: =AB6+AC6 -> 0
A7: 4 | B7: 日 | C7: 金 | D7: 曜日 | H7: H | J7: H | K7: 1500 | L7: 1875 | M7: =G7*K7+I7*L7 -> 0 | O7: =M7+N7 -> 0 | P7: 4 | Q7: 日 | R7: 月 | S7: 曜日 | T7: 事務所 | U7: 13：00～17：00 | V7: 4 | W7: H | Y7: H | Z7: 1500 | AA7: 1875 | AB7: =V7*Z7+X7*AA7 -> 6000 | AD7: =AB7+AC7 -> 6000
A8: 5 | B8: 日 | C8: 土 | D8: 曜日 | H8: H | J8: H | K8: 1500 | L8: 1875 | M8: =G8*K8+I8*L8 -> 0 | O8: =M8+N8 -> 0 | P8: 5 | Q8: 日 | R8: 火 | S8: 曜日 | T8: 事務所 | U8: 13：00～17：00 | V8: 4 | W8: H | Y8: H | Z8: 1500 | AA8: 1875 | AB8: =V8*Z8+X8*AA8 -> 6000 | AD8: =AB8+AC8 -> 6000
A9: 6 | B9: 日 | C9: 日 | D9: 曜日 | H9: H | J9: H | K9: 1875 | L9: 2343 | M9: =G9*K9+I9*L9 -> 0 | O9: =M9+N9 -> 0 | P9: 6 | Q9: 日 | R9: 水 | S9: 曜日 | T9: 事務所 | U9: 13：00～17：00 | V9: 4 | W9: H | Y9: H | Z9: 1500 | AA9: 1875 | AB9: =V9*Z9+X9*AA9 -> 6000 | AD9: =AB9+AC9 -> 6000
A10: 7 | B10: 日 | C10: 月 | D10: 曜日 | E10: 事務所 | F10: 13：00～17：00 | G10: 4 | H10: H | J10: H | K10: 1500 | L10: 1875 | M10: =G10*K10+I10*L10 -> 6000 | O10: =M10+N10 -> 6000 | P10: 7 | Q10: 日 | R10: 木 | S10: 曜日 | W10: H | Y10: H | Z10: 1500 | AA10: 1875 | AB10: =V10*Z10+X10*AA10 -> 0 | AD10: =AB10+AC10 -> 0
A11: 8 | B11: 日 | C11: 火 | D11: 曜日 | E11: 事務所 | F11: 13：00～17：00 | G11: 4 | H11: H | J11: H | K11: 1500 | L11: 1875 | M11: =G11*K11+I11*L11 -> 6000 | O11: =M11+N11 -> 6000 | P11: 8 | Q11: 日 | R11: 金 | S11: 曜日 | W11: H | Y11: H | Z11: 1500 | AA11: 1875 | AB11: =V11*Z11+X11*AA11 -> 0 | AD11: =AB11+AC11 -> 0
A12: 9 | B12: 日 | C12: 水 | D12: 曜日 | E12: 事務所 | F12: 13：00～17：00 | G12: 4 | H12: H | J12: H | K12: 1500 | L12: 1875 | M12: =G12*K12+I12*L12 -> 6000 | O12: =M12+N12 -> 6000 | P12: 9 | Q12: 日 | R12: 土 | S12: 曜日 | W12: H | Y12: H | Z12: 1500 | AA12: 1875 | AB12: =V12*Z12+X12*AA12 -> 0 | AD12: =AB12+AC12 -> 0
A13: 10 | B13: 日 | C13: 木 | D13: 曜日 | E13: 事務所 | F13: 13：00～17：00 | G13: 4 | H13: H | J13: H | K13: 1500 | L13: 1875 | M13: =G13*K13+I13*L13 -> 6000 | O13: =M13+N13 -> 6000 | P13: 10 | Q13: 日 | R13: 日 | S13: 曜日 | W13: H | Y13: H | Z13: 1500 | AA13: 1875 | AB13: =V13*Z13+X13*AA13 -> 0 | AD13: =AB13+AC13 -> 0
A14: 11 | B14: 日 | C14: 金 | D14: 曜日 | E14: 事務所 | F14: 13：00～17：00 | G14: 4 | H14: H | J14: H | K14: 1500 | L14: 1875 | M14: =G14*K14+I14*L14 -> 6000 | O14: =M14+N14 -> 6000 | P14: 11 | Q14: 日 | R14: 月 | S14: 曜日 | W14: H | Y14: H | Z14: 1500 | AA14: 1875 | AB14: =V14*Z14+X14*AA14 -> 0 | AD14: =AB14+AC14 -> 0
A15: 12 | B15: 日 | C15: 土 | D15: 曜日 | H15: H | J15: H | K15: 1500 | L15: 1875 | M15: =G15*K15+I15*L15 -> 0 | O15: =M15+N15 -> 0 | P15: 12 | Q15: 日 | R15: 火 | S15: 曜日 | W15: H | Y15: H | Z15: 1500 | AA15: 1875 | AB15: =V15*Z15+X15*AA15 -> 0 | AD15: =AB15+AC15 -> 0
A16: 13 | B16: 日 | C16: 日 | D16: 曜日 | H16: H | J16: H | K16: 1875 | L16: 2343 | M16: =G16*K16+I16*L16 -> 0 | O16: =M16+N16 -> 0 | P16: 13 | Q16: 日 | R16: 水 | S16: 曜日 | W16: H | Y16: H | Z16: 1875 | AA16: 2343 | AB16: =V16*Z16+X16*AA16 -> 0 | AD16: =AB16+AC16 -> 0
A17: 14 | B17: 日 | C17: 月 | D17: 曜日 | E17: 事務所 | F17: 13：00～17：00 | G17: 4 | H17: H | J17: H | K17: 1500 | L17: 1875 | M17: =G17*K17+I17*L17 -> 6000 | O17: =M17+N17 -> 6000 | P17: 14 | Q17: 日 | R17: 木 | S17: 曜日 | W17: H | Y17: H | Z17: 1875 | AA17: 2343 | AB17: =V17*Z17+X17*AA17 -> 0 | AD17: =AB17+AC17 -> 0
A18: 15 | B18: 日 | C18: 火 | D18: 曜日 | E18: 事務所 | F18: 13：00～17：00 | G18: 4 | H18: H | J18: H | K18: 1500 | L18: 1875 | M18: =G18*K18+I18*L18 -> 6000 | O18: =M18+N18 -> 6000 | P18: 15 | Q18: 日 | R18: 金 | S18: 曜日 | W18: H | Y18: H | Z18: 1875 | AA18: 2343 | AB18: =V18*Z18+X18*AA18 -> 0 | AD18: =AB18+AC18 -> 0
A19: 16 | B19: 日 | C19: 水 | D19: 曜日 | E19: 事務所 | F19: 13：00～17：00 | G19: 4 | H19: H | J19: H | K19: 1500 | L19: 1875 | M19: =G19*K19+I19*L19 -> 6000 | O19: =M19+N19 -> 6000 | P19: 16 | Q19: 日 | R19: 土 | S19: 曜日 | W19: H | Y19: H | Z19: 1500 | AA19: 1875 | AB19: =V19*Z19+X19*AA19 -> 0 | AD19: =AB19+AC19 -> 0
A20: 17 | B20: 日 | C20: 木 | D20: 曜日 | E20: 事務所 | F20: 13：00～17：00 | G20: 4 | H20: H | J20: H | K20: 1500 | L20: 1875 | M20: =G20*K20+I20*L20 -> 6000 | O20: =M20+N20 -> 6000 | P20: 17 | Q20: 日 | R20: 日 | S20: 曜日 | W20: H | Y20: H | Z20: 1500 | AA20: 1875 | AB20: =V20*Z20+X20*AA20 -> 0 | AD20: =AB20+AC20 -> 0
A21: 18 | B21: 日 | C21: 金 | D21: 曜日 | E21: 事務所 | F21: 13：00～17：00 | G21: 4 | H21: H | J21: H | K21: 1500 | L21: 1875 | M21: =G21*K21+I21*L21 -> 6000 | O21: =M21+N21 -> 6000 | P21: 18 | Q21: 日 | R21: 月 | S21: 曜日 | T21: 倉庫 | U21: 13：00～17：00 | V21: 4 | W21: H | Y21: H | Z21: 1500 | AA21: 1875 | AB21: =V21*Z21+X21*AA21 -> 6000 | AD21: =AB21+AC21 -> 6000
A22: 19 | B22: 日 | C22: 土 | D22: 曜日 | H22: H | J22: H | K22: 1500 | L22: 1875 | M22: =G22*K22+I22*L22 -> 0 | O22: =M22+N22 -> 0 | P22: 19 | Q22: 日 | R22: 火 | S22: 曜日 | T22: 倉庫 | U22: 13：00～17：00 | V22: 4 | W22: H | Y22: H | Z22: 1500 | AA22: 1875 | AB22: =V22*Z22+X22*AA22 -> 6000 | AD22: =AB22+AC22 -> 6000
A23: 20 | B23: 日 | C23: 日 | D23: 曜日 | H23: H | J23: H | K23: 1875 | L23: 2343 | M23: =G23*K23+I23*L23 -> 0 | O23: =M23+N23 -> 0 | P23: 20 | Q23: 日 | R23: 水 | S23: 曜日 | T23: 倉庫 | U23: 13：00～17：00 | V23: 4 | W23: H | Y23: H | Z23: 1500 | AA23: 1875 | AB23: =V23*Z23+X23*AA23 -> 6000 | AD23: =AB23+AC23 -> 6000
A24: 21 | B24: 日 | C24: 月 | D24: 曜日 | H24: H | J24: H | K24: 1875 | L24: 2343 | M24: =G24*K24+I24*L24 -> 0 | O24: =M24+N24 -> 0 | P24: 21 | Q24: 日 | R24: 木 | S24: 曜日 | T24: 倉庫 | U24: 13：00～17：00 | V24: 4 | W24: H | Y24: H | Z24: 1500 | AA24: 1875 | AB24: =V24*Z24+X24*AA24 -> 6000 | AD24: =AB24+AC24 -> 6000
A25: 22 | B25: 日 | C25: 火 | D25: 曜日 | E25: 事務所 | F25: 13：00～17：00 | G25: 4 | H25: H | J25: H | K25: 1500 | L25: 1875 | M25: =G25*K25+I25*L25 -> 6000 | O25: =M25+N25 -> 6000 | P25: 22 | Q25: 日 | R25: 金 | S25: 曜日 | W25: H | Y25: H | Z25: 1500 | AA25: 1875 | AB25: =V25*Z25+X25*AA25 -> 0 | AD25: =AB25+AC25 -> 0
A26: 23 | B26: 日 | C26: 水 | D26: 曜日 | E26: 事務所 | F26: 13：00～17：00 | G26: 4 | H26: H | J26: H | K26: 1500 | L26: 1875 | M26: =G26*K26+I26*L26 -> 6000 | O26: =M26+N26 -> 6000 | P26: 23 | Q26: 日 | R26: 土 | S26: 曜日 | W26: H | Y26: H | Z26: 1500 | AA26: 1875 | AB26: =V26*Z26+X26*AA26 -> 0 | AD26: =AB26+AC26 -> 0
A27: 24 | B27: 日 | C27: 木 | D27: 曜日 | E27: 事務所 | F27: 13：00～17：00 | G27: 4 | H27: H | J27: H | K27: 1500 | L27: 1875 | M27: =G27*K27+I27*L27 -> 6000 | O27: =M27+N27 -> 6000 | P27: 24 | Q27: 日 | R27: 日 | S27: 曜日 | W27: H | Y27: H | Z27: 1500 | AA27: 1875 | AB27: =V27*Z27+X27*AA27 -> 0 | AD27: =AB27+AC27 -> 0
A28: 25 | B28: 日 | C28: 金 | D28: 曜日 | E28: 事務所 | F28: 13：00～17：00 | G28: 4 | H28: H | J28: H | K28: 1500 | L28: 1875 | M28: =G28*K28+I28*L28 -> 6000 | O28: =M28+N28 -> 6000 | P28: 25 | Q28: 日 | R28: 月 | S28: 曜日 | W28: H | Y28: H | Z28: 1500 | AA28: 1875 | AB28: =V28*Z28+X28*AA28 -> 0 | AD28: =AB28+AC28 -> 0
A29: 26 | B29: 日 | C29: 土 | D29: 曜日 | H29: H | J29: H | K29: 1500 | L29: 1875 | M29: =G29*K29+I29*L29 -> 0 | O29: =M29+N29 -> 0 | P29: 26 | Q29: 日 | R29: 火 | S29: 曜日 | W29: H | Y29: H | Z29: 1500 | AA29: 1875 | AB29: =V29*Z29+X29*AA29 -> 0 | AD29: =AB29+AC29 -> 0
A30: 27 | B30: 日 | C30: 日 | D30: 曜日 | H30: H | J30: H | K30: 1875 | L30: 2343 | M30: =G30*K30+I30*L30 -> 0 | O30: =M30+N30 -> 0 | P30: 27 | Q30: 日 | R30: 水 | S30: 曜日 | W30: H | Y30: H | Z30: 1500 | AA30: 1875 | AB30: =V30*Z30+X30*AA30 -> 0 | AD30: =AB30+AC30 -> 0
A31: 28 | B31: 日 | C31: 月 | D31: 曜日 | H31: H | J31: H | K31: 1500 | L31: 1875 | M31: =G31*K31+I31*L31 -> 0 | O31: =M31+N31 -> 0 | P31: 28 | Q31: 日 | R31: 木 | S31: 曜日 | W31: H | Y31: H | Z31: 1500 | AA31: 1875 | AB31: =V31*Z31+X31*AA31 -> 0 | AD31: =AB31+AC31 -> 0
A32: 29 | B32: 日 | C32: 火 | D32: 曜日 | H32: H | J32: H | K32: 1500 | L32: 1875 | M32: =G32*K32+I32*L32 -> 0 | O32: =M32+N32 -> 0 | P32: 29 | Q32: 日 | R32: 金 | S32: 曜日 | W32: H | Y32: H | Z32: 1500 | AA32: 1875 | AB32: =V32*Z32+X32*AA32 -> 0 | AD32: =AB32+AC32 -> 0
A33: 30 | B33: 日 | C33: 水 | D33: 曜日 | H33: H | J33: H | K33: 1500 | L33: 1875 | M33: =G33*K33+I33*L33 -> 0 | O33: =M33+N33 -> 0 | P33: 30 | Q33: 日 | R33: 土 | S33: 曜日 | W33: H | Y33: H | Z33: 1500 | AA33: 1875 | AB33: =V33*Z33+X33*AA33 -> 0 | AD33: =AB33+AC33 -> 0
A34: 31 | B34: 日 | C34: 木 | D34: 曜日 | H34: H | J34: H | K34: 1500 | L34: 1875 | M34: =G34*K34+I34*L34 -> 0 | O34: =M34+N34 -> 0 | P34: 31 | Q34: 日 | R34: 日 | S34: 曜日 | W34: H | Y34: H | Z34: 1500 | AA34: 1875 | AB34: =V34*Z34+X34*AA34 -> 0 | AD34: =AB34+AC34 -> 0
N35: ㈱CSILead | AC35: ㈱CSILead
O38: =SUM(O4:O37) -> 84000 | AD38: =SUM(AD4:AD37) -> 54000

Sheet 由紀子
M1: 氏名 | AB1: 氏名 | AC1: =N1 -> 0
A3: ７月 | E3: 会場 | F3: 時間 | G3: 定時 | I3: 残業 | K3: 単価 | L3: 残業単価 | M3: 金額 | N3: 交通費 | O3: 合計 | P3: 8月 | T3: 会場 | U3: 時間 | V3: 定時 | X3: 残業 | Z3: 単価 | AA3: 残業単価 | AB3: 金額 | AC3: 交通費 | AD3: 合計
A4: 1 | B4: 日 | C4: 火 | D4: 曜日 | H4: H | J4: H | K4: 1500 | L4: 1875 | M4: =G4*K4+I4*L4 -> 0 | O4: =M4+N4 -> 0 | P4: 1 | Q4: 日 | R4: 金 | S4: 曜日 | T4: 事務所 | U4: 13：00～17：00 | V4: 4 | W4: H | Y4: H | Z4: 1500 | AA4: 1875 | AB4: =V4*Z4+X4*AA4 -> 6000 | AD4: =AB4+AC4 -> 6000
A5: 2 | B5: 日 | C5: 水 | D5: 曜日 | H5: H | J5: H | K5: 1500 | L5: 1875 | M5: =G5*K5+I5*L5 -> 0 | O5: =M5+N5 -> 0 | P5: 2 | Q5: 日 | R5: 土 | S5: 曜日 | W5: H | Y5: H | Z5: 1500 | AA5: 1875 | AB5: =V5*Z5+X5*AA5 -> 0 | AD5: =AB5+AC5 -> 0
A6: 3 | B6: 日 | C6: 木 | D6: 曜日 | H6: H | J6: H | K6: 1500 | L6: 1875 | M6: =G6*K6+I6*L6 -> 0 | O6: =M6+N6 -> 0 | P6: 3 | Q6: 日 | R6: 日 | S6: 曜日 | W6: H | Y6: H | Z6: 1500 | AA6: 1875 | AB6: =V6*Z6+X6*AA6 -> 0 | AD6: =AB6+AC6 -> 0
A7: 4 | B7: 日 | C7: 金 | D7: 曜日 | H7: H | J7: H | K7: 1500 | L7: 1875 | M7: =G7*K7+I7*L7 -> 0 | O7: =M7+N7 -> 0 | P7: 4 | Q7: 日 | R7: 月 | S7: 曜日 | T7: 事務所 | U7: 13：00～17：00 | V7: 4 | W7: H | Y7: H | Z7: 1500 | AA7: 1875 | AB7: =V7*Z7+X7*AA7 -> 6000 | AD7: =AB7+AC7 -> 6000
A8: 5 | B8: 日 | C8: 土 | D8: 曜日 | H8: H | J8: H | K8: 1500 | L8: 1875 | M8: =G8*K8+I8*L8 -> 0 | O8: =M8+N8 -> 0 | P8: 5 | Q8: 日 | R8: 火 | S8: 曜日 | T8: 事務所 | U8: 13：00～17：00 | V8: 4 | W8: H | Y8: H | Z8: 1500 | AA8: 1875 | AB8: =V8*Z8+X8*AA8 -> 6000 | AD8: =AB8+AC8 -> 6000
A9: 6 | B9: 日 | C9: 日 | D9: 曜日 | H9: H | J9: H | K9: 1875 | L9: 2343 | M9: =G9*K9+I9*L9 -> 0 | O9: =M9+N9 -> 0 | P9: 6 | Q9: 日 | R9: 水 | S9: 曜日 | T9: 事務所 | U9: 13：00～17：00 | V9: 4 | W9: H | Y9: H | Z9: 1500 | AA9: 1875 | AB9: =V9*Z9+X9*AA9 -> 6000 | AD9: =AB9+AC9 -> 6000
A10: 7 | B10: 日 | C10: 月 | D10: 曜日 | E10: 事務所 | F10: 13：00～17：00 | G10: 4 | H10: H | J10: H | K10: 1500 | L10: 1875 | M10: =G10*K10+I10*L10 -> 6000 | O10: =M10+N10 -> 6000 | P10: 7 | Q10: 日 | R10: 木 | S10: 曜日 | W10: H | Y10: H | Z10: 1500 | AA10: 1875 | AB10: =V10*Z10+X10*AA10 -> 0 | AD10: =AB10+AC10 -> 0
A11: 8 | B11: 日 | C11: 火 | D11: 曜日 | E11: 事務所 | F11: 13：00～17：00 | G11: 4 | H11: H | J11: H | K11: 1500 | L11: 1875 | M11: =G11*K11+I11*L11 -> 6000 | O11: =M11+N11 -> 6000 | P11: 8 | Q11: 日 | R11: 金 | S11: 曜日 | W11: H | Y11: H | Z11: 1500 | AA11: 1875 | AB11: =V11*Z11+X11*AA11 -> 0 | AD11: =AB11+AC11 -> 0
A12: 9 | B12: 日 | C12: 水 | D12: 曜日 | E12: 事務所 | F12: 13：00～17：00 | G12: 4 | H12: H | J12: H | K12: 1500 | L12: 1875 | M12: =G12*K12+I12*L12 -> 6000 | O12: =M12+N12 -> 6000 | P12: 9 | Q12: 日 | R12: 土 | S12: 曜日 | W12: H | Y12: H | Z12: 1500 | AA12: 1875 | AB12: =V12*Z12+X12*AA12 -> 0 | AD12: =AB12+AC12 -> 0
A13: 10 | B13: 日 | C13: 木 | D13: 曜日 | E13: 事務所 | F13: 13：00～17：00 | G13: 4 | H13: H | J13: H | K13: 1500 | L13: 1875 | M13: =G13*K13+I13*L13 -> 6000 | O13: =M13+N13 -> 6000 | P13: 10 | Q13: 日 | R13: 日 | S13: 曜日 | W13: H | Y13: H | Z13: 1500 | AA13: 1875 | AB13: =V13*Z13+X13*AA13 -> 0 | AD13: =AB13+AC13 -> 0
A14: 11 | B14: 日 | C14: 金 | D14: 曜日 | E14: 事務所 | F14: 13：00～17：00 | G14: 4 | H14: H | J14: H | K14: 1500 | L14: 1875 | M14: =G14*K14+I14*L14 -> 6000 | O14: =M14+N14 -> 6000 | P14: 11 | Q14: 日 | R14: 月 | S14: 曜日 | W14: H | Y14: H | Z14: 1500 | AA14: 1875 | AB14: =V14*Z14+X14*AA14 -> 0 | AD14: =AB14+AC14 -> 0
A15: 12 | B15: 日 | C15: 土 | D15: 曜日 | H15: H | J15: H | K15: 1500 | L15: 1875 | M15: =G15*K15+I15*L15 -> 0 | O15: =M15+N15 -> 0 | P15: 12 | Q15: 日 | R15: 火 | S15: 曜日 | W15: H | Y15: H | Z15: 1500 | AA15: 1875 | AB15: =V15*Z15+X15*AA15 -> 0 | AD15: =AB15+AC15 -> 0
A16: 13 | B16: 日 | C16: 日 | D16: 曜日 | H16: H | J16: H | K16: 1875 | L16: 2343 | M16: =G16*K16+I16*L16 -> 0 | O16: =M16+N16 -> 0 | P16: 13 | Q16: 日 | R16: 水 | S16: 曜日 | W16: H | Y16: H | Z16: 1875 | AA16: 2343 | AB16: =V16*Z16+X16*AA16 -> 0 | AD16: =AB16+AC16 -> 0
A17: 14 | B17: 日 | C17: 月 | D17: 曜日 | E17: 事務所 | F17: 13：00～17：00 | G17: 4 | H17: H | J17: H | K17: 1500 | L17: 1875 | M17: =G17*K17+I17*L17 -> 6000 | O17: =M17+N17 -> 6000 | P17: 14 | Q17: 日 | R17: 木 | S17: 曜日 | W17: H | Y17: H | Z17: 1875 | AA17: 2343 | AB17: =V17*Z17+X17*AA17 -> 0 | AD17: =AB17+AC17 -> 0
A18: 15 | B18: 日 | C18: 火 | D18: 曜日 | E18: 事務所 | F18: 13：00～17：00 | G18: 4 | H18: H | J18: H | K18: 1500 | L18: 1875 | M18: =G18*K18+I18*L18 -> 6000 | O18: =M18+N18 -> 6000 | P18: 15 | Q18: 日 | R18: 金 | S18: 曜日 | W18: H | Y18: H | Z18: 1875 | AA18: 2343 | AB18: =V18*Z18+X18*AA18 -> 0 | AD18: =AB18+AC18 -> 0
A19: 16 | B19: 日 | C19: 水 | D19: 曜日 | E19: 事務所 | F19: 13：00～17：00 | G19: 4 | H19: H | J19: H | K19: 1500 | L19: 1875 | M19: =G19*K19+I19*L19 -> 6000 | O19: =M19+N19 -> 6000 | P19: 16 | Q19: 日 | R19: 土 | S19: 曜日 | W19: H | Y19: H | Z19: 1500 | AA19: 1875 | AB19: =V19*Z19+X19*AA19 -> 0 | AD19: =AB19+AC19 -> 0
A20: 17 | B20: 日 | C20: 木 | D20: 曜日 | E20: 事務所 | F20: 13：00～17：00 | G20: 4 | H20: H | J20: H | K20: 1500 | L20: 1875 | M20: =G20*K20+I20*L20 -> 6000 | O20: =M20+N20 -> 6000 | P20: 17 | Q20: 日 | R20: 日 | S20: 曜日 | W20: H | Y20: H | Z20: 1500 | AA20: 1875 | AB20: =V20*Z20+X20*AA20 -> 0 | AD20: =AB20+AC20 -> 0
A21: 18 | B21: 日 | C21: 金 | D21: 曜日 | E21: 事務所 | F21: 13：00～17：00 | G21: 4 | H21: H | J21: H | K21: 1500 | L21: 1875 | M21: =G21*K21+I21*L21 -> 6000 | O21: =M21+N21 -> 6000 | P21: 18 | Q21: 日 | R21: 月 | S21: 曜日 | T21: 倉庫 | U21: 13：00～17：00 | V21: 4 | W21: H | Y21: H | Z21: 1500 | AA21: 1875 | AB21: =V21*Z21+X21*AA21 -> 6000 | AD21: =AB21+AC21 -> 6000
A22: 19 | B22: 日 | C22: 土 | D22: 曜日 | H22: H | J22: H | K22: 1500 | L22: 1875 | M22: =G22*K22+I22*L22 -> 0 | O22: =M22+N22 -> 0 | P22: 19 | Q22: 日 | R22: 火 | S22: 曜日 | T22: 倉庫 | U22: 13：00～17：00 | V22: 4 | W22: H | Y22: H | Z22: 1500 | AA22: 1875 | AB22: =V22*Z22+X22*AA22 -> 6000 | AD22: =AB22+AC22 -> 6000
A23: 20 | B23: 日 | C23: 日 | D23: 曜日 | H23: H | J23: H | K23: 1875 | L23: 2343 | M23: =G23*K23+I23*L23 -> 0 | O23: =M23+N23 -> 0 | P23: 20 | Q23: 日 | R23: 水 | S23: 曜日 | T23: 倉庫 | U23: 13：00～17：00 | V23: 4 | W23: H | Y23: H | Z23: 1500 | AA23: 1875 | AB23: =V23*Z23+X23*AA23 -> 6000 | AD23: =AB23+AC23 -> 6000
A24: 21 | B24: 日 | C24: 月 | D24: 曜日 | H24: H | J24: H | K24: 1875 | L24: 2343 | M24: =G24*K24+I24*L24 -> 0 | O24: =M24+N24 -> 0 | P24: 21 | Q24: 日 | R24: 木 | S24: 曜日 | T24: 倉庫 | U24: 13：00～17：00 | V24: 4 | W24: H | Y24: H | Z24: 1500 | AA24: 1875 | AB24: =V24*Z24+X24*AA24 -> 6000 | AD24: =AB24+AC24 -> 6000
A25: 22 | B25: 日 | C25: 火 | D25: 曜日 | E25: 事務所 | F25: 13：00～17：00 | G25: 4 | H25: H | J25: H | K25: 1500 | L25: 1875 | M25: =G25*K25+I25*L25 -> 6000 | O25: =M25+N25 -> 6000 | P25: 22 | Q25: 日 | R25: 金 | S25: 曜日 | W25: H | Y25: H | Z25: 1500 | AA25: 1875 | AB25: =V25*Z25+X25*AA25 -> 0 | AD25: =AB25+AC25 -> 0
A26: 23 | B26: 日 | C26: 水 | D26: 曜日 | E26: 事務所 | F26: 13：00～17：00 | G26: 4 | H26: H | J26: H | K26: 1500 | L26: 1875 | M26: =G26*K26+I26*L26 -> 6000 | O26: =M26+N26 -> 6000 | P26: 23 | Q26: 日 | R26: 土 | S26: 曜日 | W26: H | Y26: H | Z26: 1500 | AA26: 1875 | AB26: =V26*Z26+X26*AA26 -> 0 | AD26: =AB26+AC26 -> 0
A27: 24 | B27: 日 | C27: 木 | D27: 曜日 | E27: 事務所 | F27: 13：00～17：00 | G27: 4 | H27: H | J27: H | K27: 1500 | L27: 1875 | M27: =G27*K27+I27*L27 -> 6000 | O27: =M27+N27 -> 6000 | P27: 24 | Q27: 日 | R27: 日 | S27: 曜日 | W27: H | Y27: H | Z27: 1500 | AA27: 1875 | AB27: =V27*Z27+X27*AA27 -> 0 | AD27: =AB27+AC27 -> 0
A28: 25 | B28: 日 | C28: 金 | D28: 曜日 | E28: 事務所 | F28: 13：00～17：00 | G28: 4 | H28: H | J28: H | K28: 1500 | L28: 1875 | M28: =G28*K28+I28*L28 -> 6000 | O28: =M28+N28 -> 6000 | P28: 25 | Q28: 日 | R28: 月 | S28: 曜日 | W28: H | Y28: H | Z28: 1500 | AA28: 1875 | AB28: =V28*Z28+X28*AA28 -> 0 | AD28: =AB28+AC28 -> 0
A29: 26 | B29: 日 | C29: 土 | D29: 曜日 | H29: H | J29: H | K29: 1500 | L29: 1875 | M29: =G29*K29+I29*L29 -> 0 | O29: =M29+N29 -> 0 | P29: 26 | Q29: 日 | R29: 火 | S29: 曜日 | W29: H | Y29: H | Z29: 1500 | AA29: 1875 | AB29: =V29*Z29+X29*AA29 -> 0 | AD29: =AB29+AC29 -> 0
A30: 27 | B30: 日 | C30: 日 | D30: 曜日 | H30: H | J30: H | K30: 1875 | L30: 2343 | M30: =G30*K30+I30*L30 -> 0 | O30: =M30+N30 -> 0 | P30: 27 | Q30: 日 | R30: 水 | S30: 曜日 | W30: H | Y30: H | Z30: 1500 | AA30: 1875 | AB30: =V30*Z30+X30*AA30 -> 0 | AD30: =AB30+AC30 -> 0
A31: 28 | B31: 日 | C31: 月 | D31: 曜日 | H31: H | J31: H | K31: 1500 | L31: 1875 | M31: =G31*K31+I31*L31 -> 0 | O31: =M31+N31 -> 0 | P31: 28 | Q31: 日 | R31: 木 | S31: 曜日 | W31: H | Y31: H | Z31: 1500 | AA31: 1875 | AB31: =V31*Z31+X31*AA31 -> 0 | AD31: =AB31+AC31 -> 0
A32: 29 | B32: 日 | C32: 火 | D32: 曜日 | H32: H | J32: H | K32: 1500 | L32: 1875 | M32: =G32*K32+I32*L32 -> 0 | O32: =M32+N32 -> 0 | P32: 29 | Q32: 日 | R32: 金 | S32: 曜日 | W32: H | Y32: H | Z32: 1500 | AA32: 1875 | AB32: =V32*Z32+X32*AA32 -> 0 | AD32: =AB32+AC32 -> 0
A33: 30 | B33: 日 | C33: 水 | D33: 曜日 | H33: H | J33: H | K33: 1500 | L33: 1875 | M33: =G33*K33+I33*L33 -> 0 | O33: =M33+N33 -> 0 | P33: 30 | Q33: 日 | R33: 土 | S33: 曜日 | W33: H | Y33: H | Z33: 1500 | AA33: 1875 | AB33: =V33*Z33+X33*AA33 -> 0 | AD33: =AB33+AC33 -> 0
A34: 31 | B34: 日 | C34: 木 | D34: 曜日 | H34: H | J34: H | K34: 1500 | L34: 1875 | M34: =G34*K34+I34*L34 -> 0 | O34: =M34+N34 -> 0 | P34: 31 | Q34: 日 | R34: 日 | S34: 曜日 | W34: H | Y34: H | Z34: 1500 | AA34: 1875 | AB34: =V34*Z34+X34*AA34 -> 0 | AD34: =AB34+AC34 -> 0
N35: ㈱CSILead | AC35: ㈱CSILead
O38: =SUM(O4:O37) -> 84000 | AD38: =SUM(AD4:AD37) -> 48000

Sheet 坂本
M1: 氏名 | AB1: 氏名 | AQ1: 氏名
A3: ７月 | E3: 会場 | F3: 時間 | G3: 定時 | I3: 残業 | K3: 単価 | L3: 残業単価 | M3: 金額 | N3: 交通費 | O3: 合計 | P3: ７月 | T3: 会場 | U3: 時間 | V3: 定時 | X3: 残業 | Z3: 単価 | AA3: 残業単価 | AB3: 金額 | AC3: 交通費 | AD3: 合計 | AE3: ７月 | AI3: 会場 | AJ3: 時間 | AK3: 定時 | AM3: 残業 | AO3: 単価 | AP3: 残業単価 | AQ3: 金額 | AR3: 交通費 | AS3: 合計
A4: 1 | B4: 日 | C4: 火 | D4: 曜日 | H4: H | J4: H | M4: =G4*K4+I4*L4 -> 0 | O4: =M4+N4 -> 0 | P4: 1 | Q4: 日 | R4: 火 | S4: 曜日 | W4: H | Y4: H | AB4: =V4*Z4+X4*AA4 -> 0 | AD4: =AB4+AC4 -> 0 | AE4: 1 | AF4: 日 | AG4: 火 | AH4: 曜日 | AL4: H | AN4: H | AQ4: =AK4*AO4+AM4*AP4 -> 0 | AS4: =AQ4+AR4 -> 0
A5: 2 | B5: 日 | C5: 水 | D5: 曜日 | H5: H | J5: H | M5: =G5*K5+I5*L5 -> 0 | O5: =M5+N5 -> 0 | P5: 2 | Q5: 日 | R5: 水 | S5: 曜日 | W5: H | Y5: H | AB5: =V5*Z5+X5*AA5 -> 0 | AD5: =AB5+AC5 -> 0 | AE5: 2 | AF5: 日 | AG5: 水 | AH5: 曜日 | AL5: H | AN5: H | AQ5: =AK5*AO5+AM5*AP5 -> 0 | AS5: =AQ5+AR5 -> 0
A6: 3 | B6: 日 | C6: 木 | D6: 曜日 | H6: H | J6: H | M6: =G6*K6+I6*L6 -> 0 | O6: =M6+N6 -> 0 | P6: 3 | Q6: 日 | R6: 木 | S6: 曜日 | W6: H | Y6: H | AB6: =V6*Z6+X6*AA6 -> 0 | AD6: =AB6+AC6 -> 0 | AE6: 3 | AF6: 日 | AG6: 木 | AH6: 曜日 | AL6: H | AN6: H | AQ6: =AK6*AO6+AM6*AP6 -> 0 | AS6: =AQ6+AR6 -> 0
A7: 4 | B7: 日 | C7: 金 | D7: 曜日 | H7: H | J7: H | M7: =G7*K7+I7*L7 -> 0 | O7: =M7+N7 -> 0 | P7: 4 | Q7: 日 | R7: 金 | S7: 曜日 | W7: H | Y7: H | AB7: =V7*Z7+X7*AA7 -> 0 | AD7: =AB7+AC7 -> 0 | AE7: 4 | AF7: 日 | AG7: 金 | AH7: 曜日 | AL7: H | AN7: H | AQ7: =AK7*AO7+AM7*AP7 -> 0 | AS7: =AQ7+AR7 -> 0
A8: 5 | B8: 日 | C8: 土 | D8: 曜日 | H8: H | J8: H | M8: =G8*K8+I8*L8 -> 0 | O8: =M8+N8 -> 0 | P8: 5 | Q8: 日 | R8: 土 | S8: 曜日 | W8: H | Y8: H | AB8: =V8*Z8+X8*AA8 -> 0 | AD8: =AB8+AC8 -> 0 | AE8: 5 | AF8: 日 | AG8: 土 | AH8: 曜日 | AL8: H | AN8: H | AQ8: =AK8*AO8+AM8*AP8 -> 0 | AS8: =AQ8+AR8 -> 0
A9: 6 | B9: 日 | C9: 日 | D9: 曜日 | H9: H | J9: H | M9: =G9*K9+I9*L9 -> 0 | O9: =M9+N9 -> 0 | P9: 6 | Q9: 日 | R9: 日 | S9: 曜日 | W9: H | Y9: H | AB9: =V9*Z9+X9*AA9 -> 0 | AD9: =AB9+AC9 -> 0 | AE9: 6 | AF9: 日 | AG9: 日 | AH9: 曜日 | AL9: H | AN9: H | AQ9: =AK9*AO9+AM9*AP9 -> 0 | AS9: =AQ9+AR9 -> 0
A10: 7 | B10: 日 | C10: 月 | D10: 曜日 | H10: H | J10: H | M10: =G10*K10+I10*L10 -> 0 | O10: =M10+N10 -> 0 | P10: 7 | Q10: 日 | R10: 月 | S10: 曜日 | W10: H | Y10: H | AB10: =V10*Z10+X10*AA10 -> 0 | AD10: =AB10+AC10 -> 0 | AE10: 7 | AF10: 日 | AG10: 月 | AH10: 曜日 | AL10: H | AN10: H | AQ10: =AK10*AO10+AM10*AP10 -> 0 | AS10: =AQ10+AR10 -> 0
A11: 8 | B11: 日 | C11: 火 | D11: 曜日 | H11: H | J11: H | M11: =G11*K11+I11*L11 -> 0 | O11: =M11+N11 -> 0 | P11: 8 | Q11: 日 | R11: 火 | S11: 曜日 | W11: H | Y11: H | AB11: =V11*Z11+X11*AA11 -> 0 | AD11: =AB11+AC11 -> 0 | AE11: 8 | AF11: 日 | AG11: 火 | AH11: 曜日 | AL11: H | AN11: H | AQ11: =AK11*AO11+AM11*AP11 -> 0 | AS11: =AQ11+AR11 -> 0
A12: 9 | B12: 日 | C12: 水 | D12: 曜日 | H12: H | J12: H | M12: =G12*K12+I12*L12 -> 0 | O12: =M12+N12 -> 0 | P12: 9 | Q12: 日 | R12: 水 | S12: 曜日 | W12: H | Y12: H | AB12: =V12*Z12+X12*AA12 -> 0 | AD12: =AB12+AC12 -> 0 | AE12: 9 | AF12: 日 | AG12: 水 | AH12: 曜日 | AL12: H | AN12: H | AQ12: =AK12*AO12+AM12*AP12 -> 0 | AS12: =AQ12+AR12 -> 0
A13: 10 | B13: 日 | C13: 木 | D13: 曜日 | H13: H | J13: H | M13: =G13*K13+I13*L13 -> 0 | O13: =M13+N13 -> 0 | P13: 10 | Q13: 日 | R13: 木 | S13: 曜日 | W13: H | Y13: H | AB13: =V13*Z13+X13*AA13 -> 0 | AD13: =AB13+AC13 -> 0 | AE13: 10 | AF13: 日 | AG13: 木 | AH13: 曜日 | AL13: H | AN13: H | AQ13: =AK13*AO13+AM13*AP13 -> 0 | AS13: =AQ13+AR13 -> 0
A14: 11 | B14: 日 | C14: 金 | D14: 曜日 | H14: H | J14: H | M14: =G14*K14+I14*L14 -> 0 | O14: =M14+N14 -> 0 | P14: 11 | Q14: 日 | R14: 金 | S14: 曜日 | W14: H | Y14: H | AB14: =V14*Z14+X14*AA14 -> 0 | AD14: =AB14+AC14 -> 0 | AE14: 11 | AF14: 日 | AG14: 金 | AH14: 曜日 | AL14: H | AN14: H | AQ14: =AK14*AO14+AM14*AP14 -> 0 | AS14: =AQ14+AR14 -> 0
A15: 12 | B15: 日 | C15: 土 | D15: 曜日 | H15: H | J15: H | M15: =G15*K15+I15*L15 -> 0 | O15: =M15+N15 -> 0 | P15: 12 | Q15: 日 | R15: 土 | S15: 曜日 | W15: H | Y15: H | AB15: =V15*Z15+X15*AA15 -> 0 | AD15: =AB15+AC15 -> 0 | AE15: 12 | AF15: 日 | AG15: 土 | AH15: 曜日 | AL15: H | AN15: H | AQ15: =AK15*AO15+AM15*AP15 -> 0 | AS15: =AQ15+AR15 -> 0
... A29: 26 | B29: 日 | C29: 土 | D29: 曜日 | H29: H | J29: H | M29: =G29*K29+I29*L29 -> 0 | O29: =M29+N29 -> 0 | P29: 26 | Q29: 日 | R29: 土 | S29: 曜日 | W29: H | Y29: H | AB29: =V29*Z29+X29*AA29 -> 0 | AD29: =AB29+AC29 -> 0 | AE29: 26 | AF29: 日 | AG29: 土 | AH29: 曜日 | AL29: H | AN29: H | AQ29: =AK29*AO29+AM29*AP29 -> 0 | AS29: =AQ29+AR29 -> 0
A30: 27 | B30: 日 | C30: 日 | D30: 曜日 | E30: 熱中症対策費 | H30: H | J30: H | M30: =G30*K30+I30*L30 -> 0 | O30: 5000 | P30: 27 | Q30: 日 | R30: 日 | S30: 曜日 | T30: 熱中症対策費 | W30: H | Y30: H | AB30: =V30*Z30+X30*AA30 -> 0 | AD30: 5000 | AE30: 27 | AF30: 日 | AG30: 日 | AH30: 曜日 | AI30: 熱中症対策費 | AL30: H | AN30: H | AQ30: =AK30*AO30+AM30*AP30 -> 0 | AS30: 5000
A31: 28 | B31: 日 | C31: 月 | D31: 曜日 | E31: びわ湖 | F31: 09：00～12：00 | H31: H | J31: H | M31: 15000 | N31: 4000 | O31: =M31+N31 -> 19000 | P31: 28 | Q31: 日 | R31: 月 | S31: 曜日 | W31: H | Y31: H | AD31: =AB31+AC31 -> 0 | AE31: 28 | AF31: 日 | AG31: 月 | AH31: 曜日 | AL31: H | AN31: H | AS31: =AQ31+AR31 -> 0
A32: 29 | B32: 日 | C32: 火 | D32: 曜日 | E32: びわ湖 | F32: 09：00～17：00 | H32: H | J32: H | M32: 25000 | N32: 5000 | O32: =M32+N32 -> 30000 | P32: 29 | Q32: 日 | R32: 火 | S32: 曜日 | T32: びわ湖 | U32: 09：00～17：00 | W32: H | Y32: H | AB32: 18000 | AC32: 3000 | AD32: =AB32+AC32 -> 21000 | AE32: 29 | AF32: 日 | AG32: 火 | AH32: 曜日 | AI32: びわ湖 | AJ32: 09：00～17：00 | AL32: H | AN32: H | AQ32: 18000 | AR32: 3000 | AS32: =AQ32+AR32 -> 21000
A33: 30 | B33: 日 | C33: 水 | D33: 曜日 | E33: びわ湖 | F33: 09：00～17：00 | H33: H | J33: H | M33: 25000 | N33: 5000 | O33: =M33+N33 -> 30000 | P33: 30 | Q33: 日 | R33: 水 | S33: 曜日 | T33: びわ湖 | U33: 09：00～17：00 | W33: H | Y33: H | AB33: 18000 | AC33: 3000 | AD33: =AB33+AC33 -> 21000 | AE33: 30 | AF33: 日 | AG33: 水 | AH33: 曜日 | AI33: びわ湖 | AJ33: 09：00～17：00 | AL33: H | AN33: H | AQ33: 18000 | AR33: 3000 | AS33: =AQ33+AR33 -> 21000
A34: 31 | B34: 日 | C34: 木 | D34: 曜日 | E34: びわ湖 | F34: 09：00～17：00 | H34: H | J34: H | M34: 25000 | N34: 5000 | O34: =M34+N34 -> 30000 | P34: 31 | Q34: 日 | R34: 木 | S34: 曜日 | T34: びわ湖 | U34: 09：00～17：00 | W34: H | Y34: H | AB34: 18000 | AC34: 3000 | AD34: =AB34+AC34 -> 21000 | AE34: 31 | AF34: 日 | AG34: 木 | AH34: 曜日 | AI34: びわ湖 | AJ34: 09：00～17：00 | AL34: H | AN34: H | AQ34: 18000 | AR34: 3000 | AS34: =AQ34+AR34 -> 21000
O35: =SUM(O4:O38) -> 114000 | AD35: =SUM(AD4:AD38) -> 68000 | AS35: =SUM(AS4:AS38) -> 68000
N36: ㈱CSILead | AC36: ㈱CSILead | AR36: ㈱CSILead
U45: =O35+AD35+AS35 -> 250000

Sheet 向井峰良
M1: 氏名 | N1: 向峰 良 | AB1: 氏名 | AC1: =N1 -> 向峰 良
A3: ７月 | E3: 会場 | F3: 時間 | G3: 定時 | I3: 残業 | K3: 単価 | L3: 残業単価 | M3: 金額 | N3: 交通費 | O3: 合計 | P3: 8月 | T3: 会場 | U3: 時間 | V3: 定時 | X3: 残業 | Z3: 単価 | AA3: 残業単価 | AB3: 金額 | AC3: 交通費 | AD3: 合計
A4: 1 | B4: 日 | C4: 火 | D4: 曜日 | H4: H | J4: H | K4: 1500 | L4: 1875 | M4: =G4*K4+I4*L4 -> 0 | O4: =M4+N4 -> 0 | P4: 1 | Q4: 日 | R4: 金 | S4: 曜日 | W4: H | Y4: H | Z4: 1500 | AA4: 1875 | AB4: =V4*Z4+X4*AA4 -> 0 | AD4: =AB4+AC4 -> 0
A5: 2 | B5: 日 | C5: 水 | D5: 曜日 | H5: H | J5: H | K5: 1500 | L5: 1875 | M5: =G5*K5+I5*L5 -> 0 | O5: =M5+N5 -> 0 | P5: 2 | Q5: 日 | R5: 土 | S5: 曜日 | W5: H | Y5: H | Z5: 1500 | AA5: 1875 | AB5: =V5*Z5+X5*AA5 -> 0 | AD5: =AB5+AC5 -> 0
A6: 3 | B6: 日 | C6: 木 | D6: 曜日 | H6: H | J6: H | K6: 1500 | L6: 1875 | M6: =G6*K6+I6*L6 -> 0 | O6: =M6+N6 -> 0 | P6: 3 | Q6: 日 | R6: 日 | S6: 曜日 | W6: H | Y6: H | Z6: 1875 | AA6: 2343 | AB6: =V6*Z6+X6*AA6 -> 0 | AD6: =AB6+AC6 -> 0
A7: 4 | B7: 日 | C7: 金 | D7: 曜日 | H7: H | J7: H | K7: 1500 | L7: 1875 | M7: =G7*K7+I7*L7 -> 0 | O7: =M7+N7 -> 0 | P7: 4 | Q7: 日 | R7: 月 | S7: 曜日 | T7: びわ湖 | U7: 09：00～20：00 | V7: 8 | W7: H | X7: 3 | Y7: H | Z7: 1500 | AA7: 1875 | AB7: =V7*Z7+X7*AA7 -> 17625 | AD7: =AB7+AC7 -> 17625
A8: 5 | B8: 日 | C8: 土 | D8: 曜日 | H8: H | J8: H | K8: 1500 | L8: 1875 | M8: =G8*K8+I8*L8 -> 0 | O8: =M8+N8 -> 0 | P8: 5 | Q8: 日 | R8: 火 | S8: 曜日 | W8: H | Y8: H | Z8: 1500 | AA8: 1875 | AB8: =V8*Z8+X8*AA8 -> 0 | AD8: =AB8+AC8 -> 0
A9: 6 | B9: 日 | C9: 日 | D9: 曜日 | H9: H | J9: H | K9: 1875 | L9: 2343 | M9: =G9*K9+I9*L9 -> 0 | O9: =M9+N9 -> 0 | P9: 6 | Q9: 日 | R9: 水 | S9: 曜日 | T9: びわ湖 | U9: 09：00～20：00 | V9: 8 | W9: H | X9: 3 | Y9: H | Z9: 1500 | AA9: 1875 | AB9: =V9*Z9+X9*AA9 -> 17625 | AD9: =AB9+AC9 -> 17625
