Workbook

Sheet 救護備品
A1: 大津港 ターミナル | M1: 大津港 ターミナル | Y1: 大津 市民会館 | AK1: =Y1 -> 大津 市民会館 | AW1: 勤労 福祉会館 | BI1: 勤労 福祉会館 | BU1: ふれあい スポーツ センター | CG1: ふれあい スポーツ センター | CS1: 逢坂市民 センター | DE1: =CS1 -> 逢坂市民 センター | DQ1: 平野市民 センター | EC1: =DQ1 -> 平野市民 センター | EO1: びわこ ボート | FA1: =EO1 -> びわこ ボート | FM1: 草津 本部 | FY1: =FM1 -> 草津 本部
C8: フェイスタオル | I8: 4 | J8: 枚 | AA8: フェイスタオル | AG8: 4 | AH8: 枚 | AY8: フェイスタオル | BE8: 4 | BF8: 枚 | BW8: フェイスタオル | CC8: 4 | CD8: 枚 | CU8: フェイスタオル | DA8: 4 | DB8: 枚 | DS8: フェイスタオル | DY8: 4 | DZ8: 枚 | EQ8: フェイスタオル | EW8: 4 | EX8: 枚 | FO8: フェイスタオル | FU8: 4 | FV8: 枚
C9: ティッシュ | I9: 1 | J9: 箱 | AA9: ティッシュ | AG9: 1 | AH9: 箱 | AY9: ティッシュ | BE9: 1 | BF9: 箱 | BW9: ティッシュ | CC9: 1 | CD9: 箱 | CU9: ティッシュ | DA9: 1 | DB9: 箱 | DS9: ティッシュ | DY9: 1 | DZ9: 箱 | EQ9: ティッシュ | EW9: 1 | EX9: 箱 | FO9: ティッシュ | FU9: 1 | FV9: 箱
C10: ペーパータオル | I10: 1 | J10: 組 | AA10: ペーパータオル | AG10: 1 | AH10: 組 | AY10: ペーパータオル | BE10: 1 | BF10: 組 | BW10: ペーパータオル | CC10: 1 | CD10: 組 | CU10: ペーパータオル | DA10: 1 | DB10: 組 | DS10: ペーパータオル | DY10: 1 | DZ10: 組 | EQ10: ペーパータオル | EW10: 1 | EX10: 組 | FO10: ペーパータオル | FU10: 1 | FV10: 組
C11: 除菌ペーパー | I11: 1 | J11: 袋 | AA11: 除菌ペーパー | AG11: 1 | AH11: 袋 | AY11: 除菌ペーパー | BE11: 1 | BF11: 袋 | BW11: 除菌ペーパー | CC11: 1 | CD11: 袋 | CU11: 除菌ペーパー | DA11: 1 | DB11: 袋 | DS11: 除菌ペーパー | DY11: 1 | DZ11: 袋 | EQ11: 除菌ペーパー | EW11: 1 | EX11: 袋 | FO11: 除菌ペーパー | FU11: 1 | FV11: 袋
C12: 介護用ビニール手袋 | I12: 10 | J12: 組 | AA12: 介護用ビニール手袋 | AG12: 10 | AH12: 組 | AY12: 介護用ビニール手袋 | BE12: 10 | BF12: 組 | BW12: 介護用ビニール手袋 | CC12: 10 | CD12: 組 | CU12: 介護用ビニール手袋 | DA12: 10 | DB12: 組 | DS12: 介護用ビニール手袋 | DY12: 10 | DZ12: 組 | EQ12: 介護用ビニール手袋 | EW12: 10 | EX12: 組 | FO12: 介護用ビニール手袋 | FU12: 10 | FV12: 組
C13: 紙コップ | I13: 50 | J13: 個 | AA13: 紙コップ | AG13: 50 | AH13: 個 | AY13: 紙コップ | BE13: 50 | BF13: 個 | BW13: 紙コップ | CC13: 50 | CD13: 個 | CU13: 紙コップ | DA13: 100 | DB13: 個 | DS13: 紙コップ | DY13: 100 | DZ13: 個 | EQ13: 紙コップ | EW13: 50 | EX13: 個 | FO13: 紙コップ | FU13: 50 | FV13: 個
C14: 軍手 | I14: 1 | J14: 双 | AA14: 軍手 | AG14: 1 | AH14: 双 | AY14: 軍手 | BE14: 1 | BF14: 双 | BW14: 軍手 | CC14: 1 | CD14: 双 | CU14: 軍手 | DA14: 1 | DB14: 双 | DS14: 軍手 | DY14: 1 | DZ14: 双 | EQ14: 軍手 | EW14: 1 | EX14: 双 | FO14: 軍手 | FU14: 1 | FV14: 双
C15: ラップ | I15: 1 | J15: 本 | AA15: ラップ | AG15: 1 | AH15: 本 | AY15: ラップ | BE15: 1 | BF15: 本 | BW15: ラップ | CC15: 1 | CD15: 本 | CU15: ラップ | DA15: 1 | DB15: 本 | DS15: ラップ | DY15: 1 | DZ15: 本 | EQ15: ラップ | EW15: 1 | EX15: 本 | FO15: ラップ | FU15: 1 | FV15: 本
C16: 嘔吐用ビニール袋 | I16: 20 | J16: 袋 | AA16: 嘔吐用ビニール袋 | AG16: 20 | AH16: 袋 | AY16: 嘔吐用ビニール袋 | BE16: 20 | BF16: 袋 | BW16: 嘔吐用ビニール袋 | CC16: 20 | CD16: 袋 | CU16: 嘔吐用ビニール袋 | DA16: 50 | DB16: 袋 | DS16: 嘔吐用ビニール袋 | DY16: 50 | DZ16: 袋 | EQ16: 嘔吐用ビニール袋 | EW16: 10 | EX16: 袋 | FO16: 嘔吐用ビニール袋 | FU16: 10 | FV16: 袋
C17: ストロー | I17: 20 | J17: 本 | AA17: ストロー | AG17: 20 | AH17: 本 | AY17: ストロー | BE17: 20 | BF17: 本 | BW17: ストロー | CC17: 20 | CD17: 本 | CU17: ストロー | DA17: 20 | DB17: 本 | DS17: ストロー | DY17: 20 | DZ17: 本 | EQ17: ストロー | EW17: 20 | EX17: 本 | FO17: ストロー | FU17: 20 | FV17: 本

Sheet クーラーボックス中身
A1: 業務用地 | M1: 業務用地 | Y1: びわ湖ホール | AK1: =Y1 -> びわ湖ホール | AW1: 楽天 | BI1: =AW1 -> 楽天 | BU1: 一般B | CG1: =BU1 -> 一般B | CS1: びわ湖 ホテル前 | DE1: =CS1 -> びわ湖 ホテル前 | DQ1: ターミ ナル | EC1: =DQ1 -> ターミ ナル | EO1: 大津港 ターミナル | FA1: 大津港 ターミナル | FM1: 大津 市民会館 | FY1: =FM1 -> 大津 市民会館 | GK1: 勤労福祉 センター | GW1: =GK1 -> 勤労福祉 センター | HI1: 逢坂市民 センター | HU1: =HI1 -> 逢坂市民 センター | IG1: 平野市民 センター | IS1: =IG1 -> 平野市民 センター | JE1: びわこ ボート | JQ1: =JE1 -> びわこ ボート | KC1: 草津 本部 | KO1: =KC1 -> 草津 本部 | LA1: におの浜 スポーツセンター | LM1: =LA1 -> におの浜 スポーツセンター | LY1: マリーナターミナル | MK1: =LY1 -> マリーナターミナル
C8: 水 | I8: 24 | J8: 本 | AA8: 水 | AG8: 24 | AH8: 本 | AY8: 水 | BE8: 24 | BF8: 本 | BW8: 水 | CC8: 24 | CD8: 本 | CU8: 水 | DA8: 24 | DB8: 本 | DS8: 水 | DY8: 24 | DZ8: 本 | EQ8: 水 | EW8: 24 | EX8: 本 | FO8: 水 | FU8: 24 | FV8: 本 | GM8: 水 | GS8: 24 | GT8: 本 | HK8: 水 | HQ8: 48 | HR8: 本 | II8: 水 | IO8: 48 | IP8: 本 | JG8: 水 | JM8: 24 | JN8: 本 | KE8: 水 | KK8: 24 | KL8: 本 | LC8: 水 | LI8: 24 | LJ8: 本 | MA8: 水 | MG8: 24 | MH8: 本
C9: OS-1 | I9: 10 | J9: 本 | AA9: OS-1 | AG9: 10 | AH9: 本 | AY9: OS-1 | BE9: 10 | BF9: 本 | BW9: OS-1 | CC9: 10 | CD9: 本 | CU9: OS-1 | DA9: 10 | DB9: 本 | DS9: OS-1 | DY9: 10 | DZ9: 本 | EQ9: OS-1 | EW9: 24 | EX9: 本 | FO9: OS-1 | FU9: 24 | FV9: 本 | GM9: OS-1 | GS9: 24 | GT9: 本 | HK9: OS-1 | HQ9: 36 | HR9: 本 | II9: OS-1 | IO9: 36 | IP9: 本 | JG9: OS-1 | JM9: 24 | JN9: 本 | KE9: OS-1 | KK9: 24 | KL9: 本 | LC9: OS-1 | LI9: 24 | LJ9: 本 | MA9: OS-1 | MG9: 24 | MH9: 本
C10: OS-1 ゼリー | I10: 10 | J10: 本 | AA10: OS-1 ゼリー | AG10: 10 | AH10: 本 | AY10: OS-1 ゼリー | BE10: 10 | BF10: 本 | BW10: OS-1 ゼリー | CC10: 10 | CD10: 本 | CU10: OS-1 ゼリー | DA10: 10 | DB10: 本 | DS10: OS-1 ゼリー | DY10: 10 | DZ10: 本 | EQ10: OS-1 ゼリー | EW10: 10 | EX10: 本 | FO10: OS-1 ゼリー | FU10: 10 | FV10: 本 | GM10: OS-1 ゼリー | GS10: 10 | GT10: 本 | HK10: OS-1 ゼリー | HQ10: 10 | HR10: 本 | II10: OS-1 ゼリー | IO10: 10 | IP10: 本 | JG10: OS-1 ゼリー | JN10: 本 | KE10: OS-1 ゼリー | KL10: 本 | LC10: OS-1 ゼリー | LJ10: 本 | MA10: OS-1 ゼリー | MH10: 本
C11: アイスノン | I11: 3 | J11: 個 | AA11: アイスノン | AG11: 3 | AH11: 個 | AY11: アイスノン | BE11: 3 | BF11: 個 | BW11: アイスノン | CC11: 3 | CD11: 個 | CU11: アイスノン | DA11: 3 | DB11: 個 | DS11: アイスノン | DY11: 3 | DZ11: 個 | EQ11: アイスノン | EW11: 3 | EX11: 個 | FO11: アイスノン | FU11: 3 | FV11: 個 | GM11: アイスノン | GS11: 3 | GT11: 個 | HK11: アイスノン | HQ11: 3 | HR11: 個 | II11: アイスノン | IO11: 3 | IP11: 個 | JG11: アイスノン | JN11: 個 | KE11: アイスノン | KL11: 個 | LC11: アイスノン | LJ11: 個 | MA11: アイスノン | MH11: 個
C12: 保冷剤 | I12: 2 | J12: 個 | AA12: 保冷剤 | AG12: 2 | AH12: 個 | AY12: 保冷剤 | BE12: 2 | BF12: 個 | BW12: 保冷剤 | CC12: 2 | CD12: 個 | CU12: 保冷剤 | DA12: 2 | DB12: 個 | DS12: 保冷剤 | DY12: 2 | DZ12: 個 | EQ12: 保冷剤（大） | EW12: 2 | EX12: 個 | FO12: 保冷剤（大） | FU12: 2 | FV12: 個 | GM12: 保冷剤（大） | GS12: 2 | GT12: 個 | HK12: 保冷剤（大） | HQ12: 2 | HR12: 個 | II12: 保冷剤（大） | IO12: 2 | IP12: 個 | JG12: 保冷剤（大） | JN12: 個 | KE12: 保冷剤（大） | KL12: 個 | LC12: 保冷剤（大） | LJ12: 個 | MA12: 保冷剤（大） | MH12: 個
C13: 瞬間保冷パック | I13: 10 | J13: 個 | AA13: 瞬間保冷パック | AG13: 10 | AH13: 個 | AY13: 瞬間保冷パック | BE13: 10 | BF13: 個 | BW13: 瞬間保冷パック | CC13: 10 | CD13: 個 | CU13: 瞬間保冷パック | DA13: 10 | DB13: 個 | DS13: 瞬間保冷パック | DY13: 10 | DZ13: 個 | EQ13: 保冷剤（小） | EW13: 10 | EX13: 個 | FO13: 保冷剤（小） | FU13: 10 | FV13: 個 | GM13: 保冷剤（小） | GS13: 10 | GT13: 個 | HK13: 保冷剤（小） | HQ13: 10 | HR13: 個 | II13: 保冷剤（小） | IO13: 10 | IP13: 個 | JG13: 保冷剤（小） | JN13: 個 | KE13: 保冷剤（小） | KL13: 個 | LC13: 保冷剤（小） | LJ13: 個 | MA13: 保冷剤（小） | MH13: 個
C14: 氷 | I14: 4 | J14: 貫 | AA14: 氷 | AG14: 4 | AH14: 貫 | AY14: 氷 | BE14: 4 | BF14: 貫 | BW14: 氷 | CC14: 4 | CD14: 貫 | CU14: 氷 | DA14: 4 | DB14: 貫 | DS14: 氷 | DY14: 4 | DZ14: 貫 | EQ14: 瞬間保冷パック | EX14: 個 | FO14: 瞬間保冷パック | FV14: 個 | GM14: 瞬間保冷パック | GT14: 個 | HK14: 瞬間保冷パック | HR14: 個 | II14: 瞬間保冷パック | IP14: 個 | JG14: 瞬間保冷パック | JN14: 個 | KE14: 瞬間保冷パック | KL14: 個 | LC14: 瞬間保冷パック | LJ14: 個 | MA14: 瞬間保冷パック | MH14: 個
C15: ドライアイス | I15: 4 | J15: ㎏ | AA15: ドライアイス | AG15: 4 | AH15: ㎏ | AY15: ドライアイス | BE15: 4 | BF15: ㎏ | BW15: ドライアイス | CC15: 4 | CD15: ㎏ | CU15: ドライアイス | DA15: 4 | DB15: ㎏ | DS15: ドライアイス | DY15: 4 | DZ15: ㎏ | EQ15: 氷 | EW15: 4 | EX15: 貫 | FO15: 氷 | FU15: 4 | FV15: 貫 | GM15: 氷 | GS15: 4 | GT15: 貫 | HK15: 氷 | HQ15: 4 | HR15: 貫 | II15: 氷 | IO15: 4 | IP15: 貫 | JG15: 氷 | JN15: 貫 | KE15: 氷 | KL15: 貫 | LC15: 氷 | LJ15: 貫 | MA15: 氷 | MH15: 貫

Sheet Sheet1 (2)
A1: 業務 用地 | B1: =クーラーボックス中身!AK1 -> びわ湖ホール | C1: =クーラーボックス中身!BI1 -> 楽天 | D1: =クーラーボックス中身!CG1 -> 一般B | E1: =クーラーボックス中身!DE1 -> びわ湖 ホテル前 | F1: =クーラーボックス中身!EC1 -> ターミ ナル | G1: =クーラーボックス中身!FY1 -> 大津 市民会館 | H1: =クーラーボックス中身!GW1 -> 勤労福祉 センター | I1: =クーラーボックス中身!HU1 -> 逢坂市民 センター | J1: =クーラーボックス中身!IS1 -> 平野市民 センター | K1: =クーラーボックス中身!JQ1 -> びわこ ボート | L1: =クーラーボックス中身!KO1 -> 草津 本部

Sheet Sheet1 (3)
A1: 水 本 | B1: 水 本 | C1: 水 本
A2: におの浜スポーツセンター | B2: マリーナターミナル | C2: 大津港ターミナル
A3: OS-1 本 | B3: OS-1 本 | C3: OS-1 本
A4: =A2 -> におの浜スポーツセンター | B4: =B2 -> マリーナターミナル | C4: =C2 -> 大津港ターミナル
A5: ゼリー 本 | B5: ゼリー 本 | C5: ゼリー 本
A6: =A2 -> におの浜スポーツセンター | B6: =B4 -> マリーナターミナル | C6: =C4 -> 大津港ターミナル

Sheet Sheet1
A1: 水 本 | B1: 水 本 | C1: 水 本 | D1: 水 本 | E1: 水 本 | F1: 水 本 | G1: 水 本 | H1: 水 本 | I1: 水 本 | J1: 水 本 | K1: 水 本 | L1: 水 本
A2: 業務 用地 | B2: =クーラーボックス中身!AK1 -> びわ湖ホール | C2: =クーラーボックス中身!BI1 -> 楽天 | D2: =クーラーボックス中身!CG1 -> 一般B | E2: =クーラーボックス中身!DE1 -> びわ湖 ホテル前 | F2: =クーラーボックス中身!EC1 -> ターミ ナル | G2: =クーラーボックス中身!FY1 -> 大津 市民会館 | H2: =クーラーボックス中身!GW1 -> 勤労福祉 センター | I2: =クーラーボックス中身!HU1 -> 逢坂市民 センター | J2: =クーラーボックス中身!IS1 -> 平野市民 センター | K2: =クーラーボックス中身!JQ1 -> びわこ ボート | L2: =クーラーボックス中身!KO1 -> 草津 本部
A3: OS-1 本 | B3: OS-2 本 | C3: OS-3 本 | D3: OS-4 本 | E3: OS-5 本 | F3: OS-6 本 | G3: OS-7 本 | H3: OS-8 本 | I3: OS-9 本 | J3: OS-10 本 | K3: OS-11 本 | L3: OS-12 本
A4: 業務 用地 | B4: =B2 -> びわ湖ホール | C4: =C2 -> 楽天 | D4: =D2 -> 一般B | E4: =E2 -> びわ湖 ホテル前 | F4: =F2 -> ターミ ナル | G4: =G2 -> 大津 市民会館 | H4: =H2 -> 勤労福祉 センター | I4: =I2 -> 逢坂市民 センター | ... L4: =L2 -> 草津 本部
A5: ゼリー 本 | B5: ゼリー 本 | C5: ゼリー 本 | D5: ゼリー 本 | E5: ゼリー 本 | F5: ゼリー 本 | G5: ゼリー 本 | H5: ゼリー 本 | I5: ゼリー 本 | J5: ゼリー 本 | K5: ゼリー 本 | L5: ゼリー 本
A6: 業務 用地 | B6: =B4 -> びわ湖ホール | C6: =C4 -> 楽天 | D6: =D4 -> 一般B | E6: =E4 -> びわ湖 ホテル前 | F6: =F4 -> ターミ ナル | G6: =G4 -> 大津 市民会館 | H6: =H4 -> 勤労福祉 センター | I6: =I4 -> 逢坂市民 センター | ... L6: =L4 -> 草津 本部
