Workbook

Sheet 表紙 (2)
B1: 警備員
B2: 飲料（麦茶） | H2: =警備テント!I11+警備テント!U11+警備テント!AG11+警備テント!AS11+警備テント!BE11+警備テント!BQ11+警備テント!CC11+警備テント!#REF!+警備テント!#REF! -> #REF! | K2: ケース
B3: 氷 | H3: =警備テント!I12+警備テント!U12+警備テント!AG12+警備テント!AS12+警備テント!BE12+警備テント!BQ12+警備テント!CC12+警備テント!#REF!+警備テント!#REF! -> #REF! | K3: 個
B4: ドライアイス | H4: =警備テント!#REF!+警備テント!#REF!+警備テント!CC13+警備テント!BQ13+警備テント!BE13+警備テント!AS13+警備テント!AG13+警備テント!U13+警備テント!I13 -> #REF! | K4: 個

Sheet 表紙
A1: 警備
A7: 全総数
C10: 警備員 | K10: 名
C11: 飲料（麦茶） | I11: =警備テント!I11+警備テント!U11+警備テント!AG11+警備テント!AS11+警備テント!BE11+警備テント!BQ11+警備テント!CC11+警備テント!#REF!+警備テント!#REF! -> #REF! | K11: ケース
C12: 氷 | I12: =警備テント!I12+警備テント!U12+警備テント!AG12+警備テント!AS12+警備テント!BE12+警備テント!BQ12+警備テント!CC12+警備テント!#REF!+警備テント!#REF! -> #REF! | K12: 個
C13: ドライアイス | I13: =警備テント!#REF!+警備テント!#REF!+警備テント!CC13+警備テント!BQ13+警備テント!BE13+警備テント!AS13+警備テント!AG13+警備テント!U13+警備テント!I13 -> #REF! | K13: 個

Sheet カコシール
A1: 逢坂市民センター
A2: びわこボート
A3: びわ湖ホール
A4: 琵琶湖ホテル前
A5: マリーナターミナル
A6: 草津本部

Sheet 警備テント (2)
A1: 本部 | M1: 浜大津 | Y1: 膳所駅前 | AK1: 大津駅前 | AW1: びわ湖 ボート | BI1: 草津 警備部 | BU1: 浜大津 駅下 | CG1: 草津本部
BU2: びわこ ボート | CG2: 草津本部
BU3: びわこ ボート

Sheet 警備テント
A1: 本部 | M1: 浜大津 | Y1: 膳所駅前 | AK1: 大津駅前 | AW1: びわ湖 ボート | BI1: 草津 警備部 | BU1: 浜大津 駅下
A7: 関西パトロール | M7: コトナ | Y7: シンリュウ | AK7: エムティ | AW7: コトナ | BI7: 複数社 | BU7: コトナ
C10: 警備員 | K10: 名 | O10: 警備員 | W10: 名 | AA10: 警備員 | AI10: 名 | AM10: 警備員 | AU10: 名 | AY10: 警備員 | BG10: 名 | BK10: 警備員 | BS10: 名 | BW10: 警備員 | CE10: 名
C11: 飲料（麦茶） | I11: 2 | K11: ケース | O11: 飲料（麦茶） | U11: 2 | W11: ケース | AA11: 飲料（麦茶） | AG11: 2 | AI11: ケース | AM11: 飲料（麦茶） | AS11: 2 | AU11: ケース | AY11: 飲料（麦茶） | BE11: 1 | BG11: ケース | BK11: 飲料（麦茶） | BQ11: 2 | BS11: ケース | BW11: 飲料（麦茶） | CC11: 2 | CE11: ケース
C12: 氷 | I12: 8 | K12: 個 | O12: 氷 | U12: 8 | W12: 個 | AA12: 氷 | AG12: 8 | AI12: 個 | AM12: 氷 | AS12: 8 | AU12: 個 | AY12: 氷 | BE12: 4 | BG12: 個 | BK12: 氷 | BQ12: 8 | BS12: 個 | BW12: 氷 | CC12: 8 | CE12: 個
C13: ドライアイス | I13: 4 | K13: 個 | O13: ドライアイス | U13: 4 | W13: 個 | AA13: ドライアイス | AG13: 4 | AI13: 個 | AM13: ドライアイス | AS13: 4 | AU13: 個 | AY13: ドライアイス | BG13: 個 | BK13: ドライアイス | BQ13: 4 | BS13: 個 | BW13: ドライアイス | CC13: 4 | CE13: 個

Sheet 会場
A1: 大津港 ターミナル | M1: 大津市民会館 | Y1: 勤労福祉会館 | AK1: ふれあい スポーツ センター | AW1: 逢坂市民 センター | BI1: 平野市民 センター | BU1: びわこボート | CG1: 草津本部
C8: フェイスタオル | I8: 4 | J8: 枚 | O8: フェイスタオル | U8: 4 | V8: 枚 | AA8: フェイスタオル | AG8: 4 | AH8: 枚 | AM8: フェイスタオル | AS8: 4 | AT8: 枚 | AY8: フェイスタオル | BE8: 4 | BF8: 枚 | BK8: フェイスタオル | BQ8: 4 | BR8: 枚 | BW8: フェイスタオル | CC8: 4 | CD8: 枚 | CI8: フェイスタオル | CO8: 4 | CP8: 枚
C9: ティッシュ | I9: 1 | J9: 箱 | O9: ティッシュ | U9: 1 | V9: 箱 | AA9: ティッシュ | AG9: 1 | AH9: 箱 | AM9: ティッシュ | AS9: 1 | AT9: 箱 | AY9: ティッシュ | BE9: 1 | BF9: 箱 | BK9: ティッシュ | BQ9: 1 | BR9: 箱 | BW9: ティッシュ | CC9: 1 | CD9: 箱 | CI9: ティッシュ | CO9: 1 | CP9: 箱
C10: ペーパータオル | I10: 1 | J10: 組 | O10: ペーパータオル | U10: 1 | V10: 組 | AA10: ペーパータオル | AG10: 1 | AH10: 組 | AM10: ペーパータオル | AS10: 1 | AT10: 組 | AY10: ペーパータオル | BE10: 1 | BF10: 組 | BK10: ペーパータオル | BQ10: 1 | BR10: 組 | BW10: ペーパータオル | CC10: 1 | CD10: 組 | CI10: ペーパータオル | CO10: 1 | CP10: 組
C11: 除菌ペーパー | I11: 1 | J11: 袋 | O11: 除菌ペーパー | U11: 1 | V11: 袋 | AA11: 除菌ペーパー | AG11: 1 | AH11: 袋 | AM11: 除菌ペーパー | AS11: 1 | AT11: 袋 | AY11: 除菌ペーパー | BE11: 1 | BF11: 袋 | BK11: 除菌ペーパー | BQ11: 1 | BR11: 袋 | BW11: 除菌ペーパー | CC11: 1 | CD11: 袋 | CI11: 除菌ペーパー | CO11: 1 | CP11: 袋
C12: 介護用ビニール手袋 | I12: 10 | J12: 組 | O12: 介護用ビニール手袋 | U12: 10 | V12: 組 | AA12: 介護用ビニール手袋 | AG12: 10 | AH12: 組 | AM12: 介護用ビニール手袋 | AS12: 10 | AT12: 組 | AY12: 介護用ビニール手袋 | BE12: 10 | BF12: 組 | BK12: 介護用ビニール手袋 | BQ12: 10 | BR12: 組 | BW12: 介護用ビニール手袋 | CC12: 10 | CD12: 組 | CI12: 介護用ビニール手袋 | CO12: 10 | CP12: 組
C13: 紙コップ | I13: 50 | J13: 個 | O13: 紙コップ | U13: 50 | V13: 個 | AA13: 紙コップ | AG13: 50 | AH13: 個 | AM13: 紙コップ | AS13: 50 | AT13: 個 | AY13: 紙コップ | BE13: 100 | BF13: 個 | BK13: 紙コップ | BQ13: 100 | BR13: 個 | BW13: 紙コップ | CC13: 50 | CD13: 個 | CI13: 紙コップ | CO13: 50 | CP13: 個
C14: 軍手 | I14: 1 | J14: 双 | O14: 軍手 | U14: 1 | V14: 双 | AA14: 軍手 | AG14: 1 | AH14: 双 | AM14: 軍手 | AS14: 1 | AT14: 双 | AY14: 軍手 | BE14: 1 | BF14: 双 | BK14: 軍手 | BQ14: 1 | BR14: 双 | BW14: 軍手 | CC14: 1 | CD14: 双 | CI14: 軍手 | CO14: 1 | CP14: 双
C15: ラップ | I15: 1 | J15: 本 | O15: ラップ | U15: 1 | V15: 本 | AA15: ラップ | AG15: 1 | AH15: 本 | AM15: ラップ | AS15: 1 | AT15: 本 | AY15: ラップ | BE15: 1 | BF15: 本 | BK15: ラップ | BQ15: 1 | BR15: 本 | BW15: ラップ | CC15: 1 | CD15: 本 | CI15: ラップ | CO15: 1 | CP15: 本
C16: 嘔吐用ビニール袋 | I16: 20 | J16: 袋 | O16: 嘔吐用ビニール袋 | U16: 20 | V16: 袋 | AA16: 嘔吐用ビニール袋 | AG16: 20 | AH16: 袋 | AM16: 嘔吐用ビニール袋 | AS16: 20 | AT16: 袋 | AY16: 嘔吐用ビニール袋 | BE16: 50 | BF16: 袋 | BK16: 嘔吐用ビニール袋 | BQ16: 50 | BR16: 袋 | BW16: 嘔吐用ビニール袋 | CC16: 10 | CD16: 袋 | CI16: 嘔吐用ビニール袋 | CO16: 10 | CP16: 袋
C17: ストロー | I17: 20 | J17: 本 | O17: ストロー | U17: 20 | V17: 本 | AA17: ストロー | AG17: 20 | AH17: 本 | AM17: ストロー | AS17: 20 | AT17: 本 | AY17: ストロー | BE17: 20 | BF17: 本 | BK17: ストロー | BQ17: 20 | BR17: 本 | BW17: ストロー | CC17: 20 | CD17: 本 | CI17: ストロー | CO17: 20 | CP17: 本

Sheet 飲料総数
A2: 水 | B2: 408 | C2: =B2/24 -> 17 | E2: 警備部７か所
A3: OS1 | B3: 300 | C3: =B3/24 -> 12.5 | E3: 麦茶 | F3: 14
A4: ゼリー | B4: 110 | C4: =B4/30 -> 3.6666667 | E4: ドライアイス | F4: 24
A5: 冷却パック | B5: 110 | C5: 1 | E5: 氷 | F5: 52
A6: 保冷剤 | B6: 22 | C6: 22
A7: アイスノン | B7: 33 | C7: 33

Sheet 救護備品
A1: 大津港 ターミナル | M1: 大津港 ターミナル | Y1: 大津 市民会館 | AK1: =Y1 -> 大津 市民会館 | AW1: 勤労 福祉会館 | BI1: 勤労 福祉会館 | BU1: ふれあい スポーツ センター | CG1: ふれあい スポーツ センター | CS1: 逢坂市民 センター | DE1: =CS1 -> 逢坂市民 センター | DQ1: 平野市民 センター | EC1: =DQ1 -> 平野市民 センター | EO1: びわこ ボート | FA1: =EO1 -> びわこ ボート | FM1: 草津 本部 | FY1: =FM1 -> 草津 本部
C8: フェイスタオル | I8: 4 | J8: 枚 | AA8: フェイスタオル | AG8: 4 | AH8: 枚 | AY8: フェイスタオル | BE8: 4 | BF8: 枚 | BW8: フェイスタオル | CC8: 4 | CD8: 枚 | CU8: フェイスタオル | DA8: 4 | DB8: 枚 | DS8: フェイスタオル | DY8: 4 | DZ8: 枚 | EQ8: フェイスタオル | EW8: 4 | EX8: 枚 | FO8: フェイスタオル | FU8: 4 | FV8: 枚
C9: ティッシュ | I9: 1 | J9: 箱 | AA9: ティッシュ | AG9: 1 | AH9: 箱 | AY9: ティッシュ | BE9: 1 | BF9: 箱 | BW9: ティッシュ | CC9: 1 | CD9: 箱 | CU9: ティッシュ | DA9: 1 | DB9: 箱 | DS9: ティッシュ | DY9: 1 | DZ9: 箱 | EQ9: ティッシュ | EW9: 1 | EX9: 箱 | FO9: ティッシュ | FU9: 1 | FV9: 箱
C10: ペーパータオル | I10: 1 | J10: 組 | AA10: ペーパータオル | AG10: 1 | AH10: 組 | AY10: ペーパータオル | BE10: 1 | BF10: 組 | BW10: ペーパータオル | CC10: 1 | CD10: 組 | CU10: ペーパータオル | DA10: 1 | DB10: 組 | DS10: ペーパータオル | DY10: 1 | DZ10: 組 | EQ10: ペーパータオル | EW10: 1 | EX10: 組 | FO10: ペーパータオル | FU10: 1 | FV10: 組
C11: 除菌ペーパー | I11: 1 | J11: 袋 | AA11: 除菌ペーパー | AG11: 1 | AH11: 袋 | AY11: 除菌ペーパー | BE11: 1 | BF11: 袋 | BW11: 除菌ペーパー | CC11: 1 | CD11: 袋 | CU11: 除菌ペーパー | DA11: 1 | DB11: 袋 | DS11: 除菌ペーパー | DY11: 1 | DZ11: 袋 | EQ11: 除菌ペーパー | EW11: 1 | EX11: 袋 | FO11: 除菌ペーパー | FU11: 1 | FV11: 袋
C12: 介護用ビニール手袋 | I12: 10 | J12: 組 | AA12: 介護用ビニール手袋 | AG12: 10 | AH12: 組 | AY12: 介護用ビニール手袋 | BE12: 10 | BF12: 組 | BW12: 介護用ビニール手袋 | CC12: 10 | CD12: 組 | CU12: 介護用ビニール手袋 | DA12: 10 | DB12: 組 | DS12: 介護用ビニール手袋 | DY12: 10 | DZ12: 組 | EQ12: 介護用ビニール手袋 | EW12: 10 | EX12: 組 | FO12: 介護用ビニール手袋 | FU12: 10 | FV12: 組
C13: 紙コップ | I13: 50 | J13: 個 | AA13: 紙コップ | AG13: 50 | AH13: 個 | AY13: 紙コップ | BE13: 50 | BF13: 個 | BW13: 紙コップ | CC13: 50 | CD13: 個 | CU13: 紙コップ | DA13: 100 | DB13: 個 | DS13: 紙コップ | DY13: 100 | DZ13: 個 | EQ13: 紙コップ | EW13: 50 | EX13: 個 | FO13: 紙コップ | FU13: 50 | FV13: 個
C14: 軍手 | I14: 1 | J14: 双 | AA14: 軍手 | AG14: 1 | AH14: 双 | AY14: 軍手 | BE14: 1 | BF14: 双 | BW14: 軍手 | CC14: 1 | CD14: 双 | CU14: 軍手 | DA14: 1 | DB14: 双 | DS14: 軍手 | DY14: 1 | DZ14: 双 | EQ14: 軍手 | EW14: 1 | EX14: 双 | FO14: 軍手 | FU14: 1 | FV14: 双
C15: ラップ | I15: 1 | J15: 本 | AA15: ラップ | AG15: 1 | AH15: 本 | AY15: ラップ | BE15: 1 | BF15: 本 | BW15: ラップ | CC15: 1 | CD15: 本 | CU15: ラップ | DA15: 1 | DB15: 本 | DS15: ラップ | DY15: 1 | DZ15: 本 | EQ15: ラップ | EW15: 1 | EX15: 本 | FO15: ラップ | FU15: 1 | FV15: 本
C16: 嘔吐用ビニール袋 | I16: 20 | J16: 袋 | AA16: 嘔吐用ビニール袋 | AG16: 20 | AH16: 袋 | AY16: 嘔吐用ビニール袋 | BE16: 20 | BF16: 袋 | BW16: 嘔吐用ビニール袋 | CC16: 20 | CD16: 袋 | CU16: 嘔吐用ビニール袋 | DA16: 50 | DB16: 袋 | DS16: 嘔吐用ビニール袋 | DY16: 50 | DZ16: 袋 | EQ16: 嘔吐用ビニール袋 | EW16: 10 | EX16: 袋 | FO16: 嘔吐用ビニール袋 | FU16: 10 | FV16: 袋
C17: ストロー | I17: 20 | J17: 本 | AA17: ストロー | AG17: 20 | AH17: 本 | AY17: ストロー | BE17: 20 | BF17: 本 | BW17: ストロー | CC17: 20 | CD17: 本 | CU17: ストロー | DA17: 20 | DB17: 本 | DS17: ストロー | DY17: 20 | DZ17: 本 | EQ17: ストロー | EW17: 20 | EX17: 本 | FO17: ストロー | FU17: 20 | FV17: 本

Sheet クーラーボックス中身 (2)
A1: 業務用地 | M1: びわ湖ホール | Y1: 楽天 | AK1: 一般B | AW1: びわ湖 ホテル前 | BI1: ターミナル | BU1: 大津港 ターミナル | CG1: 大津 市民会館 | CS1: 勤労福祉 センター | DE1: 逢坂市民 センター | DQ1: 平野市民 センター | EC1: びわこ ボート | EO1: 草津本部 | FA1: におの浜 スポーツセンター | FM1: マリーナターミナル
C8: 水 | I8: 24 | J8: 本 | O8: 水 | U8: 24 | V8: 本 | AA8: 水 | AG8: 24 | AH8: 本 | AM8: 水 | AS8: 24 | AT8: 本 | AY8: 水 | BE8: 24 | BF8: 本 | BK8: 水 | BQ8: 24 | BR8: 本 | BW8: 水 | CC8: 24 | CD8: 本 | CI8: 水 | CO8: 24 | CP8: 本 | CU8: 水 | DA8: 24 | DB8: 本 | DG8: 水 | DM8: 48 | DN8: 本 | DS8: 水 | DY8: 48 | DZ8: 本 | EE8: 水 | EK8: 24 | EL8: 本 | EQ8: 水 | EW8: 24 | EX8: 本 | FC8: 水 | FI8: 24 | FJ8: 本 | FO8: 水 | FU8: 24 | FV8: 本
C9: OS-1 | I9: 10 | J9: 本 | O9: OS-1 | U9: 10 | V9: 本 | AA9: OS-1 | AG9: 10 | AH9: 本 | AM9: OS-1 | AS9: 10 | AT9: 本 | AY9: OS-1 | BE9: 10 | BF9: 本 | BK9: OS-1 | BQ9: 10 | BR9: 本 | BW9: OS-1 | CC9: 24 | CD9: 本 | CI9: OS-1 | CO9: 24 | CP9: 本 | CU9: OS-1 | DA9: 24 | DB9: 本 | DG9: OS-1 | DM9: 36 | DN9: 本 | DS9: OS-1 | DY9: 36 | DZ9: 本 | EE9: OS-1 | EK9: 24 | EL9: 本 | EQ9: OS-1 | EW9: 24 | EX9: 本 | FC9: OS-1 | FI9: 24 | FJ9: 本 | FO9: OS-1 | FU9: 24 | FV9: 本
C10: OS-1 ゼリー | I10: 10 | J10: 本 | O10: OS-1 ゼリー | U10: 10 | V10: 本 | AA10: OS-1 ゼリー | AG10: 10 | AH10: 本 | AM10: OS-1 ゼリー | AS10: 10 | AT10: 本 | AY10: OS-1 ゼリー | BE10: 10 | BF10: 本 | BK10: OS-1 ゼリー | BQ10: 10 | BR10: 本 | BW10: OS-1 ゼリー | CC10: 10 | CD10: 本 | CI10: OS-1 ゼリー | CO10: 10 | CP10: 本 | CU10: OS-1 ゼリー | DA10: 10 | DB10: 本 | DG10: OS-1 ゼリー | DM10: 10 | DN10: 本 | DS10: OS-1 ゼリー | DY10: 10 | DZ10: 本 | EE10: OS-1 ゼリー | EL10: 本 | EQ10: OS-1 ゼリー | EX10: 本 | FC10: OS-1 ゼリー | FJ10: 本 | FO10: OS-1 ゼリー | FV10: 本
C11: アイスノン | I11: 3 | J11: 個 | O11: アイスノン | U11: 3 | V11: 個 | AA11: アイスノン | AG11: 3 | AH11: 個 | AM11: アイスノン | AS11: 3 | AT11: 個 | AY11: アイスノン | BE11: 3 | BF11: 個 | BK11: アイスノン | BQ11: 3 | BR11: 個 | BW11: アイスノン | CC11: 3 | CD11: 個 | CI11: アイスノン | CO11: 3 | CP11: 個 | CU11: アイスノン | DA11: 3 | DB11: 個 | DG11: アイスノン | DM11: 3 | DN11: 個 | DS11: アイスノン | DY11: 3 | DZ11: 個 | EE11: アイスノン | EL11: 個 | EQ11: アイスノン | EX11: 個 | FC11: アイスノン | FJ11: 個 | FO11: アイスノン | FV11: 個
C12: 保冷剤 | I12: 2 | J12: 個 | O12: 保冷剤 | U12: 2 | V12: 個 | AA12: 保冷剤 | AG12: 2 | AH12: 個 | AM12: 保冷剤 | AS12: 2 | AT12: 個 | AY12: 保冷剤 | BE12: 2 | BF12: 個 | BK12: 保冷剤 | BQ12: 2 | BR12: 個 | BW12: 保冷剤（大） | CC12: 2 | CD12: 個 | CI12: 保冷剤（大） | CO12: 2 | CP12: 個 | CU12: 保冷剤（大） | DA12: 2 | DB12: 個 | DG12: 保冷剤（大） | DM12: 2 | DN12: 個 | DS12: 保冷剤（大） | DY12: 2 | DZ12: 個 | EE12: 保冷剤（大） | EL12: 個 | EQ12: 保冷剤（大） | EX12: 個 | FC12: 保冷剤（大） | FJ12: 個 | FO12: 保冷剤（大） | FV12: 個
C13: 瞬間保冷パック | I13: 10 | J13: 個 | O13: 瞬間保冷パック | U13: 10 | V13: 個 | AA13: 瞬間保冷パック | AG13: 10 | AH13: 個 | AM13: 瞬間保冷パック | AS13: 10 | AT13: 個 | AY13: 瞬間保冷パック | BE13: 10 | BF13: 個 | BK13: 瞬間保冷パック | BQ13: 10 | BR13: 個 | BW13: 保冷剤（小） | CC13: 10 | CD13: 個 | CI13: 保冷剤（小） | CO13: 10 | CP13: 個 | CU13: 保冷剤（小） | DA13: 10 | DB13: 個 | DG13: 保冷剤（小） | DM13: 10 | DN13: 個 | DS13: 保冷剤（小） | DY13: 10 | DZ13: 個 | EE13: 保冷剤（小） | EL13: 個 | EQ13: 保冷剤（小） | EX13: 個 | FC13: 保冷剤（小） | FJ13: 個 | FO13: 保冷剤（小） | FV13: 個
C14: 氷 | I14: 4 | J14: 貫 | O14: 氷 | U14: 4 | V14: 貫 | AA14: 氷 | AG14: 4 | AH14: 貫 | AM14: 氷 | AS14: 4 | AT14: 貫 | AY14: 氷 | BE14: 4 | BF14: 貫 | BK14: 氷 | BQ14: 4 | BR14: 貫 | BW14: 瞬間保冷パック | CD14: 個 | CI14: 瞬間保冷パック | CP14: 個 | CU14: 瞬間保冷パック | DB14: 個 | DG14: 瞬間保冷パック | DN14: 個 | DS14: 瞬間保冷パック | DZ14: 個 | EE14: 瞬間保冷パック | EL14: 個 | EQ14: 瞬間保冷パック | EX14: 個 | FC14: 瞬間保冷パック | FJ14: 個 | FO14: 瞬間保冷パック | FV14: 個
C15: ドライアイス | I15: 4 | J15: ㎏ | O15: ドライアイス | U15: 4 | V15: ㎏ | AA15: ドライアイス | AG15: 4 | AH15: ㎏ | AM15: ドライアイス | AS15: 4 | AT15: ㎏ | AY15: ドライアイス | BE15: 4 | BF15: ㎏ | BK15: ドライアイス | BQ15: 4 | BR15: ㎏ | BW15: 氷 | CC15: 4 | CD15: 貫 | CI15: 氷 | CO15: 4 | CP15: 貫 | CU15: 氷 | DA15: 4 | DB15: 貫 | DG15: 氷 | DM15: 4 | DN15: 貫 | DS15: 氷 | DY15: 4 | DZ15: 貫 | EE15: 氷 | EL15: 貫 | EQ15: 氷 | EX15: 貫 | FC15: 氷 | FJ15: 貫 | FO15: 氷 | FV15: 貫

Sheet クーラーボックス中身
A1: 業務用地 | M1: 業務用地 | Y1: びわ湖ホール | AK1: =Y1 -> びわ湖ホール | AW1: 楽天 | BI1: =AW1 -> 楽天 | BU1: 一般B | CG1: =BU1 -> 一般B | CS1: びわ湖 ホテル前 | DE1: =CS1 -> びわ湖 ホテル前 | DQ1: ターミ ナル | EC1: =DQ1 -> ターミ ナル | EO1: 大津港 ターミナル | FA1: 大津港 ターミナル | FM1: 大津 市民会館 | FY1: =FM1 -> 大津 市民会館 | GK1: 勤労福祉 センター | GW1: =GK1 -> 勤労福祉 センター | HI1: 逢坂市民 センター | HU1: =HI1 -> 逢坂市民 センター | IG1: 平野市民 センター | IS1: =IG1 -> 平野市民 センター | JE1: びわこ ボート | JQ1: =JE1 -> びわこ ボート | KC1: 草津 本部 | KO1: =KC1 -> 草津 本部 | LA1: におの浜 スポーツセンター | LM1: =LA1 -> におの浜 スポーツセンター | LY1: マリーナターミナル | MK1: =LY1 -> マリーナターミナル
C8: 水 | I8: 24 | J8: 本 | AA8: 水 | AG8: 24 | AH8: 本 | AY8: 水 | BE8: 24 | BF8: 本 | BW8: 水 | CC8: 24 | CD8: 本 | CU8: 水 | DA8: 24 | DB8: 本 | DS8: 水 | DY8: 24 | DZ8: 本 | EQ8: 水 | EW8: 24 | EX8: 本 | FO8: 水 | FU8: 24 | FV8: 本 | GM8: 水 | GS8: 24 | GT8: 本 | HK8: 水 | HQ8: 48 | HR8: 本 | II8: 水 | IO8: 48 | IP8: 本 | JG8: 水 | JM8: 24 | JN8: 本 | KE8: 水 | KK8: 24 | KL8: 本 | LC8: 水 | LI8: 24 | LJ8: 本 | MA8: 水 | MG8: 24 | MH8: 本
C9: OS-1 | I9: 10 | J9: 本 | AA9: OS-1 | AG9: 10 | AH9: 本 | AY9: OS-1 | BE9: 10 | BF9: 本 | BW9: OS-1 | CC9: 10 | CD9: 本 | CU9: OS-1 | DA9: 10 | DB9: 本 | DS9: OS-1 | DY9: 10 | DZ9: 本 | EQ9: OS-1 | EW9: 24 | EX9: 本 | FO9: OS-1 | FU9: 24 | FV9: 本 | GM9: OS-1 | GS9: 24 | GT9: 本 | HK9: OS-1 | HQ9: 36 | HR9: 本 | II9: OS-1 | IO9: 36 | IP9: 本 | JG9: OS-1 | JM9: 24 | JN9: 本 | KE9: OS-1 | KK9: 24 | KL9: 本 | LC9: OS-1 | LI9: 24 | LJ9: 本 | MA9: OS-1 | MG9: 24 | MH9: 本
C10: OS-1 ゼリー | I10: 10 | J10: 本 | AA10: OS-1 ゼリー | AG10: 10 | AH10: 本 | AY10: OS-1 ゼリー | BE10: 10 | BF10: 本 | BW10: OS-1 ゼリー | CC10: 10 | CD10: 本 | CU10: OS-1 ゼリー | DA10: 10 | DB10: 本 | DS10: OS-1 ゼリー | DY10: 10 | DZ10: 本 | EQ10: OS-1 ゼリー | EW10: 10 | EX10: 本 | FO10: OS-1 ゼリー | FU10: 10 | FV10: 本 | GM10: OS-1 ゼリー | GS10: 10 | GT10: 本 | HK10: OS-1 ゼリー | HQ10: 10 | HR10: 本 | II10: OS-1 ゼリー | IO10: 10 | IP10: 本 | JG10: OS-1 ゼリー | JN10: 本 | KE10: OS-1 ゼリー | KL10: 本 | LC10: OS-1 ゼリー | LJ10: 本 | MA10: OS-1 ゼリー | MH10: 本
C11: アイスノン | I11: 3 | J11: 個 | AA11: アイスノン | AG11: 3 | AH11: 個 | AY11: アイスノン | BE11: 3 | BF11: 個 | BW11: アイスノン | CC11: 3 | CD11: 個 | CU11: アイスノン | DA11: 3 | DB11: 個 | DS11: アイスノン | DY11: 3 | DZ11: 個 | EQ11: アイスノン | EW11: 3 | EX11: 個 | FO11: アイスノン | FU11: 3 | FV11: 個 | GM11: アイスノン | GS11: 3 | GT11: 個 | HK11: アイスノン | HQ11: 3 | HR11: 個 | II11: アイスノン | IO11: 3 | IP11: 個 | JG11: アイスノン | JN11: 個 | KE11: アイスノン | KL11: 個 | LC11: アイスノン | LJ11: 個 | MA11: アイスノン | MH11: 個
C12: 保冷剤 | I12: 2 | J12: 個 | AA12: 保冷剤 | AG12: 2 | AH12: 個 | AY12: 保冷剤 | BE12: 2 | BF12: 個 | BW12: 保冷剤 | CC12: 2 | CD12: 個 | CU12: 保冷剤 | DA12: 2 | DB12: 個 | DS12: 保冷剤 | DY12: 2 | DZ12: 個 | EQ12: 保冷剤（大） | EW12: 2 | EX12: 個 | FO12: 保冷剤（大） | FU12: 2 | FV12: 個 | GM12: 保冷剤（大） | GS12: 2 | GT12: 個 | HK12: 保冷剤（大） | HQ12: 2 | HR12: 個 | II12: 保冷剤（大） | IO12: 2 | IP12: 個 | JG12: 保冷剤（大） | JN12: 個 | KE12: 保冷剤（大） | KL12: 個 | LC12: 保冷剤（大） | LJ12: 個 | MA12: 保冷剤（大） | MH12: 個
C13: 瞬間保冷パック | I13: 10 | J13: 個 | AA13: 瞬間保冷パック | AG13: 10 | AH13: 個 | AY13: 瞬間保冷パック | BE13: 10 | BF13: 個 | BW13: 瞬間保冷パック | CC13: 10 | CD13: 個 | CU13: 瞬間保冷パック | DA13: 10 | DB13: 個 | DS13: 瞬間保冷パック | DY13: 10 | DZ13: 個 | EQ13: 保冷剤（小） | EW13: 10 | EX13: 個 | FO13: 保冷剤（小） | FU13: 10 | FV13: 個 | GM13: 保冷剤（小） | GS13: 10 | GT13: 個 | HK13: 保冷剤（小） | HQ13: 10 | HR13: 個 | II13: 保冷剤（小） | IO13: 10 | IP13: 個 | JG13: 保冷剤（小） | JN13: 個 | KE13: 保冷剤（小） | KL13: 個 | LC13: 保冷剤（小） | LJ13: 個 | MA13: 保冷剤（小） | MH13: 個
C14: 氷 | I14: 4 | J14: 貫 | AA14: 氷 | AG14: 4 | AH14: 貫 | AY14: 氷 | BE14: 4 | BF14: 貫 | BW14: 氷 | CC14: 4 | CD14: 貫 | CU14: 氷 | DA14: 4 | DB14: 貫 | DS14: 氷 | DY14: 4 | DZ14: 貫 | EQ14: 瞬間保冷パック | EX14: 個 | FO14: 瞬間保冷パック | FV14: 個 | GM14: 瞬間保冷パック | GT14: 個 | HK14: 瞬間保冷パック | HR14: 個 | II14: 瞬間保冷パック | IP14: 個 | JG14: 瞬間保冷パック | JN14: 個 | KE14: 瞬間保冷パック | KL14: 個 | LC14: 瞬間保冷パック | LJ14: 個 | MA14: 瞬間保冷パック | MH14: 個
C15: ドライアイス | I15: 4 | J15: ㎏ | AA15: ドライアイス | AG15: 4 | AH15: ㎏ | AY15: ドライアイス | BE15: 4 | BF15: ㎏ | BW15: ドライアイス | CC15: 4 | CD15: ㎏ | CU15: ドライアイス | DA15: 4 | DB15: ㎏ | DS15: ドライアイス | DY15: 4 | DZ15: ㎏ | EQ15: 氷 | EW15: 4 | EX15: 貫 | FO15: 氷 | FU15: 4 | FV15: 貫 | GM15: 氷 | GS15: 4 | GT15: 貫 | HK15: 氷 | HQ15: 4 | HR15: 貫 | II15: 氷 | IO15: 4 | IP15: 貫 | JG15: 氷 | JN15: 貫 | KE15: 氷 | KL15: 貫 | LC15: 氷 | LJ15: 貫 | MA15: 氷 | MH15: 貫

Sheet Sheet1 (2)
A1: 業務 用地 | B1: =クーラーボックス中身!AK1 -> びわ湖ホール | C1: =クーラーボックス中身!BI1 -> 楽天 | D1: =クーラーボックス中身!CG1 -> 一般B | E1: =クーラーボックス中身!DE1 -> びわ湖 ホテル前 | F1: =クーラーボックス中身!EC1 -> ターミ ナル | G1: =クーラーボックス中身!FY1 -> 大津 市民会館 | H1: =クーラーボックス中身!GW1 -> 勤労福祉 センター | I1: =クーラーボックス中身!HU1 -> 逢坂市民 センター | J1: =クーラーボックス中身!IS1 -> 平野市民 センター | K1: =クーラーボックス中身!JQ1 -> びわこ ボート | L1: =クーラーボックス中身!KO1 -> 草津 本部

Sheet Sheet1 (3)
A1: 水 本 | B1: 水 本 | C1: 水 本
A2: におの浜スポーツセンター | B2: マリーナターミナル | C2: 大津港ターミナル
A3: OS-1 本 | B3: OS-1 本 | C3: OS-1 本
A4: =A2 -> におの浜スポーツセンター | B4: =B2 -> マリーナターミナル | C4: =C2 -> 大津港ターミナル
A5: ゼリー 本 | B5: ゼリー 本 | C5: ゼリー 本
A6: =A2 -> におの浜スポーツセンター | B6: =B4 -> マリーナターミナル | C6: =C4 -> 大津港ターミナル

Sheet OS
A1: 水 本 | B1: 水 本 | C1: 水 本 | D1: 水 本 | E1: 水 本 | F1: 水 本 | G1: 水 本 | H1: 水 本 | I1: 水 本 | J1: 水 本 | K1: 水 本 | L1: 水 本
A2: 業務 用地 | B2: =クーラーボックス中身!AK1 -> びわ湖ホール | C2: =クーラーボックス中身!BI1 -> 楽天 | D2: =クーラーボックス中身!CG1 -> 一般B | E2: 琵琶湖 ホテル前 | F2: =クーラーボックス中身!EC1 -> ターミ ナル | G2: 大津 市民会館 | H2: =クーラーボックス中身!GW1 -> 勤労福祉 センター | I2: =クーラーボックス中身!HU1 -> 逢坂市民 センター | J2: =クーラーボックス中身!IS1 -> 平野市民 センター | K2: =クーラーボックス中身!JQ1 -> びわこ ボート | L2: 草津本部
A3: OS-1 本 | B3: OS-2 本 | C3: OS-3 本 | D3: OS-4 本 | E3: OS-5 本 | F3: OS-6 本 | G3: OS-7 本 | H3: OS-8 本 | I3: OS-9 本 | J3: OS-10 本 | K3: OS-11 本 | L3: OS-12 本
A4: 業務 用地 | B4: =B2 -> びわ湖ホール | C4: =C2 -> 楽天 | D4: =D2 -> 一般B | E4: =E2 -> 琵琶湖 ホテル前 | F4: =F2 -> ターミ ナル | G4: 大津 市民会館 | H4: =H2 -> 勤労福祉 センター | I4: =I2 -> 逢坂市民 センター | J4: =J2 -> 平野市民 センター | K4: びわこ ボート | L4: =L2 -> 草津本部
A5: ゼリー 本 | B5: ゼリー 本 | C5: ゼリー 本 | D5: ゼリー 本 | E5: ゼリー 本 | F5: ゼリー 本 | G5: ゼリー 本 | H5: ゼリー 本 | I5: ゼリー 本 | J5: ゼリー 本 | K5: ゼリー 本 | L5: ゼリー 本
A6: 業務 用地 | B6: =B4 -> びわ湖ホール | C6: =C4 -> 楽天 | D6: =D4 -> 一般B | E6: =E4 -> 琵琶湖 ホテル前 | F6: =F2 -> ターミ ナル | G6: 大津 市民会館 | H6: =H4 -> 勤労福祉 センター | I6: =I4 -> 逢坂市民 センター | J6: =J4 -> 平野市民 センター | K6: びわこ ボート | L6: =L4 -> 草津本部

Sheet OSシール
A1: ＯＳ-1 | C1: 本 | E1: ＯＳ-1 | G1: 本
A2: =OS!A2 -> 業務 用地 | E2: =A2 -> 業務 用地
A3: ＯＳ-1 | C3: 本 | E3: ＯＳ-1 | G3: 本
A4: =OS!A4 -> 業務 用地 | E4: =A4 -> 業務 用地
A5: ＯＳ-1 | C5: 本 | E5: ＯＳ-1 | G5: 本
A6: =OS!C2 -> 楽天 | E6: =A6 -> 楽天
A7: ＯＳ-1 | C7: 本 | E7: ＯＳ-1 | G7: 本
A8: =OS!B2 -> びわ湖ホール | E8: =A8 -> びわ湖ホール
A9: ＯＳ-1 | C9: 本 | E9: ＯＳ-1 | G9: 本
A10: =OS!D2 -> 一般B | E10: =A10 -> 一般B
A11: ＯＳ-1 | C11: 本 | E11: ＯＳ-1 | G11: 本
A12: びわ湖ホテル前 | E12: =A12 -> びわ湖ホテル前

Sheet ジム予定表
A1: びわ湖花火大会の事務方準備要綱
A2: 1 | B2: 椅子シート作成
A3: 2 | B3: タオル・タオルケット類洗濯（クリーニング）
A4: 3 | B4: 救護備品の確認
A5: 4 | B5: 氷・ドライアイスの発注
A6: 5 | B6: 飲料の発注
A7: 6 | B7: お弁当の発注
A8: 7 | B8: 各ホテルにファックス（ホテル宿泊の再確認）
A9: 8 | B9: 懐中電灯類の確認（電池など）
A10: 9
A11: 10
A12: 11
A13: 12
A14: 13
A15: 14
A16: 15

Sheet Sheet6 (2)
A1: 大晃 | B1: 8 | N1: =SUM(B1:M1) -> 8
A2: ㈱プラスワン | B2: 6 | N2: =SUM(B2:M2) -> 6
A3: KS | B3: 10 | N3: =SUM(B3:M3) -> 10
A4: ライズ | B4: 1 | N4: =SUM(B4:M4) -> 1
A5: アソビ | B5: 30 | C5: 5 | N5: =SUM(B5:M5) -> 35
A6: トラスト | B6: 8 | N6: =SUM(B6:M6) -> 8
A7: レイクサイド | B7: 12 | N7: =SUM(B7:M7) -> 12
A8: フソ | B8: 2 | C8: 13 | N8: =SUM(B8:M8) -> 15
A9: 富士総合 | B9: 7 | N9: =SUM(B9:M9) -> 7
A10: ルートワン | B10: 15 | N10: =SUM(B10:M10) -> 15
A11: ゼロ | B11: 7 | C11: 2 | N11: =SUM(B11:M11) -> 9
A12: コナン | B12: 7 | N12: =SUM(B12:M12) -> 7
A13: 東洋ワーク（大阪） | B13: 3 | N13: =SUM(B13:M13) -> 3
A14: アダムス | B14: 6 | C14: 28 | N14: =SUM(B14:M14) -> 34
A15: 江州 | B15: 10 | N15: =SUM(B15:M15) -> 10
A16: コスモ | B16: 8 | N16: =SUM(B16:M16) -> 8
A17: オウミ | B17: 16 | N17: =SUM(B17:M17) -> 16
A18: シンリュウ | B18: 46 | C18: 5 | N18: =SUM(B18:M18) -> 51
A19: K2 | B19: 3 | C19: 6 | D19: 14 | E19: 25 | N19: =SUM(B19:M19) -> 48
A20: プラスワン㈱ | B20: 6 | N20: =SUM(B20:M20) -> 6
A21: エース | B21: 30 | C21: 7 | D21: 6 | E21: 13 | N21: =SUM(B21:M21) -> 56
A22: サンエス | B22: 17 | N22: =SUM(B22:M22) -> 17
A23: NSS | B23: 25 | N23: =SUM(B23:M23) -> 25
A24: エムティー | B24: 35 | N24: =SUM(B24:M24) -> 35
A25: 兵庫警備 | B25: 7 | N25: =SUM(B25:M25) -> 7
A26: 西部総合 | B26: 30 | N26: =SUM(B26:M26) -> 30
A27: ドリーム | B27: 1 | C27: 8 | N27: =SUM(B27:M27) -> 9
A28: ジャパン | B28: 1 | C28: 4 | N28: =SUM(B28:M28) -> 5
A29: 東洋ワーク（草津） | B29: 5 | N29: =SUM(B29:M29) -> 5
A30: セノン | B30: 43 | N30: =SUM(B30:M30) -> 43
A31: カンパト | B31: 60 | C31: 36 | D31: 1 | N31: =SUM(B31:M31) -> 97
A32: シンテイ | B32: 12 | N32: =SUM(B32:M32) -> 12
A33: コトナ | B33: 8 | C33: 17 | D33: 15 | E33: 6 | F33: 40 | G33: 46 | H33: 46 | I33: 22 | J33: 1 | K33: 15 | N33: =SUM(B33:M33) -> 216
A34: イーフロ | B34: 1 | C34: 9 | N34: =SUM(B34:M34) -> 10
A35: 京阪ビル | B35: 5 | N35: =SUM(B35:M35) -> 5
A36: アールシー | B36: 11 | N36: =SUM(B36:M36) -> 11
M37: =SUM(N1:N36) -> 892

Sheet Sheet6
A1: 大晃 | B1: 8 | N1: =SUM(B1:M1) -> 8
A2: ㈱プラスワン | B2: 6 | C2: 6 | N2: =SUM(B2:M2) -> 12
A3: KS | B3: 10 | N3: =SUM(B3:M3) -> 10
A4: ライズ | B4: 1 | N4: =SUM(B4:M4) -> 1
A5: アソビ | B5: 30 | C5: 5 | N5: =SUM(B5:M5) -> 35
A6: トラスト | B6: 9 | C6: 8 | N6: =SUM(B6:M6) -> 17
A7: レイクサイド | B7: 12 | N7: =SUM(B7:M7) -> 12
A8: フソ | B8: 2 | C8: 13 | N8: =SUM(B8:M8) -> 15
A9: 富士総合 | B9: 7 | N9: =SUM(B9:M9) -> 7
A10: ルートワン | B10: 15 | N10: =SUM(B10:M10) -> 15
A11: ゼロ | B11: 6 | C11: 2 | N11: =SUM(B11:M11) -> 8
A12: コナン | B12: 7 | N12: =SUM(B12:M12) -> 7
A13: 東洋ワーク（大阪） | B13: 3 | N13: =SUM(B13:M13) -> 3
A14: アダムス | B14: 6 | C14: 28 | N14: =SUM(B14:M14) -> 34
A15: 江州 | B15: 10 | N15: =SUM(B15:M15) -> 10
A16: コスモ | B16: 8 | N16: =SUM(B16:M16) -> 8
A17: オウミ | B17: 15 | N17: =SUM(B17:M17) -> 15
A18: シンリュウ | B18: 46 | C18: 5 | N18: =SUM(B18:M18) -> 51
A19: K2 | B19: 3 | C19: 6 | D19: 14 | E19: 25 | N19: =SUM(B19:M19) -> 48
A20: プラスワン㈱ | B20: 6 | N20: =SUM(B20:M20) -> 6
A21: エース | B21: 30 | C21: 7 | D21: 6 | E21: 13 | N21: =SUM(B21:M21) -> 56
A22: サンエス | B22: 17 | C22: 17 | N22: =SUM(B22:M22) -> 34
A23: NSS | B23: 25 | C23: 25 | N23: =SUM(B23:M23) -> 50
A24: エムティー | B24: 35 | C24: 35 | N24: =SUM(B24:M24) -> 70
A25: 兵庫警備 | B25: 7 | N25: =SUM(B25:M25) -> 7
A26: 西部総合 | B26: 30 | N26: =SUM(B26:M26) -> 30
A27: ドリーム | B27: 1 | C27: 8 | N27: =SUM(B27:M27) -> 9
A28: ジャパン | B28: 1 | C28: 4 | N28: =SUM(B28:M28) -> 5
A29: 東洋ワーク（草津） | B29: 6 | N29: =SUM(B29:M29) -> 6
A30: セノン | B30: 43 | N30: =SUM(B30:M30) -> 43
A31: カンパト | B31: 60 | C31: 36 | D31: 1 | N31: =SUM(B31:M31) -> 97
A32: シンテイ | B32: 12 | N32: =SUM(B32:M32) -> 12
A33: コトナ | B33: 8 | C33: 17 | D33: 15 | E33: 35 | F33: 65 | G33: 7 | H33: 40 | I33: 46 | J33: 46 | K33: 15 | L33: 22 | M33: 1 | N33: =SUM(B33:M33) -> 317
A34: イーフロ | B34: 1 | C34: 9 | N34: =SUM(B34:M34) -> 10
A35: 京阪ビル | B35: 5 | N35: =SUM(B35:M35) -> 5
A36: アールシー | B36: 11 | N36: =SUM(B36:M36) -> 11
M37: =SUM(N1:N36) -> 1084
