Workbook

Sheet 露天弁当 
A1: 店舗名 | B1: 氏名 | C1: 14日(昼) | E1: 受取㊞ | F1: 14日(夜) | H1: 受取㊞ | I1: 15日(昼) | K1: 受取㊞ | L1: 15日(夜) | N1: 受取㊞ | O1: 合計金額
A2: 福田商事 | B2: 森 紘崇 | C2: 7 | D2: 個 | F2: 7 | G2: 個 | I2: 7 | J2: 個 | L2: 7 | M2: 個 | O2: 19600
A3: 福永商店 | B3: 福永かおる | C3: 2 | D3: 個 | F3: 2 | G3: 個 | I3: 2 | J3: 個 | L3: 2 | M3: 個 | O3: =(C3+F3+I3+L3)*700 -> 5600
B4: 阿保 智 | C4: 2 | D4: 個 | F4: 2 | G4: 個 | I4: 1 | J4: 個 | L4: 1 | M4: 個 | O4: =(C4+F4+I4+L4)*700 -> 4200
A5: 黒井商店 | B5: 黒井栄一郎 | C5: 7 | D5: 個 | G5: 個 | I5: 7 | J5: 個 | M5: 個 | O5: =(C5+F5+I5+L5)*700 -> 9800
A6: 大黒食品 | B6: 古志利克 | C6: 2 | D6: 個 | F6: 2 | G6: 個 | I6: 2 | J6: 個 | L6: 2 | M6: 個 | O6: =(C6+F6+I6+L6)*700 -> 5600
A7: 杉本商店 | B7: 杉本謙人 | C7: 9 | D7: 個 | F7: 9 | G7: 個 | I7: 9 | J7: 個 | L7: 9 | M7: 個 | O7: =(C7+F7+I7+L7)*700 -> 25200
A8: 門脇商店 | B8: 門脇嘉子 | C8: 4 | D8: 個 | F8: 4 | G8: 個 | I8: 4 | J8: 個 | L8: 4 | M8: 個 | O8: =(C8+F8+I8+L8)*700 -> 11200
A9: 寺尾商店 | B9: 寺尾賢一 | C9: 2 | D9: 個 | F9: 2 | G9: 個 | I9: 2 | J9: 個 | L9: 2 | M9: 個 | O9: =(C9+F9+I9+L9)*700 -> 5600
A10: 山辺銀商店 | B10: 山邉 淳 | C10: 1 | D10: 個 | F10: 1 | G10: 個 | I10: 1 | J10: 個 | M10: 個 | O10: =(C10+F10+I10+L10)*700 -> 2100
A11: 北村商店 | B11: 北村俊春 | C11: 2 | D11: 個 | F11: 2 | G11: 個 | I11: 2 | J11: 個 | L11: 2 | M11: 個 | O11: =(C11+F11+I11+L11)*700 -> 5600
A12: ？ | B12: ？ | C12: 4 | D12: 個 | G12: 個 | I12: 4 | J12: 個 | M12: 個 | O12: =(C12+F12+I12+L12)*700 -> 5600
D13: 個 | G13: 個 | J13: 個 | M13: 個 | O13: =(C13+F13+I13+L13)*700 -> 0
D14: 個 | G14: 個 | J14: 個 | M14: 個 | O14: =(C14+F14+I14+L14)*700 -> 0
D15: 個 | G15: 個 | J15: 個 | M15: 個 | O15: =(C15+F15+I15+L15)*700 -> 0
D16: 個 | G16: 個 | J16: 個 | M16: 個 | O16: =(C16+F16+I16+L16)*700 -> 0
A17: 露店事務局 | C17: 5 | D17: 個 | F17: 5 | G17: 個 | I17: 5 | J17: 個 | L17: 5 | M17: 個 | O17: =(C17+F17+I17+L17)*700 -> 14000
C18: =SUM(C2:C17) -> 47 | D18: 個 | F18: =SUM(F2:F17) -> 36 | G18: 個 | I18: =SUM(I2:I17) -> 46 | J18: 個 | L18: =SUM(L2:L17) -> 34 | M18: 個 | O18: =SUM(O2:O17) -> 114100

Sheet 2026集計
H1: 700
A2: 1 | B2: 松浦 | C2: 17000 | E2: 14日昼 | F2: 42 | G2: 個 | H2: =H1*F2 -> 29400
A3: 2 | B3: 大角 清 | C3: 34000 | E3: １４日夜 | F3: 31 | G3: 個 | H3: =H1*F3 -> 21700
A4: 3 | B4: 大野 | C4: 85000 | E4: １５日昼 | F4: 41 | G4: 個 | H4: =H1*F4 -> 28700
A5: 4 | B5: 大西 | C5: 68000 | E5: １５日夜 | F5: 29 | G5: 個 | H5: =H1*F5 -> 20300
A6: 5 | B6: 三岡 | C6: 68000 | H6: =SUM(H2:H5) -> 100100
A7: 6 | B7: 北村 | C7: 17000
A8: 7 | B8: 寺浦 | C8: 51000 | E8: 合計 | F8: 143 | G8: 個 | H8: =F8*600 -> 85800
A9: 8 | B9: 土倉 | C9: 17000
A10: 9 | B10: 寺田 | C10: 34000 | F10: 差額 | H10: =H6-H8 -> 14300
A11: 10 | B11: 山辺 | C11: 17000
A12: 11 | B12: 中西 | C12: 34000
A13: 12 | B13: 二木 | C13: 51000
A14: 13 | B14: 櫻井 | C14: 51000
A15: 14 | B15: 第一食品 | C15: 51000
A16: 15 | B16: 土倉 | C16: 17000
A17: 16 | B17: 平井商店 | C17: 17000
A18: 17 | B18: 大川 | C18: 17000
A19: 18 | B19: 金城 | C19: 51000
C20: =SUM(C2:C19) -> 697000

Sheet Sheet1
A1: 厄神大祭 | E1: アルバイト
A2: 氏名 | C2: 勤務 | H2: 日給単価 | J2: 交通費 | K2: 総支給額額 | L2: 課税金額 | M2: 所得税 | N2: 雇用保険 | O2: 控除合計 | P2: 支給金額
A3: 1 | B3: 鴻齋かおり | C3: 平日 | D3: 3 | E3: 日 | G3: H | H3: 12000 | K3: =D3*H3+F3*I3+D4*H4+F4*I4+J3 -> 36000 | L3: =K3 -> 36000 | O3: =N3+M3 -> 0 | P3: =K3-O3 -> 36000 | Q3: 前川
C4: 日祝 | E4: 日 | G4: H | H4: 18750
A5: 2 | B5: 宮辻浩二 | C5: 平日 | D5: 3 | E5: 日 | G5: H | H5: 15000 | K5: =D5*H5+F5*I5+D6*H6+F6*I6+J5 -> 45000 | L5: =K5 -> 45000 | O5: =N5+M5 -> 0 | P5: =K5-O5 -> 45000 | Q5: 和哉
C6: 日祝 | E6: 日 | G6: H | H6: 18750
A7: 3 | B7: 上代 学 | C7: 平日 | D7: 3 | E7: 日 | G7: H | H7: 15000 | K7: =D7*H7+F7*I7+D8*H8+F8*I8+J7 -> 45000 | L7: =K7 -> 45000 | O7: =N7+M7 -> 0 | P7: =K7-O7 -> 45000 | Q7: 宏稀
C8: 日祝 | E8: 日 | G8: H | H8: 18750
A9: 4 | B9: 油谷州昭 | C9: 平日 | D9: 5 | E9: 日 | G9: H | H9: 15000 | K9: =D9*H9+F9*I9+D10*H10+F10*I10+J9 -> 112500 | L9: =K9 -> 112500 | O9: =N9+M9 -> 0 | P9: =K9-O9 -> 112500 | Q9: 油谷州昭
C10: 日祝 | D10: 2 | E10: 日 | G10: H | H10: 18750
A11: 5 | B11: 伊藤優希 | C11: 平日 | D11: 2 | E11: 日 | G11: H | H11: 15000 | K11: =D11*H11+F11*I11+D12*H12+F12*I12+J11 -> 48750 | L11: =K11 -> 48750 | O11: =N11+M11 -> 0 | P11: =K11-O11 -> 48750
C12: 日祝 | D12: 1 | E12: 日 | G12: H | H12: 18750
A13: 6 | B13: 大先栄輝 | C13: 平日 | D13: 1 | E13: 日 | G13: H | H13: 13500 | K13: =D13*H13+F13*I13+D14*H14+F14*I14+J13 -> 13500 | L13: =K13 -> 13500 | O13: =N13+M13 -> 0 | P13: =K13-O13 -> 13500
C14: 日祝 | E14: 日 | G14: H | H14: 18750
A15: 7 | B15: 高森明人 | C15: 平日 | E15: 日 | G15: H | J15: 20000 | K15: 100000 | L15: 100000 | O15: =N15+M15 -> 0 | P15: 120000
C16: 日祝 | E16: 日 | G16: H
A17: 8 | B17: 前川勝己 | C17: 平日 | E17: 日 | G17: H | K17: 200000 | L17: =K17 -> 200000 | O17: =N17+M17 -> 0 | P17: 200000
C18: 日祝 | E18: 日 | G18: H
A19: 9 | C19: 平日 | E19: 日 | G19: H | K19: =D19*H19+F19*I19+D20*H20+F20*I20+J19 -> 0 | L19: =K19 -> 0 | O19: =N19+M19 -> 0 | P19: =K19-O19 -> 0
C20: 日祝 | E20: 日 | G20: H
A21: 10 | C21: 平日 | E21: 日 | G21: H | K21: =D21*H21+F21*I21+D22*H22+F22*I22+J21 -> 0 | L21: =K21 -> 0 | O21: =N21+M21 -> 0 | P21: =K21-O21 -> 0
C22: 日祝 | E22: 日 | G22: H
O23: =SUM(P3:P22) -> 620750

Sheet FAX 2026
U1: 送信日 | X1: 令和 | Z1: 8 | AB1: 年 | AC1: 2 | AE1: 月 | AF1: 11 | AH1: 日
A2: ＦＡＸ送付状
C4: 送信先：
C5: 【会社名】 | H5: ちきんイオン加古川店 | Q5: 御中 | W5: 送付枚数： | AA5: 本状含み | AD5: 1 | AF5: 枚
C7: 【ご担当者】 | H7: 店長 | O7: 様
S9: 送信元：
B10: 拝啓 | T10: 【会社名】 | X10: 株式会社CSILead
B11: 貴社ますますご清栄のこととお慶び申し上げます。 | T11: 【会社住所】 | AJ11: =C23 -> 露店運営 協議会 | AR11: =R26 -> 163 | AW11: 個 | BA11: =C28 -> CSILead | BI11: 160 | BN11: 個
B12: 平素は格別のご高配を賜り厚くお礼申し上げます。 | T12: 兵庫県加西市北条町北条1121
B13: 下記の通りＦＡＸにて送信致しますので | T13: 【担当者名】 | X13: 鴻齋
B14: ご査収の程お願い申し上げます。 | X14: 080-3852-0918
B15: 敬具 | AJ15: 共伸電気 | AR15: =R36 -> 0 | AW15: 個
B16: 件 名
C19: この度はお世話になります。 | AR19: =AR11+AR15 -> 163 | AW19: 個
C20: 数が多いですが、ご対応宜しくお願いします。
C23: 露店運営 協議会 | G23: 14 | I23: 日 | J23: 昼 | L23: 47 | O23: 個
J24: 夜 | L24: 36 | O24: 個 | R24: 600 | BO24: =AL25+AL33 -> 353
G25: 15 | I25: 日 | J25: 昼 | L25: 46 | O25: 個 | R25: 合計 | V25: 支払い金額 | AL25: =AR19 -> 163 | AQ25: × | AS25: 500 | AW25: ＝ | AY25: =AL25*AS25 -> 81500
J26: 夜 | L26: 34 | O26: 個 | R26: =L23+L24+L25+L26 -> 163 | V26: =R24*R26 -> 97800
C28: CSILead | G28: 14 | I28: 日 | J28: 昼 | L28: 40 | O28: 個
J29: 夜 | L29: 50 | O29: 個 | R29: 800 | AL29: =L23+L24+L25+L26 -> 163 | AQ29: × | AS29: 700 | AW29: ＝ | AY29: =AL29*AS29 -> 114100 | BM29: =AB35/BO24 -> 707.64873
G30: 15 | I30: 日 | J30: 昼 | L30: 50 | O30: 個 | R30: 合計 | V30: 支払い金額
J31: 夜 | L31: 50 | O31: 個 | R31: =L28+L29+L31+L30 -> 190 | V31: =R29*R31 -> 152000
AL33: =L28+L29+L30+L31 -> 190 | AQ33: × | AS33: 700 | AW33: ＝ | AY33: =AL33*AS33 -> 133000
AB34: 支払い合計
AB35: =V26+V31 -> 249800
C37: 警備隊長 | AY37: =AY25+AY29 -> 195600
C38: 関西パトロール：尾崎さん（09069815853）の予定です。
M44: 最新

Sheet ２０２６経理 (2)
B1: 請求額
B2: 小計 | C2: 2252903 | D2: 厄神本体
B3: 消費税 | C3: 225290
B4: 小計 | C4: 588275 | D4: 協議会
B5: 消費税 | C5: =C4*0.1 -> 58827.5
B6: 計画費 | C6: 200000 | D6: =C2+C6+C4 -> 3041178 | E6: 請求合計
B7: 消費税 | C7: 20000 | D7: =C3+C7+C5 -> 304117.5 | E7: 消費税合計
A9: 人件費
A10: 厄神大祭対応 | B10: 前川勝己 | C10: 200000 | D10: 警備計画・設営
B11: 伊藤優希 | C11: 48750 | D11: 設営（3日）
B12: 油谷州昭 | C12: 112500 | D12: 設営（9日）
B13: 大先栄輝 | C13: =Sheet1!P13 -> 13500 | D13: 設営（１日）
B14: 鴻齋かおり | C14: 36000 | D14: 雑用（3日）
B15: 高森明人 | C15: 120000 | D15: 警備隊長（15・16日 07：00～22：00）
B16: 宮辻浩二 | C16: 45000 | D16: 事前準備（3日）
B17: 上代 学 | C17: 45000 | D17: 事前準備（3日）
C19: =SUM(C10:C18) -> 620750
A20: 経費
A21: 45693 | B21: 近隣対応 | C21: 50000 | D21: オオイ
A22: 45693 | B22: 賠償保険 | C22: 75980
A23: 46060 | B23: ジュンテンドー | C23: 5686 | D23: 資機材
B24: ドン・キホーテ | C24: 17162 | D24: ラーメン・飲料
B25: コーナン | C25: 7366 | D25: 資機材
A26: 46061 | B26: コーナン | C26: 7678 | D26: 資機材
A27: 46062 | B27: 紅善 | C27: 1320 | D27: 資機材
B28: ハローズ | C28: 10873 | D28: ラーメン・飲料
A29: 46067 | B29: コーナン | C29: 7190 | D29: 資機材
A30: 46068 | B30: きちん | C30: 152000 | D30: 警備員弁当
B31: フロマージュ | C31: 14740 | D31: 神社、協議会、防犯 お礼
B32: シャトレーゼ | C32: 4320 | D32: 50個
C35: =SUM(C21:C32) -> 354315
A36: 警備
A37: 関西パトロール | C37: 1733820 | E37: 14・15日 警備
A38: 仙台銘板 | C38: 22000
C39: =SUM(C37:C38) -> 1755820
D40: =D6 -> 3041178 | E40: =C19+C35+C39 -> 2730885 | F40: =D40-E40 -> 310293

Sheet Sheet4
B2: 1月 | C2: 2月 | D2: 3月 | E2: 4月 | F2: 5月 | G2: 6月 | H2: 7月 | I2: 8月 | J2: 9月 | K2: 10月 | L2: 11月 | M2: 12月
A3: 家賃 | B3: 65000 | C3: 65000 | D3: 65000 | E3: 65000 | F3: 65000 | G3: 65000 | H3: 65000 | I3: 65000 | J3: 65000 | K3: 65000 | L3: 65000 | M3: 65000 | N3: =SUM(B3:M3) -> 780000
A4: 光熱費 | B4: 15000 | C4: 15000 | D4: 15000 | E4: 15000 | F4: 15000 | G4: 15000 | H4: 15000 | I4: 15000 | J4: 15000 | K4: 15000 | L4: 15000 | M4: 15000 | N4: =SUM(B4:M4) -> 180000
N5: =SUM(N3:N4) -> 960000
B6: 1月 | C6: 2月 | D6: 3月 | E6: 4月 | F6: 5月 | G6: 6月 | H6: 7月 | I6: 8月 | J6: 9月 | K6: 10月 | L6: 11月 | M6: 12月
A7: 家賃 | B7: 35000 | C7: 35000 | D7: 35000 | E7: 35000 | F7: 35000 | G7: 35000 | H7: 35000 | I7: 35000 | J7: 35000 | K7: 35000 | L7: 35000 | M7: 35000 | N7: =SUM(B7:M7) -> 420000
A8: 光熱費 | B8: 7500 | C8: 7500 | D8: 7500 | E8: 7500 | F8: 7500 | G8: 7500 | H8: 7500 | I8: 7500 | J8: 7500 | K8: 7500 | L8: 7500 | M8: 7500 | N8: =SUM(B8:M8) -> 90000
N9: =SUM(N7:N8) -> 510000
B11: 差額 | C11: 3年 | D11: 5年
B12: =N5-N9 -> 450000 | C12: =B12*3 -> 1350000 | D12: =5*B12 -> 2250000

Sheet 立替
B2: 申請書記録整理費用 | C2: 60000
B3: 図面上出店場所決定 | C3: 30000
B4: 書類発送・受付 | C4: 60000
B5: 場所割 | C5: 50000
B6: 場所割材料費 | C6: 26123
B7: 13日受付 | C7: 40000
B8: 14日巡回 | C8: 40000
B9: 15日巡回 | C9: 40000
B10: 近隣対策費 | C10: 50000
B11: 打合せ日当 | C11: 25000 | F11: 小計 | G11: 588275 | H11: 協議会
B12: 保険料 | C12: 75980 | F12: 消費税 | G12: =G11*0.1 -> 58827.5
B13: 通信費・事務備品 | C13: 50000 | G13: =SUM(G11:G12) -> 647102.5
B14: 申請書類 | C14: 80000
B15: ごみ処理 | C15: 20000
C16: =SUM(C2:C15) -> 647103 | D16: 税込み

Sheet ２０２６経理
B1: 請求額 | E1: 外注費
B2: 小計 | C2: 2252903 | E2: 関西パトロール | F2: 1320000
B3: 消費税 | C3: 225290
B4: 計画費 | C4: 200000 | D4: =C2+C4 -> 2452903
B5: 消費税 | C5: 20000 | D5: =C3+C5 -> 245290
A7: 人件費
A8: 厄神大祭対応 | B8: 前川勝己 | C8: 200000 | D8: 警備計画・設営
B9: 伊藤優希 | C9: =Sheet1!P11 -> 48750 | D9: 設営
B10: 油谷州昭 | C10: =Sheet1!P9 -> 112500 | D10: 設営
B11: 大先栄輝 | C11: =Sheet1!P13 -> 13500 | D11: 設営（１日）
B12: 鴻齋かおり | C12: 30000 | D12: 雑用（２日）
B13: 宮本一成 | C13: =Sheet1!P3 -> 36000 | D13: 事前準備
B14: 宮辻浩二 | C14: =Sheet1!P5 -> 45000 | D14: 事前準備
B15: 上代 学 | C15: =Sheet1!P7 -> 45000 | D15: 事前準備
B16: 高森明人 | C16: 120000 | D16: 警備隊長（15・16日 07：00～22：00）
C17: =SUM(C8:C16) -> 650750
A18: 経費
A19: 45693 | B19: 近隣対応 | C19: 50000 | D19: 1軒5,000円
A20: 45693 | B20: 賠償保険 | C20: 84430
A21: 45694 | B21: 紅善 | C21: 13200 | D21: 資機材
A22: 45696 | B22: シャトレーゼ | C22: 6450 | D22: 50個
A23: 45698 | B23: コーナン | C23: 5463 | D23: 資機材
A24: 45699 | B24: コスモス | C24: 12304 | D24: ラーメン・飲料
B25: ITeAHOUSE | C25: 5214 | D25: 昼食
A26: 45700 | B26: ほっともっと | C26: 2500 | D26: 昼食
B27: ラムー | C27: 3619 | D27: ラーメン・飲料
B28: ダイソー | C28: 880 | D28: 紙コップ・マドラー・砂糖
A29: 46068 | B29: きちん | C29: 180000 | D29: 警備員弁当
A30: 45703 | B30: コーナン | C30: 2117 | D30: 資機材
A31: 45704 | B31: フェールアンカラン | C31: 5454 | D31: 手土産
A32: 45705 | B32: 燃料 | C32: 4885
C33: =SUM(C19:C32) -> 376516
A34: 警備
A35: 関西パトロール | C35: 1320000 | E35: 14・15日 警備
C36: =SUM(C35) -> 1320000
D38: =C36+C17 -> 1970750

Sheet 2025訂正用
A1: 事業所名 | B1: 新熊 | E1: 事業所名 | F1: 八竹堂 | I1: 事業所名 | J1: 森下商店 | M1: 事業所名 | N1: (株)帝翔 | Q1: 事業所名 | R1: 鎌倉商店 | U1: 事業所名 | V1: 和田商店 | Y1: 事業所名 | Z1: 福寿堂 | AC1: 事業所名 | AG1: 事業所名 | AH1: モンキー | AK1: 事業所名 | AL1: 杉本商店 | AO1: 事業所名 | AP1: 大一食品 | AS1: 事業所名 | AW1: 事業所名 | AX1: 大西 | BA1: 事業所名 | BB1: 福水刃物店 | BE1: 事業所名 | BF1: 新熊 | BI1: 事業所名 | BJ1: 大黒食品 | BM1: 事業所名 | BN1: ゼネラルスタッフ
A3: 代表者 | B3: 矢野 充 | E3: 代表者 | F3: 大川 馨 | I3: 代表者 | J3: 森下 賢三 | M3: 代表者 | N3: 徳永 政秀 | Q3: 代表者 | R3: 大谷 孝志 | U3: 代表者 | V3: 和田 正之 | Y3: 代表者 | Z3: 中西 伸也 | AC3: 代表者 | AD3: 阿保 智 | AG3: 代表者 | AH3: 大窪 直樹 | AK3: 代表者 | AL3: 杉本 謙人 | AO3: 代表者 | AP3: 大角 一郎 | AS3: 代表者 | AT3: 櫻井 翔聖 | AW3: 代表者 | AX3: 大西 忍 | BA3: 代表者 | BB3: 福水卓治 | BE3: 代表者 | BF3: 矢野充 | BI3: 代表者 | BJ3: 古志利克 | BM3: 代表者
A4: 責任者 補助者 | B4: 矢野 充 | E4: 責任者 補助者 | F4: 大川 馨 | I4: 責任者 補助者 | J4: 森下 賢三 | M4: 責任者 補助者 | N4: 徳永 政秀 | Q4: 責任者 補助者 | R4: 大谷 孝志 | U4: 責任者 補助者 | V4: 和田 正之 | Y4: 責任者 補助者 | Z4: 中西 伸也 | AC4: 責任者 補助者 | AD4: 阿保 智 | AG4: 責任者 補助者 | AH4: 大窪 直樹 | AK4: 責任者 補助者 | AL4: 杉本 謙人 | AM4: 原 祐貴 | AO4: 責任者 補助者 | AP4: 大角 一郎 | AQ4: 酒井 瑠衣 | AS4: 責任者 補助者 | AT4: 櫻井 翔聖 | AW4: 責任者 補助者 | AX4: 大西 忍 | BA4: 責任者 補助者 | BB4: 福水卓治 | BE4: 責任者 補助者 | BF4: 矢野充 | BI4: 責任者 補助者 | BJ4: 古志利克 | BM4: 責任者 補助者 | BN4: 三岡弘幸
B5: 田頭 健 | F5: 東山 竜也 | J5: 森下 実 | N5: 福山 洋和 | R5: 鎌倉 たまき | V5: 和田 美沙 | Z5: 中西 早紀 | AD5: 村井 海斗 | AH5: 平山 慶 | AL5: 杉本 卓志 | AM5: 西畑 琴美 | AP5: 大和 孝明 | AQ5: 桑田 鉄也 | AT5: 茶木 麻菜美 | AX5: 田中 勤也 | BF5: 田頭健 | BJ5: 中川真 | BN5: 木村俊彦
B6: 福田 結翔 | J6: 湊 舞遥 | R6: 鎌倉 みゆき | V6: 和田 純麗 | AL6: 岩崎 妙子 | AP6: 寺坂 昭人 | AT6: 長原 未法 | AX6: 中谷 正直 | BF6: 福田結翔 | BN6: 鶴直人
B7: 平野 寛一 | J7: 漢那 輝政 | R7: 大内 智代 | AL7: 細川 勝彦 | AP7: 前田 辰子 | AX7: 香川 嶺治 | BF7: 平野寛一 | BN7: 江島忍
B8: 矢野 依子 | J8: 岩崎 留菜 | R8: 大内 騎士 | AL8: 門脇 弘樹 | AP8: 那須 司 | AX8: 大西 魁 | BF8: 矢野依子 | BN8: 出田直
J9: 北岡 元基 | AL9: 木村 広典 | AP9: 塚崎 泰史 | BN9: 高島健二
AL10: 杉本 梓 | AP10: 釜本 涼二 | BN10: 祖浦節男
A12: 販売品目 許可証 | B12: クレープ | C12: 神北1-589 | E12: 販売品目 許可証 | F12: カステラ | G12: 神南1-168 | I12: 販売品目 許可証 | J12: くじ | M12: 販売品目 許可証 | N12: メカブ茶・スルメ | Q12: 販売品目 許可証 | R12: みたらし団子 | S12: 北幡312-47 | U12: 販売品目 許可証 | V12: 金魚すくい | Y12: 販売品目 許可証 | Z12: ワカサギの天ぷら | AA12: 但馬101-59 | AC12: 販売品目 許可証 | AD12: 包丁 | AG12: 販売品目 許可証 | AH12: 猿回し | AK12: 販売品目 許可証 | AL12: たい焼き | AM12: 東播401-789 | AO12: 販売品目 許可証 | AP12: 茶店 | AQ12: 中播31-31 | AS12: 販売品目 許可証 | AT12: 十円パン | AU12: 中播31-31 | AW12: 販売品目 許可証 | AX12: イカ焼き | AY12: 阪神北21-163 | BA12: 販売品目 許可証 | BB12: 刃物 | BE12: 販売品目 許可証 | BF12: フレープ | BG12: 神北1-589 | BI12: 販売品目 許可証 | BJ12: カステラ | BK12: 東播401-203 | BM12: 販売品目 許可証 | BN12: チーズハットグ | BO12: 中播31-92
B13: はしまき | C13: 神北1-669 | J13: くじ | R13: チョコバナナ | S13: 北幡312-47 | Z13: 大判焼き | AA13: 但馬101-84 | AL13: フリフリポテト | AM13: 東播401-5 | AP13: カステラ | AQ13: 中播31-97 | AT13: くじびき | AX13: たい焼き | AY13: 阪神北21-192 | BF13: はしまき | BG13: 神北1-669 | BN13: ビニールくじ
B14: 串焼き | C14: 神北1-522 | J14: くじ | AL14: カステラ饅頭 | AM14: 東播401-722 | AP14: トルネードポテト | AQ14: 中播31-102 | AT14: くじびき | AX14: カリカリチーズ | AY14: 阪神北21-168 | BF14: 串焼き | BG14: 神北1-522 | BN14: くじ引き
B15: カリカリチーズ | C15: 神北1-168 | J15: くじ | AL15: カラアゲ | AM15: 東播401-723 | AP15: 射的 | AX15: トルネードポテト | AY15: 阪神北21-163 | BF15: カリカリチーズ | BG15: 神北1-168 | BN15: とりかわギョーザ | BO15: 中播31-89
J16: くじ | AL16: ホルモンうどん | AM16: 東播401-29 | AP16: カリカリチーズ | AQ16: 中播31-33 | BN16: チーズハトック | BO16: 中播31-91
J17: くじ | AL17: たこ焼き | AM17: 東播401-191 | AP17: フルーツ飴 | AQ17: 中播31-98 | BN17: とりかわギョーザ | BO17: 中播31-74
AL18: ボール救い | AP18: チーズハトック | AQ18: 中播31-32
AL19: くじびき | AP19: くじ引き
A21: お弁当 | B21: 14日 | C21: 個 | D21: 個 | E21: お弁当 | F21: 14日 | G21: 個 | H21: 個 | I21: お弁当 | J21: 14日 | K21: 個 | L21: 個 | M21: お弁当 | N21: 14日 | O21: 個 | P21: 個 | Q21: お弁当 | R21: 14日 | S21: 個 | T21: 個 | U21: お弁当 | V21: 14日 | W21: 個 | X21: 個 | Y21: お弁当 | Z21: 14日 | AA21: 個 | AB21: 個 | AC21: お弁当 | AD21: 14日 | AE21: 個 | AF21: 個 | AG21: お弁当 | AH21: 14日 | AI21: 個 | AJ21: 個 | AK21: お弁当 | AL21: 14日 | AM21: 個 | AN21: 個 | AO21: お弁当 | AP21: 14日 | AQ21: 個 | AR21: 個 | AS21: お弁当 | AT21: 14日 | AU21: 個 | AV21: 個 | AW21: お弁当 | AX21: 14日 | AY21: 個 | AZ21: 個 | BA21: お弁当 | BB21: 14日 | BC21: 個 | BD21: 個 | BE21: お弁当 | BF21: 14日 | BG21: 個 | BH21: 個 | BI21: お弁当 | BJ21: 14日 | BK21: 個 | BL21: 個 | BM21: お弁当 | BN21: 14日 | BO21: 個 | BP21: 個
B22: 15日 | C22: 個 | D22: 個 | F22: 15日 | G22: 個 | H22: 個 | J22: 15日 | K22: 個 | L22: 個 | N22: 15日 | O22: 個 | P22: 個 | R22: 15日 | S22: 個 | T22: 個 | V22: 15日 | W22: 個 | X22: 個 | Z22: 15日 | AA22: 個 | AB22: 個 | AD22: 15日 | AE22: 個 | AF22: 個 | AH22: 15日 | AI22: 個 | AJ22: 個 | AL22: 15日 | AM22: 個 | AN22: 個 | AP22: 15日 | AQ22: 個 | AR22: 個 | AT22: 15日 | AU22: 個 | AV22: 個 | AX22: 15日 | AY22: 個 | AZ22: 個 | BB22: 15日 | BC22: 個 | BD22: 個 | BF22: 15日 | BG22: 個 | BH22: 個 | BJ22: 15日 | BK22: 個 | BL22: 個 | BN22: 15日 | BO22: 個 | BP22: 個

Sheet 2025
A1: 事業所名 | B1: 広島屋 | E1: 事業所名 | F1: 新熊 | I1: 事業所名 | J1: 内海商店 | M1: 事業所名 | N1: 鹿野 | Q1: 事業所名 | R1: 寺尾商店 | U1: 事業所名 | V1: 寺田商店 | Y1: 事業所名 | Z1: 奥本 | AC1: 事業所名 | AD1: 平井商店 | AG1: 事業所名 | AH1: 北村商店
A3: 代表者 | B3: 安永智美 | E3: 代表者 | I3: 代表者 | J3: 内海直樹 | M3: 代表者 | Q3: 代表者 | R3: 寺尾賢一 | U3: 代表者 | V3: 寺田好美 | Y3: 代表者 | Z3: 奥本紀雄 | AC3: 代表者 | AD3: 平井満男 | AG3: 代表者 | AH3: 北井俊春
A4: 責任者 補助者 | B4: 安永智美 | E4: 責任者 補助者 | F4: 二ノ宮謙一 | I4: 責任者 補助者 | J4: 内海直紀 | M4: 責任者 補助者 | N4: 岡田貴久 | Q4: 責任者 補助者 | R4: 寺尾賢一 | U4: 責任者 補助者 | V4: 寺田好美 | Y4: 責任者 補助者 | Z4: 奥本紀雄 | AC4: 責任者 補助者 | AD4: 平井満男 | AG4: 責任者 補助者 | AH4: 木村義忠
B5: 玉田辰次 | F5: 平野寛一 | J5: 志賀一信 | N5: 大田竜夜 | R5: 寺尾覚子 | V5: 近藤秀美 | Z5: 和田正之 | AD5: 平井いち子
B6: 福永和実 | F6: 中村正信 | N6: 里 孝一 | V6: 寺田正二 | Z6: 和田景子 | AD6: 折田 孝
B7: 大西里奈 | F7: 矢野 充 | N7: 小瀧幸子
B8: 玉田竜真 | F8: 大田篤志 | N8: 片瀬繁夫
B9: 大西雅弥
AH10: 七村健次
A12: 販売品目 許可証 | B12: 梅が枝餅 | C12: 東播302-171 | E12: 販売品目 許可証 | F12: カリカリチーズ | G12: 神北1-281 | I12: 販売品目 許可証 | J12: ポテト | K12: 西播700-115 | M12: 販売品目 許可証 | N12: カステラ | O12: 中播32-28 | Q12: 販売品目 許可証 | R12: バナナチョコ | S12: 北番312-32 | U12: 販売品目 許可証 | V12: ネームべっ甲飴 | W12: 神北3-99 | Y12: 販売品目 許可証 | Z12: たこ焼き | AC12: 販売品目 許可証 | AD12: エンカン | AE12: 神北1-380 | AG12: 販売品目 許可証 | AH12: 大判焼き | AI12: 中播 32-11
B13: イカ焼き | C13: 東播301-175 | F13: 串焼き | G13: 神北1-280 | N13: コットンキャンディ | V13: りんご飴 | W13: 神北3-100
F14: はしまき | G14: 神北1-279 | N14: スマートボール
F15: クレープ | G15: 神北3-108 | N15: 大福 | O15: 中播31-111
N16: 肉巻きおにぎり | O16: 中播31-109
A21: お弁当 | B21: 18日 | C21: 個 | D21: 個 | E21: お弁当 | F21: 18日 | G21: 個 | H21: 個 | I21: お弁当 | J21: 18日 | K21: 個 | L21: 個 | M21: お弁当 | N21: 18日 | O21: 個 | P21: 個 | Q21: お弁当 | R21: 18日 | S21: 個 | T21: 個 | U21: お弁当 | V21: 18日 | W21: 個 | X21: 個 | Y21: お弁当 | Z21: 18日 | AA21: 個 | AB21: 個 | AC21: お弁当 | AD21: 18日 | AE21: 個 | AF21: 個 | AG21: お弁当 | AH21: 18日 | AI21: 個 | AJ21: 個
B22: 19日 | C22: 個 | D22: 個 | F22: 19日 | G22: 個 | H22: 個 | J22: 19日 | K22: 個 | L22: 個 | N22: 19日 | O22: 個 | P22: 個 | R22: 19日 | S22: 個 | T22: 個 | V22: 19日 | W22: 個 | X22: 個 | Z22: 19日 | AA22: 個 | AB22: 個 | AD22: 19日 | AE22: 個 | AF22: 個 | AH22: 19日 | AI22: 個 | AJ22: 個
A23: 事業所名 | B23: 山辺銀商店 | E23: 事業所名 | F23: 根付 | I23: 事業所名 | J23: 黒井商店 | M23: 事業所名 | N23: 大野 | U23: 事業所名 | V23: なおくら | Y23: 事業所名 | Z23: 夢坊主 | AC23: 事業所名 | AG23: 事業所名 | AH23: 寺田商店
A25: 代表者 | B25: 山辺 淳 | E25: 代表者 | F25: 松浦史敏 | I25: 代表者 | J25: 大角栄一郎 | M25: 代表者 | N25: 大野 創 | Q25: 代表者 | R25: 大角 清 | U25: 代表者 | V25: 畠山尚志 | Y25: 代表者 | Z25: 納庄昌平 | AC25: 代表者 | AD25: 金城守敏 | AG25: 代表者 | AH25: 寺田好美
A26: 責任者 補助者 | B26: 山辺 淳 | E26: 責任者 補助者 | F26: 松浦史敏 | I26: 責任者 補助者 | J26: 大角栄一郎 | K26: 山下元輝 | L26: 永田勇治 | M26: 責任者 補助者 | N26: 大野 創 | Q26: 責任者 補助者 | R26: 大角 清 | U26: 責任者 補助者 | V26: 畠山尚志 | Y26: 責任者 補助者 | Z26: 納庄昌平 | AC26: 責任者 補助者 | AD26: 岸田友信 | AG26: 責任者 補助者 | AH26: 寺田好美
B27: 荒枝和美 | F27: 松浦小夜子 | J27: 奥田路子 | K27: 奥田妃那 | L27: 中江慶作 | N27: 田水 唯 | R27: 大角光平 | V27: 吉岡宏子 | Z27: 藤原知恵 | AD27: 金谷春樹 | AH27: 寺田正二
J28: 千代松空我 | K28: 横山 積 | L28: 黒井宗司 | N28: 大野しのぶ | AD28: 芳川伸啓 | AH28: 近藤秀美
J29: 小倉貞吉 | K29: 上田光太郎 | L29: 黒井純子 | N29: 大野 萌 | AD29: 肥田大樹
I30: 販売品目 許可証 | J30: ポテト | K30: 神北1-240 | N30: 大野莉緒
J31: たこ焼き | K31: 神北1-60 | N31: 大野 尚
J32: オムそば | K32: 神北1-64
J33: 串焼き | K33: 神北1-61
A34: 販売品目 許可証 | B34: イカ焼き | C34: 東播-301-151 | E34: 販売品目 許可証 | F34: 根付（幸運の小槌） | J34: 串焼き | K34: 神北1-239 | M34: 販売品目 許可証 | N34: カステラ | O34: 北神3-30 | Q34: 販売品目 許可証 | R34: 面 | U34: 販売品目 許可証 | V34: あんまき | W34: 中播31-67 | Y34: 販売品目 許可証 | Z34: キャラクターくじ | AC34: 販売品目 許可証 | AD34: ベビーカステラ | AE34: 北神3-50 | AG34: 販売品目 許可証 | AH34: べっこう飴 | AI34: 神北 3-99
J35: タイ焼き | K35: 神北1-81 | N35: カステラ | O35: 北神3-28 | R35: カステラ | S35: 中播32-13 | AD35: ベビーカステラ | AE35: 神南3-29 | AH35: リンゴ飴 | AI35: 神北 3-100
J36: ドライフルーツ | N36: ポテト | O36: 北神1-89 | AD36: ベビーカステラ | AE36: 神南3-28
J37: じゃがバタ | N37: からあげ | O37: 北神1-88
J38: 大判焼き | K38: 神北1-237
J39: オムそば | K39: 神北1-370
J40: クレープ
J41: からあげ | K41: 神北1-238
A43: お弁当 | B43: 18日 | C43: 個 | D43: 個 | E43: お弁当 | F43: 18日 | G43: 個 | H43: 個 | I43: お弁当 | J43: 18日 | K43: 個 | L43: 個 | M43: お弁当 | N43: 18日 | O43: 個 | P43: 個 | Q43: お弁当 | R43: 18日 | S43: 個 | T43: 個 | U43: お弁当 | V43: 18日 | W43: 個 | X43: 個 | Y43: お弁当 | Z43: 18日 | AA43: 個 | AB43: 個 | AC43: お弁当 | AD43: 18日 | AE43: 個 | AF43: 個 | AG43: お弁当 | AH43: 18日 | AI43: 個 | AJ43: 個
B44: 19日 | C44: 個 | D44: 個 | F44: 19日 | G44: 個 | H44: 個 | J44: 19日 | K44: 個 | L44: 個 | N44: 19日 | O44: 個 | P44: 個 | R44: 19日 | S44: 個 | T44: 個 | V44: 19日 | W44: 個 | X44: 個 | Z44: 19日 | AA44: 個 | AB44: 個 | AD44: 19日 | AE44: 個 | AF44: 個 | AH44: 19日 | AI44: 個 | AJ44: 個
A45: 事業所名 | B45: 福永 | E45: 事業所名 | F45: 田中商店 | I45: 事業所名 | J45: 一番亭 | M45: 事業所名 | N45: 小島商店 | Q45: 事業所名 | R45: 中島 | U45: 事業所名 | V45: 福田商事 | Y45: 事業所名 | Z45: 中岡園芸 | AC45: 事業所名 | AG45: 事業所名
A47: 代表者 | B47: 福永かおる | E47: 代表者 | F47: 大城 覚 | I47: 代表者 | J47: 新井保子 | M47: 代表者 | N47: 小島太一 | Q47: 代表者 | U47: 代表者 | V47: 福田健士郎 | Y47: 代表者 | Z47: 中岡弘美 | AC47: 代表者 | AD47: 森下賢三 | AG47: 代表者
A48: 責任者 補助者 | B48: 福永かおる | E48: 責任者 補助者 | F48: 大城 覚 | I48: 責任者 補助者 | J48: 新井保子 | M48: 責任者 補助者 | N48: 小島太一 | Q48: 責任者 補助者 | R48: 高田雅史 | U48: 責任者 補助者 | V48: 福田健士郎 | Y48: 責任者 補助者 | Z48: 中岡弘美 | AC48: 責任者 補助者 | AD48: 森下賢三 | AG48: 責任者 補助者
B49: 和田英之 | F49: 高島森一 | J49: 新井紳司 | N49: 小島 幸 | R49: 大森 誠 | V49: 松江幹博 | W49: 寺内謙太 | Z49: 中岡トヨ子 | AD49: 森下 実
...

Sheet シール
A1: 本部用
A3: カフェインレスコーヒー | C3: カフェインレスコーヒー
A4: 下//警備用
A6: =A3 -> カフェインレスコーヒー
A7: コーヒー/マドラー/フレッシュ/シュガー （コーヒーの瓶の中にスプーン入れてます）
A9: コーヒー/マドラー/フレッシュ/シュガー （コーヒーの瓶の中にスプーン入れてます）
A11: ミルクコーヒースティック//お茶スティック
A13: ミルクコーヒースティック//お茶スティック
A15: 紙コップ | D15: 紙コップ
A17: 靴用 袋
A22: 傘用 袋
A27: ＣＳＩ Ｌｅａｄ
