Workbook

Sheet 表紙 (2)
B1: 警備員
B2: 飲料（麦茶） | H2: =警備テント!I11+警備テント!U11+警備テント!AG11+警備テント!AS11+警備テント!BE11+警備テント!BQ11+警備テント!CC11+警備テント!#REF!+警備テント!#REF! -> #REF! | K2: ケース
B3: 氷 | H3: =警備テント!I12+警備テント!U12+警備テント!AG12+警備テント!AS12+警備テント!BE12+警備テント!BQ12+警備テント!CC12+警備テント!#REF!+警備テント!#REF! -> #REF! | K3: 個
B4: ドライアイス | H4: =警備テント!#REF!+警備テント!#REF!+警備テント!CC13+警備テント!BQ13+警備テント!BE13+警備テント!AS13+警備テント!AG13+警備テント!U13+警備テント!I13 -> #REF! | K4: 個

Sheet 表紙
A1: 警備
A7: 全総数
C10: 警備員 | K10: 名
C11: 飲料（麦茶） | I11: =警備テント!I11+警備テント!U11+警備テント!AG11+警備テント!AS11+警備テント!BE11+警備テント!BQ11+警備テント!CC11+警備テント!#REF!+警備テント!#REF! -> #REF! | K11: ケース
C12: 氷 | I12: =警備テント!I12+警備テント!U12+警備テント!AG12+警備テント!AS12+警備テント!BE12+警備テント!BQ12+警備テント!CC12+警備テント!#REF!+警備テント!#REF! -> #REF! | K12: 個
C13: ドライアイス | I13: =警備テント!#REF!+警備テント!#REF!+警備テント!CC13+警備テント!BQ13+警備テント!BE13+警備テント!AS13+警備テント!AG13+警備テント!U13+警備テント!I13 -> #REF! | K13: 個

Sheet カコシール (2)
A1: 草津本部
A2: びわこボート
A3: 平野市民センター
A4: 逢坂市民センター
A5: ふれあいスポーツセンター
A6: 勤労福祉センター
A7: 大津市民会館
A8: 大津港ターミナル
A9: マリーナターミナル
A10: におの浜スポーツセンター
A11: 琵琶湖ホテル前
A12: びわ湖ホール
... A15: 一般B

Sheet 氷発注数
A1: 会場 | B1: 氷 | E1: 氷用発砲 | H1: ドライアイス | K1: 発砲箱に入れてもらうことが可能なのか
A2: CSILead | B2: 20 | C2: 貫 | D2: 600 | E2: 0 | F2: 個 | G2: 400 | H2: 4 | I2: kg | J2: 500
A3: 本部 | B3: 8 | C3: 貫 | D3: 600 | E3: 0 | F3: 個 | G3: 400 | H3: 4 | I3: kg | J3: 500
A4: 浜大津 | B4: 8 | C4: 貫 | D4: 600 | E4: 2 | F4: 個 | G4: 400 | H4: 4 | I4: kg | J4: 500
A5: 膳所駅前 | B5: 8 | C5: 貫 | D5: 600 | E5: 2 | F5: 個 | G5: 400 | H5: 4 | I5: kg | J5: 500
A6: 大津駅 | B6: 8 | C6: 貫 | D6: 600 | E6: 2 | F6: 個 | G6: 400 | H6: 4 | I6: kg | J6: 500
A7: びわ湖ボート | B7: 4 | C7: 貫 | D7: 600 | E7: 0 | F7: 個 | G7: 400 | H7: 0 | I7: kg | J7: 500
A8: 草津警備部 | B8: 8 | C8: 貫 | D8: 600 | E8: 2 | F8: 個 | G8: 400 | H8: 4 | I8: kg | J8: 500
A9: 浜大津駅下 | B9: 8 | C9: 貫 | D9: 600 | E9: 2 | F9: 個 | G9: 400 | H9: 4 | I9: kg | J9: 500
A10: 金麦 | B10: 52 | C10: 貫 | D10: 600 | E10: 13 | F10: 個 | G10: 400 | H10: 10 | I10: kg | J10: 500
A11: ラグジュアリー席 | B11: 12 | C11: 貫 | D11: 600 | E11: 3 | F11: 個 | G11: 400 | H11: 4 | I11: kg | J11: 500
A12: 業務用地 | B12: 4 | C12: 貫 | D12: 600 | F12: 個 | G12: 400 | H12: 2 | I12: kg | J12: 500
A13: びわ湖ホール | B13: 4 | C13: 貫 | D13: 600 | F13: 個 | G13: 400 | H13: 2 | I13: kg | J13: 500
A14: 楽天 | B14: 4 | C14: 貫 | D14: 600 | F14: 個 | G14: 400 | H14: 2 | I14: kg | J14: 500
A15: 一般B | B15: 4 | C15: 貫 | D15: 600 | F15: 個 | G15: 400 | H15: 2 | I15: kg | J15: 500
A16: 琵琶湖ホテル前 | B16: 4 | C16: 貫 | D16: 600 | F16: 個 | G16: 400 | H16: 2 | I16: kg | J16: 500
A17: ターミナル | B17: 4 | C17: 貫 | D17: 600 | F17: 個 | G17: 400 | H17: 2 | I17: kg | J17: 500
A18: 大津港ターミナル | B18: 4 | C18: 貫 | D18: 600 | F18: 個 | G18: 400 | H18: 2 | I18: kg | J18: 500
A19: 大津市民会館 | B19: 4 | C19: 貫 | D19: 600 | F19: 個 | G19: 400 | H19: 2 | I19: kg | J19: 500
A20: 勤労福祉センター | B20: 4 | C20: 貫 | D20: 600 | F20: 個 | G20: 400 | H20: 2 | I20: kg | J20: 500
A21: 逢坂市民センター | B21: 4 | C21: 貫 | D21: 600 | F21: 個 | G21: 400 | H21: 2 | I21: kg | J21: 500
A22: 平野市民センター | B22: 4 | C22: 貫 | D22: 600 | F22: 個 | G22: 400 | H22: 2 | I22: kg | J22: 500
A23: ふれあいスポーツセンター | B23: 4 | C23: 貫 | D23: 600 | F23: 個 | G23: 400 | H23: 2 | I23: kg | J23: 500
B24: =SUM(B2:B23) -> 184 | C24: 貫 | E24: =SUM(E2:E23) -> 26 | F24: 個 | H24: =SUM(H2:H23) -> 66 | I24: kg
B25: =B24*D23 -> 110400 | E25: =E24*G23 -> 10400 | H25: =H24*J23 -> 33000

Sheet カコシール
A1: 逢坂市民センター
A2: びわこボート
A3: びわ湖ホール
A4: 琵琶湖ホテル前
A5: マリーナターミナル
A6: 草津本部

Sheet Sheet1
A1: 予 定 表
A2: ★ | B2: 46234 | C2: レンタカー 借りに行く （１６時）
C3: 第一便 積み込み
C4: クーラーボックス
C5: ライト等
C6: CSI用の飲料（麦茶等）
C7: その他資機材
A8: ★ | B8: 46235 | C8: 第一便７時出発
C9: 第一便 荷下ろし即、帰宅
C10: 第２便 積み込み 帰宅時間にもよるが大津に？？？
C11: 救護用品
A12: ★ | B12: 46236 | C12: 第２便７時に出発
C13: 救護用品
C14: 第３便 積み込み
C15: 救護所・警備部隊の飲料
A16: ★ | B16: 46237 | C16: 搬送最終日
C17: ・座席シート
C18: ・残っているもの
A20: 忙しいとは思いますが、積み込み作業の手伝いお願いいたします。
A21: 座席シート既存の分、これからびわ湖ボートとその他追加分が届き次第
A22: 作成していきますので、突貫で対応よろしくお願いします。

Sheet 警備テント (2)
A1: 本部 | M1: 浜大津 | Y1: 膳所駅前 | AK1: 大津駅前 | AW1: びわ湖 ボート | BI1: 草津 警備部 | BU1: 浜大津 駅下 | CG1: 草津本部
BU2: びわこ ボート | CG2: 草津本部
BU3: びわこ ボート

Sheet 警備テント
A1: 本部 | M1: 浜大津 | Y1: 膳所駅前 | AK1: 大津駅前 | AW1: びわ湖 ボート | BI1: 草津 警備部 | BU1: 浜大津 駅下
A7: 関西パトロール | M7: コトナ | Y7: シンリュウ | AK7: エムティ | AW7: コトナ | BI7: 複数社 | BU7: コトナ
C10: 警備員 | K10: 名 | O10: 警備員 | W10: 名 | AA10: 警備員 | AI10: 名 | AM10: 警備員 | AU10: 名 | AY10: 警備員 | BG10: 名 | BK10: 警備員 | BS10: 名 | BW10: 警備員 | CE10: 名
C11: 飲料（麦茶） | I11: 2 | K11: ケース | O11: 飲料（麦茶） | U11: 2 | W11: ケース | AA11: 飲料（麦茶） | AG11: 2 | AI11: ケース | AM11: 飲料（麦茶） | AS11: 2 | AU11: ケース | AY11: 飲料（麦茶） | BE11: 1 | BG11: ケース | BK11: 飲料（麦茶） | BQ11: 2 | BS11: ケース | BW11: 飲料（麦茶） | CC11: 2 | CE11: ケース
C12: 氷 | I12: 8 | K12: 個 | O12: 氷 | U12: 8 | W12: 個 | AA12: 氷 | AG12: 8 | AI12: 個 | AM12: 氷 | AS12: 8 | AU12: 個 | AY12: 氷 | BE12: 4 | BG12: 個 | BK12: 氷 | BQ12: 8 | BS12: 個 | BW12: 氷 | CC12: 8 | CE12: 個
C13: ドライアイス | I13: 4 | K13: 個 | O13: ドライアイス | U13: 4 | W13: 個 | AA13: ドライアイス | AG13: 4 | AI13: 個 | AM13: ドライアイス | AS13: 4 | AU13: 個 | AY13: ドライアイス | BG13: 個 | BK13: ドライアイス | BQ13: 4 | BS13: 個 | BW13: ドライアイス | CC13: 4 | CE13: 個

Sheet 会場
A1: 大津港 ターミナル | M1: 大津市民会館 | Y1: 勤労福祉会館 | AK1: ふれあい スポーツ センター | AW1: 逢坂市民 センター | BI1: 平野市民 センター | BU1: びわこボート | CG1: 草津本部
C8: フェイスタオル | I8: 4 | J8: 枚 | O8: フェイスタオル | U8: 4 | V8: 枚 | AA8: フェイスタオル | AG8: 4 | AH8: 枚 | AM8: フェイスタオル | AS8: 4 | AT8: 枚 | AY8: フェイスタオル | BE8: 4 | BF8: 枚 | BK8: フェイスタオル | BQ8: 4 | BR8: 枚 | BW8: フェイスタオル | CC8: 4 | CD8: 枚 | CI8: フェイスタオル | CO8: 4 | CP8: 枚
C9: ティッシュ | I9: 1 | J9: 箱 | O9: ティッシュ | U9: 1 | V9: 箱 | AA9: ティッシュ | AG9: 1 | AH9: 箱 | AM9: ティッシュ | AS9: 1 | AT9: 箱 | AY9: ティッシュ | BE9: 1 | BF9: 箱 | BK9: ティッシュ | BQ9: 1 | BR9: 箱 | BW9: ティッシュ | CC9: 1 | CD9: 箱 | CI9: ティッシュ | CO9: 1 | CP9: 箱
C10: ペーパータオル | I10: 1 | J10: 組 | O10: ペーパータオル | U10: 1 | V10: 組 | AA10: ペーパータオル | AG10: 1 | AH10: 組 | AM10: ペーパータオル | AS10: 1 | AT10: 組 | AY10: ペーパータオル | BE10: 1 | BF10: 組 | BK10: ペーパータオル | BQ10: 1 | BR10: 組 | BW10: ペーパータオル | CC10: 1 | CD10: 組 | CI10: ペーパータオル | CO10: 1 | CP10: 組
C11: 除菌ペーパー | I11: 1 | J11: 袋 | O11: 除菌ペーパー | U11: 1 | V11: 袋 | AA11: 除菌ペーパー | AG11: 1 | AH11: 袋 | AM11: 除菌ペーパー | AS11: 1 | AT11: 袋 | AY11: 除菌ペーパー | BE11: 1 | BF11: 袋 | BK11: 除菌ペーパー | BQ11: 1 | BR11: 袋 | BW11: 除菌ペーパー | CC11: 1 | CD11: 袋 | CI11: 除菌ペーパー | CO11: 1 | CP11: 袋
C12: 介護用ビニール手袋 | I12: 10 | J12: 組 | O12: 介護用ビニール手袋 | U12: 10 | V12: 組 | AA12: 介護用ビニール手袋 | AG12: 10 | AH12: 組 | AM12: 介護用ビニール手袋 | AS12: 10 | AT12: 組 | AY12: 介護用ビニール手袋 | BE12: 10 | BF12: 組 | BK12: 介護用ビニール手袋 | BQ12: 10 | BR12: 組 | BW12: 介護用ビニール手袋 | CC12: 10 | CD12: 組 | CI12: 介護用ビニール手袋 | CO12: 10 | CP12: 組
C13: 紙コップ | I13: 50 | J13: 個 | O13: 紙コップ | U13: 50 | V13: 個 | AA13: 紙コップ | AG13: 50 | AH13: 個 | AM13: 紙コップ | AS13: 50 | AT13: 個 | AY13: 紙コップ | BE13: 100 | BF13: 個 | BK13: 紙コップ | BQ13: 100 | BR13: 個 | BW13: 紙コップ | CC13: 50 | CD13: 個 | CI13: 紙コップ | CO13: 50 | CP13: 個
C14: 軍手 | I14: 1 | J14: 双 | O14: 軍手 | U14: 1 | V14: 双 | AA14: 軍手 | AG14: 1 | AH14: 双 | AM14: 軍手 | AS14: 1 | AT14: 双 | AY14: 軍手 | BE14: 1 | BF14: 双 | BK14: 軍手 | BQ14: 1 | BR14: 双 | BW14: 軍手 | CC14: 1 | CD14: 双 | CI14: 軍手 | CO14: 1 | CP14: 双
C15: ラップ | I15: 1 | J15: 本 | O15: ラップ | U15: 1 | V15: 本 | AA15: ラップ | AG15: 1 | AH15: 本 | AM15: ラップ | AS15: 1 | AT15: 本 | AY15: ラップ | BE15: 1 | BF15: 本 | BK15: ラップ | BQ15: 1 | BR15: 本 | BW15: ラップ | CC15: 1 | CD15: 本 | CI15: ラップ | CO15: 1 | CP15: 本
C16: 嘔吐用ビニール袋 | I16: 20 | J16: 袋 | O16: 嘔吐用ビニール袋 | U16: 20 | V16: 袋 | AA16: 嘔吐用ビニール袋 | AG16: 20 | AH16: 袋 | AM16: 嘔吐用ビニール袋 | AS16: 20 | AT16: 袋 | AY16: 嘔吐用ビニール袋 | BE16: 50 | BF16: 袋 | BK16: 嘔吐用ビニール袋 | BQ16: 50 | BR16: 袋 | BW16: 嘔吐用ビニール袋 | CC16: 10 | CD16: 袋 | CI16: 嘔吐用ビニール袋 | CO16: 10 | CP16: 袋
C17: ストロー | I17: 20 | J17: 本 | O17: ストロー | U17: 20 | V17: 本 | AA17: ストロー | AG17: 20 | AH17: 本 | AM17: ストロー | AS17: 20 | AT17: 本 | AY17: ストロー | BE17: 20 | BF17: 本 | BK17: ストロー | BQ17: 20 | BR17: 本 | BW17: ストロー | CC17: 20 | CD17: 本 | CI17: ストロー | CO17: 20 | CP17: 本

Sheet 飲料総数
A2: 水 | B2: 408 | C2: =B2/24 -> 17 | E2: 警備部７か所
A3: OS1 | B3: 300 | C3: =B3/24 -> 12.5 | E3: 麦茶 | F3: 14
A4: ゼリー | B4: 110 | C4: =B4/30 -> 3.6666667 | E4: ドライアイス | F4: 24
A5: 冷却パック | B5: 110 | C5: 1 | E5: 氷 | F5: 52
A6: 保冷剤 | B6: 22 | C6: 22
A7: アイスノン | B7: 33 | C7: 33

Sheet 救護備品 最終一覧
A1: 大津港ターミナル | K1: 大津市民会館 | U1: 勤労福祉センター | AE1: ふれあいスポーツセンター | AO1: 逢坂市民センター | AY1: 平野市民センター | BI1: びわこボート | BS1: 草津本部 | CC1: 業務用地 | CM1: 一般B | CW1: びわ湖ホール | DG1: 楽天 | DQ1: 琵琶湖ホテル前 | EA1: マリーナターミナル
B4: 内容 | F4: 数量 | H4: 出荷時 | I4: 返却時 | L4: 内容 | P4: 数量 | R4: 出荷時 | S4: 返却時 | V4: 内容 | Z4: 数量 | AB4: 出荷時 | AC4: 返却時 | AF4: 内容 | AJ4: 数量 | AL4: 出荷時 | AM4: 返却時 | AP4: 内容 | AT4: 数量 | AV4: 出荷時 | AW4: 返却時 | AZ4: 内容 | BD4: 数量 | BF4: 出荷時 | BG4: 返却時 | BJ4: 内容 | BN4: 数量 | BP4: 出荷時 | BQ4: 返却時 | BT4: 内容 | BX4: 数量 | BZ4: 出荷時 | CA4: 返却時 | CD4: 内容 | CH4: 数量 | CJ4: 出荷時 | CK4: 返却時 | CN4: 内容 | CR4: 数量 | CT4: 出荷時 | CU4: 返却時 | CX4: 内容 | DB4: 数量 | DD4: 出荷時 | DE4: 返却時 | DH4: 内容 | DL4: 数量 | DN4: 出荷時 | DO4: 返却時 | DR4: 内容 | DV4: 数量 | DX4: 出荷時 | DY4: 返却時 | EB4: 内容 | EF4: 数量 | EH4: 出荷時 | EI4: 返却時
B5: 毛布 | F5: 1 | G5: 枚 | L5: 毛布 | P5: 2 | Q5: 枚 | V5: 毛布 | Z5: 2 | AA5: 枚 | AF5: 毛布 | AJ5: 1 | AK5: 枚 | AP5: 毛布 | AT5: 6 | AU5: 枚 | AZ5: 毛布 | BD5: 6 | BE5: 枚 | BJ5: 毛布 | BN5: 1 | BO5: 枚 | BT5: 毛布 | BX5: 1 | BY5: 枚 | CD5: 毛布 | CH5: 1 | CI5: 枚 | CN5: 毛布 | CR5: 1 | CS5: 枚 | CX5: 毛布 | DB5: 1 | DC5: 枚 | DH5: 毛布 | DL5: 1 | DM5: 枚 | DR5: 毛布 | DV5: 1 | DW5: 枚 | EB5: 毛布 | EF5: 1 | EG5: 枚
B6: タオルケット | F6: 2 | G6: 枚 | L6: タオルケット | P6: 2 | Q6: 枚 | V6: タオルケット | Z6: 2 | AA6: 枚 | AF6: タオルケット | AJ6: 2 | AK6: 枚 | AP6: タオルケット | AT6: 2 | AU6: 枚 | AZ6: タオルケット | BD6: 2 | BE6: 枚 | BJ6: タオルケット | BN6: 2 | BO6: 枚 | BT6: タオルケット | BX6: 2 | BY6: 枚 | CD6: タオルケット | CH6: 2 | CI6: 枚 | CN6: タオルケット | CR6: 2 | CS6: 枚 | CX6: タオルケット | DB6: 2 | DC6: 枚 | DH6: タオルケット | DL6: 2 | DM6: 枚 | DR6: タオルケット | DV6: 2 | DW6: 枚 | EB6: タオルケット | EF6: 2 | EG6: 枚
B7: 大判バスタオル | F7: 2 | G7: 枚 | L7: 大判バスタオル | P7: 2 | Q7: 枚 | V7: 大判バスタオル | Z7: 2 | AA7: 枚 | AF7: 大判バスタオル | AJ7: 2 | AK7: 枚 | AP7: 大判バスタオル | AT7: 2 | AU7: 枚 | AZ7: 大判バスタオル | BD7: 2 | BE7: 枚 | BJ7: 大判バスタオル | BN7: 2 | BO7: 枚 | BT7: 大判バスタオル | BX7: 2 | BY7: 枚 | CD7: 大判バスタオル | CH7: 2 | CI7: 枚 | CN7: 大判バスタオル | CR7: 2 | CS7: 枚 | CX7: 大判バスタオル | DB7: 4 | DC7: 枚 | DH7: 大判バスタオル | DL7: 2 | DM7: 枚 | DR7: 大判バスタオル | DV7: 4 | DW7: 枚 | EB7: 大判バスタオル | EF7: 2 | EG7: 枚
B8: バスタオル | F8: 2 | G8: 枚 | L8: バスタオル | P8: 2 | Q8: 箱 | V8: バスタオル | Z8: 2 | AA8: 枚 | AF8: バスタオル | AJ8: 2 | AK8: 箱 | AP8: バスタオル | AT8: 2 | AU8: 枚 | AZ8: バスタオル | BD8: 2 | BE8: 枚 | BJ8: バスタオル | BN8: 2 | BO8: 枚 | BT8: バスタオル | BX8: 2 | BY8: 枚 | CD8: バスタオル | CH8: 1 | CI8: 枚 | CN8: バスタオル | CR8: 2 | CS8: 箱 | CX8: バスタオル | DB8: 1 | DC8: 箱 | DH8: バスタオル | DL8: 2 | DM8: 箱 | DR8: バスタオル | DV8: 2 | DW8: 箱 | EB8: バスタオル | EF8: 2 | EG8: 箱
B9: フェイスタオル | F9: 4 | G9: 枚 | L9: フェイスタオル | P9: 4 | Q9: 枚 | V9: フェイスタオル | Z9: 4 | AA9: 枚 | AF9: フェイスタオル | AJ9: 4 | AK9: 枚 | AP9: フェイスタオル | AT9: 4 | AU9: 枚 | AZ9: フェイスタオル | BD9: 4 | BE9: 枚 | BJ9: フェイスタオル | BN9: 4 | BO9: 枚 | BT9: フェイスタオル | BX9: 4 | BY9: 枚 | CD9: フェイスタオル | CH9: 4 | CI9: 枚 | CN9: フェイスタオル | CR9: 4 | CS9: 枚 | CX9: フェイスタオル | DB9: 4 | DC9: 枚 | DH9: フェイスタオル | DL9: 4 | DM9: 枚 | DR9: フェイスタオル | DV9: 4 | DW9: 枚 | EB9: フェイスタオル | EF9: 4 | EG9: 枚
B10: ティッシュ | F10: 1 | G10: 箱 | L10: ティッシュ | P10: 1 | Q10: 箱 | V10: ティッシュ | Z10: 1 | AA10: 箱 | AF10: ティッシュ | AJ10: 1 | AK10: 箱 | AP10: ティッシュ | AT10: 1 | AU10: 箱 | AZ10: ティッシュ | BD10: 1 | BE10: 箱 | BJ10: ティッシュ | BN10: 1 | BO10: 箱 | BT10: ティッシュ | BX10: 1 | BY10: 箱 | CD10: ティッシュ | CH10: 1 | CI10: 箱 | CN10: ティッシュ | CR10: 1 | CS10: 箱 | CX10: ティッシュ | DB10: 1 | DC10: 箱 | DH10: ティッシュ | DL10: 1 | DM10: 箱 | DR10: ティッシュ | DV10: 1 | DW10: 箱 | EB10: ティッシュ | EF10: 1 | EG10: 箱
B11: ペーパータオル | F11: 1 | G11: 組 | L11: ペーパータオル | P11: 1 | Q11: 組 | V11: ペーパータオル | Z11: 1 | AA11: 組 | AF11: ペーパータオル | AJ11: 1 | AK11: 組 | AP11: ペーパータオル | AT11: 1 | AU11: 組 | AZ11: ペーパータオル | BD11: 1 | BE11: 組 | BJ11: ペーパータオル | BN11: 1 | BO11: 組 | BT11: ペーパータオル | BX11: 1 | BY11: 組 | CD11: ペーパータオル | CH11: 1 | CI11: 組 | CN11: ペーパータオル | CR11: 1 | CS11: 組 | CX11: ペーパータオル | DB11: 1 | DC11: 組 | DH11: ペーパータオル | DL11: 1 | DM11: 組 | DR11: ペーパータオル | DV11: 1 | DW11: 組 | EB11: ペーパータオル | EF11: 1 | EG11: 組
B12: 除菌ペーパー | F12: 1 | G12: 袋 | L12: 除菌ペーパー | P12: 1 | Q12: 袋 | V12: 除菌ペーパー | Z12: 1 | AA12: 袋 | AF12: 除菌ペーパー | AJ12: 1 | AK12: 袋 | AP12: 除菌ペーパー | AT12: 1 | AU12: 袋 | AZ12: 除菌ペーパー | BD12: 1 | BE12: 袋 | BJ12: 除菌ペーパー | BN12: 1 | BO12: 袋 | BT12: 除菌ペーパー | BX12: 1 | BY12: 袋 | CD12: 除菌ペーパー | CH12: 1 | CI12: 袋 | CN12: 除菌ペーパー | CR12: 1 | CS12: 袋 | CX12: 除菌ペーパー | DB12: 1 | DC12: 袋 | DH12: 除菌ペーパー | DL12: 1 | DM12: 袋 | DR12: 除菌ペーパー | DV12: 1 | DW12: 袋 | EB12: 除菌ペーパー | EF12: 1 | EG12: 袋
B13: 介護用ビニール手袋 | F13: 10 | G13: 組 | L13: 介護用ビニール手袋 | P13: 10 | Q13: 組 | V13: 介護用ビニール手袋 | Z13: 10 | AA13: 組 | AF13: 介護用ビニール手袋 | AJ13: 10 | AK13: 組 | AP13: 介護用ビニール手袋 | AT13: 10 | AU13: 組 | AZ13: 介護用ビニール手袋 | BD13: 10 | BE13: 組 | BJ13: 介護用ビニール手袋 | BN13: 10 | BO13: 組 | BT13: 介護用ビニール手袋 | BX13: 10 | BY13: 組 | CD13: 介護用ビニール手袋 | CH13: 10 | CI13: 組 | CN13: 介護用ビニール手袋 | CR13: 10 | CS13: 組 | CX13: 介護用ビニール手袋 | DB13: 10 | DC13: 組 | DH13: 介護用ビニール手袋 | DL13: 10 | DM13: 組 | DR13: 介護用ビニール手袋 | DV13: 10 | DW13: 組 | EB13: 介護用ビニール手袋 | EF13: 10 | EG13: 組
B14: 紙コップ | F14: 50 | G14: 個 | L14: 紙コップ | P14: 50 | Q14: 個 | V14: 紙コップ | Z14: 50 | AA14: 個 | AF14: 紙コップ | AJ14: 50 | AK14: 個 | AP14: 紙コップ | AT14: 100 | AU14: 個 | AZ14: 紙コップ | BD14: 100 | BE14: 個 | BJ14: 紙コップ | BN14: 50 | BO14: 個 | BT14: 紙コップ | BX14: 50 | BY14: 個 | CD14: 紙コップ | CH14: 50 | CI14: 個 | CN14: 紙コップ | CR14: 50 | CS14: 個 | CX14: 紙コップ | DB14: 50 | DC14: 個 | DH14: 紙コップ | DL14: 50 | DM14: 個 | DR14: 紙コップ | DV14: 50 | DW14: 個 | EB14: 紙コップ | EF14: 50 | EG14: 個
B15: 軍手 | F15: 1 | G15: 双 | L15: 軍手 | P15: 1 | Q15: 双 | V15: 軍手 | Z15: 1 | AA15: 双 | AF15: 軍手 | AJ15: 1 | AK15: 双 | AP15: 軍手 | AT15: 1 | AU15: 双 | AZ15: 軍手 | BD15: 1 | BE15: 双 | BJ15: 軍手 | BN15: 1 | BO15: 双 | BT15: 軍手 | BX15: 1 | BY15: 双 | CD15: 軍手 | CH15: 1 | CI15: 双 | CN15: 軍手 | CR15: 1 | CS15: 双 | CX15: 軍手 | DB15: 1 | DC15: 双 | DH15: 軍手 | DL15: 1 | DM15: 双 | DR15: 軍手 | DV15: 1 | DW15: 双 | EB15: 軍手 | EF15: 1 | EG15: 双
B16: ラップ | F16: 1 | G16: 本 | L16: ラップ | P16: 1 | Q16: 本 | V16: ラップ | Z16: 1 | AA16: 本 | AF16: ラップ | AJ16: 1 | AK16: 本 | AP16: ラップ | AT16: 1 | AU16: 本 | AZ16: ラップ | BD16: 1 | BE16: 本 | BJ16: ラップ | BN16: 1 | BO16: 本 | BT16: ラップ | BX16: 1 | BY16: 本 | CD16: ラップ | CH16: 1 | CI16: 本 | CN16: ラップ | CR16: 1 | CS16: 本 | CX16: ラップ | DB16: 1 | DC16: 本 | DH16: ラップ | DL16: 1 | DM16: 本 | DR16: ラップ | DV16: 1 | DW16: 本 | EB16: ラップ | EF16: 1 | EG16: 本
... B18: ストロー | F18: 20 | G18: 本 | L18: ストロー | P18: 20 | Q18: 本 | V18: ストロー | Z18: 20 | AA18: 本 | AF18: ストロー | AJ18: 20 | AK18: 本 | AP18: ストロー | AT18: 20 | AU18: 本 | AZ18: ストロー | BD18: 20 | BE18: 本 | BJ18: ストロー | BN18: 20 | BO18: 本 | BT18: ストロー | BX18: 20 | BY18: 本 | CD18: ストロー | CH18: 20 | CI18: 本 | CN18: ストロー | CR18: 20 | CS18: 本 | CX18: ストロー | DB18: 20 | DC18: 本 | DH18: ストロー | DL18: 20 | DM18: 本 | DR18: ストロー | DV18: 20 | DW18: 本 | EB18: ストロー | EF18: 20 | EG18: 本
B19: 生理用品 | F19: 5 | G19: 個 | L19: 生理用品 | P19: 5 | Q19: 個 | V19: 生理用品 | Z19: 5 | AA19: 個 | AF19: 生理用品 | AJ19: 5 | AK19: 個 | AP19: 生理用品 | AT19: 5 | AU19: 個 | AZ19: 生理用品 | BD19: 5 | BE19: 個 | BJ19: 生理用品 | BN19: 5 | BO19: 個 | BT19: 生理用品 | BX19: 5 | BY19: 個 | CD19: 生理用品 | CI19: 個 | CN19: 生理用品 | CS19: 個 | CX19: 生理用品 | DC19: 個 | DH19: 生理用品 | DM19: 個 | DR19: 生理用品 | DW19: 個 | EB19: 生理用品 | EG19: 個
B20: Ｔシャツ | F20: 2 | G20: 枚 | L20: Ｔシャツ | P20: 2 | Q20: 枚 | V20: Ｔシャツ | Z20: 2 | AA20: 枚 | AF20: Ｔシャツ | AJ20: 2 | AK20: 枚 | AP20: Ｔシャツ | AT20: 2 | AU20: 枚 | AZ20: Ｔシャツ | BD20: 2 | BE20: 枚 | BJ20: Ｔシャツ | BN20: 2 | BO20: 枚 | BT20: Ｔシャツ | BX20: 2 | BY20: 枚 | CD20: Ｔシャツ | CI20: 枚 | CN20: Ｔシャツ | CS20: 枚 | CX20: Ｔシャツ | DC20: 枚 | DH20: Ｔシャツ | DM20: 枚 | DR20: Ｔシャツ | DW20: 枚 | EB20: Ｔシャツ | EG20: 枚
B21: 血圧計 | F21: 1 | G21: 個 | L21: 血圧計 | P21: 1 | Q21: 個 | V21: 血圧計 | Z21: 1 | AA21: 個 | AF21: 血圧計 | AJ21: 1 | AK21: 個 | AP21: 血圧計 | AT21: 1 | AU21: 個 | AZ21: 血圧計 | BD21: 1 | BE21: 個 | BJ21: 血圧計 | BN21: 1 | BO21: 個 | BT21: 血圧計 | BX21: 1 | BY21: 個 | CD21: 血圧計 | CH21: 1 | CI21: 個 | CN21: 血圧計 | CR21: 1 | CS21: 個 | CX21: 血圧計 | DB21: 1 | DC21: 個 | DH21: 血圧計 | DL21: 1 | DM21: 個 | DR21: 血圧計 | DV21: 1 | DW21: 個 | EB21: 血圧計 | EF21: 1 | EG21: 個
A22: 返却時、内容を確認後チェック入れてください。 | K22: 返却時、内容を確認後チェック入れてください。 | U22: 返却時、内容を確認後チェック入れてください。 | AE22: 返却時、内容を確認後チェック入れてください。 | AO22: 返却時、内容を確認後チェック入れてください。 | AY22: 返却時、内容を確認後チェック入れてください。 | BI22: 返却時、内容を確認後チェック入れてください。 | BS22: 返却時、内容を確認後チェック入れてください。 | CC22: 返却時、内容を確認後チェック入れてください。 | CM22: 返却時、内容を確認後チェック入れてください。 | CW22: 返却時、内容を確認後チェック入れてください。 | DG22: 返却時、内容を確認後チェック入れてください。 | DQ22: 返却時、内容を確認後チェック入れてください。 | EA22: 返却時、内容を確認後チェック入れてください。
A24: ラミネートしているので、油性ペンで確認お願いいたします。 | K24: ラミネートしているので、油性ペンで確認お願いいたします。 | U24: ラミネートしているので、油性ペンで確認お願いいたします。 | AE24: ラミネートしているので、油性ペンで確認お願いいたします。 | AO24: ラミネートしているので、油性ペンで確認お願いいたします。 | AY24: ラミネートしているので、油性ペンで確認お願いいたします。 | BI24: ラミネートしているので、油性ペンで確認お願いいたします。 | BS24: ラミネートしているので、油性ペンで確認お願いいたします。 | CC24: ラミネートしているので、油性ペンで確認お願いいたします。 | CM24: ラミネートしているので、油性ペンで確認お願いいたします。 | CW24: ラミネートしているので、油性ペンで確認お願いいたします。 | DG24: ラミネートしているので、油性ペンで確認お願いいたします。 | DQ24: ラミネートしているので、油性ペンで確認お願いいたします。 | EA24: ラミネートしているので、油性ペンで確認お願いいたします。

Sheet 救急箱最終一覧
A1: 大津港ターミナル | F1: 大津市民会館 | K1: ふれあいスポーツセンター | P1: 逢坂市民センター | U1: 平野市民センター | Z1: びわこボート | AE1: 勤労福祉センター | AJ1: 草津本部 | AO1: 業務用地 | AT1: 一般B | AY1: 楽天 | BD1: びわ湖ホール | BI1: 琵琶湖ホテル前 | BN1: マリーナターミナル
A2: 内容 | B2: 数量 | D2: 出荷時 | E2: 返却時 | F2: 内容 | G2: 数量 | I2: 出荷時 | J2: 返却時 | K2: 内容 | L2: 数量 | N2: 出荷時 | O2: 返却時 | P2: 内容 | Q2: 数量 | S2: 出荷時 | T2: 返却時 | U2: 内容 | V2: 数量 | X2: 出荷時 | Y2: 返却時 | Z2: 内容 | AA2: 数量 | AC2: 出荷時 | AD2: 返却時 | AE2: 内容 | AF2: 数量 | AH2: 出荷時 | AI2: 返却時 | AJ2: 内容 | AK2: 数量 | AM2: 出荷時 | AN2: 返却時 | AO2: 内容 | AP2: 数量 | AR2: 出荷時 | AS2: 返却時 | AT2: 内容 | AU2: 数量 | AW2: 出荷時 | AX2: 返却時 | AY2: 内容 | AZ2: 数量 | BB2: 出荷時 | BC2: 返却時 | BD2: 内容 | BE2: 数量 | BG2: 出荷時 | BH2: 返却時 | BI2: 内容 | BJ2: 数量 | BL2: 出荷時 | BM2: 返却時 | BN2: 内容 | BO2: 数量 | BQ2: 出荷時 | BR2: 返却時
A3: 三角巾 | B3: 1 | C3: 枚 | F3: 三角巾 | G3: 1 | H3: 枚 | K3: 三角巾 | L3: 1 | M3: 枚 | P3: 三角巾 | Q3: 1 | R3: 枚 | U3: 三角巾 | V3: 1 | W3: 枚 | Z3: 三角巾 | AA3: 1 | AB3: 枚 | AE3: 三角巾 | AF3: 1 | AG3: 枚 | AJ3: 三角巾 | AK3: 1 | AL3: 枚 | AO3: 三角巾 | AP3: 1 | AQ3: 枚 | AT3: 三角巾 | AU3: 1 | AV3: 枚 | AY3: 三角巾 | AZ3: 1 | BA3: 枚 | BD3: 三角巾 | BE3: 1 | BF3: 枚 | BI3: 三角巾 | BJ3: 1 | BK3: 枚 | BN3: 三角巾 | BO3: 1 | BP3: 枚
A4: マスク | B4: 20 | C4: 枚 | F4: マスク | G4: 20 | H4: 枚 | K4: マスク | L4: 20 | M4: 枚 | P4: マスク | Q4: 20 | R4: 枚 | U4: マスク | V4: 20 | W4: 枚 | Z4: マスク | AA4: 20 | AB4: 枚 | AE4: マスク | AF4: 20 | AG4: 枚 | AJ4: マスク | AK4: 20 | AL4: 枚 | AO4: マスク | AP4: 20 | AQ4: 枚 | AT4: マスク | AU4: 20 | AV4: 枚 | AY4: マスク | AZ4: 20 | BA4: 枚 | BD4: マスク | BE4: 20 | BF4: 枚 | BI4: マスク | BJ4: 20 | BK4: 枚 | BN4: マスク | BO4: 20 | BP4: 枚
A5: ガーゼ | B5: 3 | C5: 枚 | F5: ガーゼ | G5: 3 | H5: 枚 | K5: ガーゼ | L5: 3 | M5: 枚 | P5: ガーゼ | Q5: 3 | R5: 枚 | U5: ガーゼ | V5: 3 | W5: 枚 | Z5: ガーゼ | AA5: 3 | AB5: 枚 | AE5: ガーゼ | AF5: 3 | AG5: 枚 | AJ5: ガーゼ | AK5: 3 | AL5: 枚 | AO5: ガーゼ | AP5: 3 | AQ5: 枚 | AT5: ガーゼ | AU5: 3 | AV5: 枚 | AY5: ガーゼ | AZ5: 3 | BA5: 枚 | BD5: ガーゼ | BE5: 3 | BF5: 枚 | BI5: ガーゼ | BJ5: 3 | BK5: 枚 | BN5: ガーゼ | BO5: 3 | BP5: 枚
A6: 滅菌ガーゼMサイズ | B6: 3 | C6: 枚 | F6: 滅菌ガーゼMサイズ | G6: 3 | H6: 枚 | K6: 滅菌ガーゼMサイズ | L6: 3 | M6: 枚 | P6: 滅菌ガーゼMサイズ | Q6: 3 | R6: 枚 | U6: 滅菌ガーゼMサイズ | V6: 3 | W6: 枚 | Z6: 滅菌ガーゼMサイズ | AA6: 3 | AB6: 枚 | AE6: 滅菌ガーゼMサイズ | AF6: 3 | AG6: 枚 | AJ6: 滅菌ガーゼMサイズ | AK6: 3 | AL6: 枚 | AO6: 滅菌ガーゼMサイズ | AP6: 3 | AQ6: 枚 | AT6: 滅菌ガーゼMサイズ | AU6: 3 | AV6: 枚 | AY6: 滅菌ガーゼMサイズ | AZ6: 3 | BA6: 枚 | BD6: 滅菌ガーゼMサイズ | BE6: 3 | BF6: 枚 | BI6: 滅菌ガーゼMサイズ | BJ6: 3 | BK6: 枚 | BN6: 滅菌ガーゼMサイズ | BO6: 3 | BP6: 枚
A7: 滅菌ガーゼLサイズ | B7: 3 | C7: 枚 | F7: 滅菌ガーゼLサイズ | G7: 3 | H7: 枚 | K7: 滅菌ガーゼLサイズ | L7: 3 | M7: 枚 | P7: 滅菌ガーゼLサイズ | Q7: 3 | R7: 枚 | U7: 滅菌ガーゼLサイズ | V7: 3 | W7: 枚 | Z7: 滅菌ガーゼLサイズ | AA7: 3 | AB7: 枚 | AE7: 滅菌ガーゼLサイズ | AF7: 3 | AG7: 枚 | AJ7: 滅菌ガーゼLサイズ | AK7: 3 | AL7: 枚 | AO7: 滅菌ガーゼLサイズ | AP7: 3 | AQ7: 枚 | AT7: 滅菌ガーゼLサイズ | AU7: 3 | AV7: 枚 | AY7: 滅菌ガーゼLサイズ | AZ7: 3 | BA7: 枚 | BD7: 滅菌ガーゼLサイズ | BE7: 3 | BF7: 枚 | BI7: 滅菌ガーゼLサイズ | BJ7: 3 | BK7: 枚 | BN7: 滅菌ガーゼLサイズ | BO7: 3 | BP7: 枚
A8: ポアテープ | B8: 1 | C8: 本 | F8: ポアテープ | G8: 1 | H8: 本 | K8: ポアテープ | L8: 1 | M8: 本 | P8: ポアテープ | Q8: 1 | R8: 本 | U8: ポアテープ | V8: 1 | W8: 本 | Z8: ポアテープ | AA8: 1 | AB8: 本 | AE8: ポアテープ | AF8: 1 | AG8: 本 | AJ8: ポアテープ | AK8: 1 | AL8: 本 | AO8: ポアテープ | AP8: 1 | AQ8: 本 | AT8: ポアテープ | AU8: 1 | AV8: 本 | AY8: ポアテープ | AZ8: 1 | BA8: 本 | BD8: ポアテープ | BE8: 1 | BF8: 本 | BI8: ポアテープ | BJ8: 1 | BK8: 本 | BN8: ポアテープ | BO8: 1 | BP8: 本
A9: 消毒液 | B9: 1 | C9: 本 | F9: 消毒液 | G9: 1 | H9: 本 | K9: 消毒液 | L9: 1 | M9: 本 | P9: 消毒液 | Q9: 1 | R9: 本 | U9: 消毒液 | V9: 1 | W9: 本 | Z9: 消毒液 | AA9: 1 | AB9: 本 | AE9: 消毒液 | AF9: 1 | AG9: 本 | AJ9: 消毒液 | AK9: 1 | AL9: 本 | AO9: 消毒液 | AP9: 1 | AQ9: 本 | AT9: 消毒液 | AU9: 1 | AV9: 本 | AY9: 消毒液 | AZ9: 1 | BA9: 本 | BD9: 消毒液 | BE9: 1 | BF9: 本 | BI9: 消毒液 | BJ9: 1 | BK9: 本 | BN9: 消毒液 | BO9: 1 | BP9: 本
A10: 消毒用アルコール綿 | B10: 10 | C10: 袋 | F10: 消毒用アルコール綿 | G10: 10 | H10: 袋 | K10: 消毒用アルコール綿 | L10: 10 | M10: 袋 | P10: 消毒用アルコール綿 | Q10: 10 | R10: 袋 | U10: 消毒用アルコール綿 | V10: 10 | W10: 袋 | Z10: 消毒用アルコール綿 | AA10: 10 | AB10: 袋 | AE10: 消毒用アルコール綿 | AF10: 10 | AG10: 袋 | AJ10: 消毒用アルコール綿 | AK10: 10 | AL10: 袋 | AO10: 消毒用アルコール綿 | AP10: 10 | AQ10: 袋 | AT10: 消毒用アルコール綿 | AU10: 10 | AV10: 袋 | AY10: 消毒用アルコール綿 | AZ10: 10 | BA10: 袋 | BD10: 消毒用アルコール綿 | BE10: 10 | BF10: 袋 | BI10: 消毒用アルコール綿 | BJ10: 10 | BK10: 袋 | BN10: 消毒用アルコール綿 | BO10: 10 | BP10: 袋
A11: 包帯 | B11: 3 | C11: 本 | F11: 包帯 | G11: 3 | H11: 本 | K11: 包帯 | L11: 3 | M11: 本 | P11: 包帯 | Q11: 3 | R11: 本 | U11: 包帯 | V11: 3 | W11: 本 | Z11: 包帯 | AA11: 3 | AB11: 本 | AE11: 包帯 | AF11: 3 | AG11: 本 | AJ11: 包帯 | AK11: 3 | AL11: 本 | AO11: 包帯 | AP11: 3 | AQ11: 本 | AT11: 包帯 | AU11: 3 | AV11: 本 | AY11: 包帯 | AZ11: 3 | BA11: 本 | BD11: 包帯 | BE11: 3 | BF11: 本 | BI11: 包帯 | BJ11: 3 | BK11: 本 | BN11: 包帯 | BO11: 3 | BP11: 本
A12: バンドエイド | B12: 20 | C12: 枚 | F12: バンドエイド | G12: 20 | H12: 枚 | K12: バンドエイド | L12: 20 | M12: 枚 | P12: バンドエイド | Q12: 20 | R12: 枚 | U12: バンドエイド | V12: 20 | W12: 枚 | Z12: バンドエイド | AA12: 20 | AB12: 枚 | AE12: バンドエイド | AF12: 20 | AG12: 枚 | AJ12: バンドエイド | AK12: 20 | AL12: 枚 | AO12: バンドエイド | AP12: 20 | AQ12: 枚 | AT12: バンドエイド | AU12: 20 | AV12: 枚 | AY12: バンドエイド | AZ12: 20 | BA12: 枚 | BD12: バンドエイド | BE12: 20 | BF12: 枚 | BI12: バンドエイド | BJ12: 20 | BK12: 枚 | BN12: バンドエイド | BO12: 20 | BP12: 枚
A13: 人工呼吸器用マスク | B13: 1 | C13: 個 | F13: 人工呼吸器用マスク | G13: 1 | H13: 個 | K13: 人工呼吸器用マスク | L13: 1 | M13: 個 | P13: 人工呼吸器用マスク | Q13: 1 | R13: 個 | U13: 人工呼吸器用マスク | V13: 1 | W13: 個 | Z13: 人工呼吸器用マスク | AB13: 個 | AE13: 人工呼吸器用マスク | AF13: 1 | AG13: 個 | AJ13: 人工呼吸器用マスク | AK13: 1 | AL13: 個 | AO13: 人工呼吸器用マスク | AP13: 1 | AQ13: 個 | AT13: 人工呼吸器用マスク | AU13: 1 | AV13: 個 | AY13: 人工呼吸器用マスク | AZ13: 1 | BA13: 個 | BD13: 人工呼吸器用マスク | BE13: 1 | BF13: 個 | BI13: 人工呼吸器用マスク | BJ13: 1 | BK13: 個 | BN13: 人工呼吸器用マスク | BO13: 1 | BP13: 個
A14: 体温計 | B14: 1 | C14: 本 | F14: 体温計 | G14: 1 | H14: 本 | K14: 体温計 | L14: 1 | M14: 本 | P14: 体温計 | Q14: 1 | R14: 本 | U14: 体温計 | V14: 1 | W14: 本 | Z14: 体温計 | AB14: 本 | AE14: 体温計 | AF14: 1 | AG14: 本 | AJ14: 体温計 | AK14: 1 | AL14: 本 | AO14: 体温計 | AP14: 1 | AQ14: 本 | AT14: 体温計 | AU14: 1 | AV14: 本 | AY14: 体温計 | AZ14: 1 | BA14: 本 | BD14: 体温計 | BE14: 1 | BF14: 本 | BI14: 体温計 | BJ14: 1 | BK14: 本 | BN14: 体温計 | BO14: 1 | BP14: 本
A15: ピンセット | B15: 1 | C15: 本 | F15: ピンセット | G15: 1 | H15: 本 | K15: ピンセット | L15: 1 | M15: 本 | P15: ピンセット | Q15: 1 | R15: 本 | U15: ピンセット | V15: 1 | W15: 本 | Z15: ピンセット | AB15: 本 | AE15: ピンセット | AF15: 1 | AG15: 本 | AJ15: ピンセット | AK15: 1 | AL15: 本 | AO15: ピンセット | AP15: 1 | AQ15: 本 | AT15: ピンセット | AU15: 1 | AV15: 本 | AY15: ピンセット | AZ15: 1 | BA15: 本 | BD15: ピンセット | BE15: 1 | BF15: 本 | BI15: ピンセット | BJ15: 1 | BK15: 本 | BN15: ピンセット | BO15: 1 | BP15: 本
A16: はさみ | B16: 1 | C16: 本 | F16: はさみ | G16: 1 | H16: 本 | K16: はさみ | L16: 1 | M16: 本 | P16: はさみ | Q16: 1 | R16: 本 | U16: はさみ | V16: 1 | W16: 本 | Z16: はさみ | AB16: 本 | AE16: はさみ | AF16: 1 | AG16: 本 | AJ16: はさみ | AK16: 1 | AL16: 本 | AO16: はさみ | AP16: 1 | AQ16: 本 | AT16: はさみ | AU16: 1 | AV16: 本 | AY16: はさみ | AZ16: 1 | BA16: 本 | BD16: はさみ | BE16: 1 | BF16: 本 | BI16: はさみ | BJ16: 1 | BK16: 本 | BN16: はさみ | BO16: 1 | BP16: 本
A17: 綿棒 | B17: 20 | C17: 本 | F17: 綿棒 | G17: 20 | H17: 本 | K17: 綿棒 | L17: 20 | M17: 本 | P17: 綿棒 | Q17: 20 | R17: 本 | U17: 綿棒 | V17: 20 | W17: 本 | Z17: 綿棒 | AB17: 本 | AE17: 綿棒 | AF17: 20 | AG17: 本 | AJ17: 綿棒 | AK17: 20 | AL17: 本 | AO17: 綿棒 | AP17: 20 | AQ17: 本 | AT17: 綿棒 | AU17: 20 | AV17: 本 | AY17: 綿棒 | AZ17: 20 | BA17: 本 | BD17: 綿棒 | BE17: 20 | BF17: 本 | BI17: 綿棒 | BJ17: 20 | BK17: 本 | BN17: 綿棒 | BO17: 20 | BP17: 本
A18: 冷却シート（２枚） | B18: 2 | C18: 袋 | F18: 冷却シート（２枚） | G18: 2 | H18: 袋 | K18: 冷却シート（２枚） | L18: 2 | M18: 袋 | P18: 冷却シート（２枚） | Q18: 2 | R18: 袋 | U18: 冷却シート（２枚） | V18: 2 | W18: 袋 | Z18: 冷却シート（２枚） | AB18: 袋 | AE18: 冷却シート（２枚） | AF18: 2 | AG18: 袋 | AJ18: 冷却シート（２枚） | AK18: 2 | AL18: 袋 | AO18: 冷却シート（２枚） | AP18: 1 | AQ18: 袋 | AT18: 冷却シート（２枚） | AU18: 2 | AV18: 袋 | AY18: 冷却シート（２枚） | AZ18: 2 | BA18: 袋 | BD18: 冷却シート（２枚） | BE18: 2 | BF18: 袋 | BI18: 冷却シート（２枚） | BJ18: 2 | BK18: 袋 | BN18: 冷却シート（２枚） | BO18: 2 | BP18: 袋
A19: 虫刺され用品（ムヒ） | B19: 1 | C19: 本 | F19: 虫刺され用品（ムヒ） | G19: 1 | H19: 本 | K19: 虫刺され用品（ムヒ） | L19: 1 | M19: 本 | P19: 虫刺され用品（ムヒ） | Q19: 1 | R19: 本 | U19: 虫刺され用品（ムヒ） | V19: 1 | W19: 本 | Z19: 虫刺され用品（ムヒ） | AB19: 本 | AE19: 虫刺され用品（ムヒ） | AF19: 1 | AG19: 本 | AJ19: 虫刺され用品（ムヒ） | AK19: 1 | AL19: 本 | AO19: 虫刺され用品（ムヒ） | AP19: 1 | AQ19: 本 | AT19: 虫刺され用品（ムヒ） | AU19: 1 | AV19: 本 | AY19: 虫刺され用品（ムヒ） | AZ19: 1 | BA19: 本 | BD19: 虫刺され用品（ムヒ） | BE19: 1 | BF19: 本 | BI19: 虫刺され用品（ムヒ） | BJ19: 1 | BK19: 本 | BN19: 虫刺され用品（ムヒ） | BO19: 1 | BP19: 本
A20: パルスオキシメーター | B20: 1 | C20: 個 | F20: パルスオキシメーター | G20: 1 | H20: 個 | K20: パルスオキシメーター | L20: 1 | M20: 個 | P20: パルスオキシメーター | Q20: 1 | R20: 個 | U20: パルスオキシメーター | V20: 1 | W20: 個 | Z20: パルスオキシメーター | AA20: 1 | AB20: 個 | AE20: パルスオキシメーター | AF20: 1 | AG20: 個 | AJ20: パルスオキシメーター | AK20: 1 | AL20: 個 | AO20: パルスオキシメーター | AP20: 1 | AQ20: 個 | AT20: パルスオキシメーター | AU20: 1 | AV20: 個 | AY20: パルスオキシメーター | AZ20: 1 | BA20: 個 | BD20: パルスオキシメーター | BE20: 1 | BF20: 個 | BI20: パルスオキシメーター | BJ20: 1 | BK20: 個 | BN20: パルスオキシメーター | BO20: 1 | BP20: 個
A21: アルミブランケット | B21: 2 | C21: 枚 | F21: アルミブランケット | G21: 2 | H21: 枚 | K21: アルミブランケット | L21: 2 | M21: 枚 | P21: アルミブランケット | Q21: 2 | R21: 枚 | U21: アルミブランケット | V21: 2 | W21: 枚 | Z21: アルミブランケット | AB21: 枚 | AE21: アルミブランケット | AF21: 2 | AG21: 枚 | AJ21: アルミブランケット | AK21: 2 | AL21: 枚 | AO21: アルミブランケット | AP21: 2 | AQ21: 枚 | AT21: アルミブランケット | AU21: 2 | AV21: 枚 | AY21: アルミブランケット | AZ21: 2 | BA21: 枚 | BD21: アルミブランケット | BE21: 2 | BF21: 枚 | BI21: アルミブランケット | BJ21: 2 | BK21: 枚 | BN21: アルミブランケット | BO21: 2 | BP21: 枚
A22: 返却時、内容を確認後チェック入れてください。 | F22: 返却時、内容を確認後チェック入れてください。 | K22: 返却時、内容を確認後チェック入れてください。 | P22: 返却時、内容を確認後チェック入れてください。 | U22: 返却時、内容を確認後チェック入れてください。 | Z22: 返却時、内容を確認後チェック入れてください。 | AE22: 返却時、内容を確認後チェック入れてください。 | AJ22: 返却時、内容を確認後チェック入れてください。 | AO22: 返却時、内容を確認後チェック入れてください。 | AT22: 返却時、内容を確認後チェック入れてください。 | AY22: 返却時、内容を確認後チェック入れてください。 | BD22: 返却時、内容を確認後チェック入れてください。 | BI22: 返却時、内容を確認後チェック入れてください。 | BN22: 返却時、内容を確認後チェック入れてください。
A23: ラミネートしているので、油性ペンで確認お願いいたします。 | F23: ラミネートしているので、油性ペンで確認お願いいたします。 | K23: ラミネートしているので、油性ペンで確認お願いいたします。 | P23: ラミネートしているので、油性ペンで確認お願いいたします。 | U23: ラミネートしているので、油性ペンで確認お願いいたします。 | Z23: ラミネートしているので、油性ペンで確認お願いいたします。 | AE23: ラミネートしているので、油性ペンで確認お願いいたします。 | AJ23: ラミネートしているので、油性ペンで確認お願いいたします。 | AO23: ラミネートしているので、油性ペンで確認お願いいたします。 | AT23: ラミネートしているので、油性ペンで確認お願いいたします。 | AY23: ラミネートしているので、油性ペンで確認お願いいたします。 | BD23: ラミネートしているので、油性ペンで確認お願いいたします。 | BI23: ラミネートしているので、油性ペンで確認お願いいたします。 | BN23: ラミネートしているので、油性ペンで確認お願いいたします。

Sheet 救護備品 (3)
A1: 大津港ターミナル | K1: 大津市民会館 | U1: 勤労福祉センター | AE1: ふれあいスポーツセンター | AO1: 逢坂市民センター | AY1: 平野市民センター | BI1: びわこボート | BS1: 草津本部 | CC1: 業務用地 | CM1: 一般B | CW1: びわ湖ホール | DG1: 楽天 | DQ1: 琵琶湖ホテル前 | EA1: マリーナターミナル
B4: 内容 | F4: 数量 | H4: 出荷時 | I4: 返却時 | L4: 内容 | P4: 数量 | R4: 出荷時 | S4: 返却時 | V4: 内容 | Z4: 数量 | AB4: 出荷時 | AC4: 返却時 | AF4: 内容 | AJ4: 数量 | AL4: 出荷時 | AM4: 返却時 | AP4: 内容 | AT4: 数量 | AV4: 出荷時 | AW4: 返却時 | AZ4: 内容 | BD4: 数量 | BF4: 出荷時 | BG4: 返却時 | BJ4: 内容 | BN4: 数量 | BP4: 出荷時 | BQ4: 返却時 | BT4: 内容 | BX4: 数量 | BZ4: 出荷時 | CA4: 返却時 | CD4: 内容 | CH4: 数量 | CJ4: 出荷時 | CK4: 返却時 | CN4: 内容 | CR4: 数量 | CT4: 出荷時 | CU4: 返却時 | CX4: 内容 | DB4: 数量 | DD4: 出荷時 | DE4: 返却時 | DH4: 内容 | DL4: 数量 | DN4: 出荷時 | DO4: 返却時 | DR4: 内容 | DV4: 数量 | DX4: 出荷時 | DY4: 返却時 | EB4: 内容 | EF4: 数量 | EH4: 出荷時 | EI4: 返却時
B5: 毛布 | F5: 1 | G5: 枚 | L5: 毛布 | P5: 2 | Q5: 枚 | V5: 毛布 | Z5: 1 | AA5: 枚 | AF5: 毛布 | AJ5: 1 | AK5: 枚 | AP5: 毛布 | AT5: 1 | AU5: 枚 | AZ5: 毛布 | BD5: 6 | BE5: 枚 | BJ5: 毛布 | BN5: 1 | BO5: 枚 | BT5: 毛布 | BX5: 1 | BY5: 枚 | CD5: 毛布 | CH5: 1 | CI5: 枚 | CN5: 毛布 | CR5: 1 | CS5: 枚 | CX5: 毛布 | DB5: 1 | DC5: 枚 | DH5: 毛布 | DL5: 1 | DM5: 枚 | DR5: 毛布 | DV5: 1 | DW5: 枚 | EB5: 毛布 | EF5: 1 | EG5: 枚
B6: 大判バスタオル | F6: 4 | G6: 枚 | L6: 大判バスタオル | P6: 4 | Q6: 枚 | V6: 大判バスタオル | Z6: 4 | AA6: 枚 | AF6: 大判バスタオル | AJ6: 4 | AK6: 枚 | AP6: 大判バスタオル | AT6: 4 | AU6: 枚 | AZ6: 大判バスタオル | BD6: 4 | BE6: 枚 | BJ6: 大判バスタオル | BN6: 4 | BO6: 枚 | BT6: 大判バスタオル | BX6: 4 | BY6: 枚 | CD6: 大判バスタオル | CH6: 4 | CI6: 枚 | CN6: 大判バスタオル | CR6: 4 | CS6: 枚 | CX6: 大判バスタオル | DB6: 4 | DC6: 枚 | DH6: 大判バスタオル | DL6: 4 | DM6: 枚 | DR6: 大判バスタオル | DV6: 4 | DW6: 枚 | EB6: 大判バスタオル | EF6: 4 | EG6: 枚
B7: バスタオル | F7: 1 | G7: 枚 | L7: バスタオル | P7: 1 | Q7: 箱 | V7: バスタオル | Z7: 1 | AA7: 枚 | AF7: バスタオル | AJ7: 1 | AK7: 箱 | AP7: バスタオル | AT7: 1 | AU7: 枚 | AZ7: バスタオル | BD7: 1 | BE7: 枚 | BJ7: バスタオル | BN7: 1 | BO7: 枚 | BT7: バスタオル | BX7: 1 | BY7: 枚 | CD7: バスタオル | CH7: 1 | CI7: 枚 | CN7: バスタオル | CR7: 1 | CS7: 箱 | CX7: バスタオル | DB7: 1 | DC7: 箱 | DH7: バスタオル | DL7: 1 | DM7: 箱 | DR7: バスタオル | DV7: 1 | DW7: 箱 | EB7: バスタオル | EF7: 1 | EG7: 箱
B8: フェイスタオル | F8: 4 | G8: 枚 | L8: フェイスタオル | P8: 4 | Q8: 枚 | V8: フェイスタオル | Z8: 4 | AA8: 枚 | AF8: フェイスタオル | AJ8: 4 | AK8: 枚 | AP8: フェイスタオル | AT8: 4 | AU8: 枚 | AZ8: フェイスタオル | BD8: 4 | BE8: 枚 | BJ8: フェイスタオル | BN8: 4 | BO8: 枚 | BT8: フェイスタオル | BX8: 4 | BY8: 枚 | CD8: フェイスタオル | CH8: 4 | CI8: 枚 | CN8: フェイスタオル | CR8: 4 | CS8: 枚 | CX8: フェイスタオル | DB8: 4 | DC8: 枚 | DH8: フェイスタオル | DL8: 4 | DM8: 枚 | DR8: フェイスタオル | DV8: 4 | DW8: 枚 | EB8: フェイスタオル | EF8: 4 | EG8: 枚
B9: ティッシュ | F9: 1 | G9: 箱 | L9: ティッシュ | P9: 1 | Q9: 箱 | V9: ティッシュ | Z9: 1 | AA9: 箱 | AF9: ティッシュ | AJ9: 1 | AK9: 箱 | AP9: ティッシュ | AT9: 1 | AU9: 箱 | AZ9: ティッシュ | BD9: 1 | BE9: 箱 | BJ9: ティッシュ | BN9: 1 | BO9: 箱 | BT9: ティッシュ | BX9: 1 | BY9: 箱 | CD9: ティッシュ | CH9: 1 | CI9: 箱 | CN9: ティッシュ | CR9: 1 | CS9: 箱 | CX9: ティッシュ | DB9: 1 | DC9: 箱 | DH9: ティッシュ | DL9: 1 | DM9: 箱 | DR9: ティッシュ | DV9: 1 | DW9: 箱 | EB9: ティッシュ | EF9: 1 | EG9: 箱
B10: ペーパータオル | F10: 1 | G10: 組 | L10: ペーパータオル | P10: 1 | Q10: 組 | V10: ペーパータオル | Z10: 1 | AA10: 組 | AF10: ペーパータオル | AJ10: 1 | AK10: 組 | AP10: ペーパータオル | AT10: 1 | AU10: 組 | AZ10: ペーパータオル | BD10: 1 | BE10: 組 | BJ10: ペーパータオル | BN10: 1 | BO10: 組 | BT10: ペーパータオル | BX10: 1 | BY10: 組 | CD10: ペーパータオル | CH10: 1 | CI10: 組 | CN10: ペーパータオル | CR10: 1 | CS10: 組 | CX10: ペーパータオル | DB10: 1 | DC10: 組 | DH10: ペーパータオル | DL10: 1 | DM10: 組 | DR10: ペーパータオル | DV10: 1 | DW10: 組 | EB10: ペーパータオル | EF10: 1 | EG10: 組
B11: 除菌ペーパー | F11: 1 | G11: 袋 | L11: 除菌ペーパー | P11: 1 | Q11: 袋 | V11: 除菌ペーパー | Z11: 1 | AA11: 袋 | AF11: 除菌ペーパー | AJ11: 1 | AK11: 袋 | AP11: 除菌ペーパー | AT11: 1 | AU11: 袋 | AZ11: 除菌ペーパー | BD11: 1 | BE11: 袋 | BJ11: 除菌ペーパー | BN11: 1 | BO11: 袋 | BT11: 除菌ペーパー | BX11: 1 | BY11: 袋 | CD11: 除菌ペーパー | CH11: 1 | CI11: 袋 | CN11: 除菌ペーパー | CR11: 1 | CS11: 袋 | CX11: 除菌ペーパー | DB11: 1 | DC11: 袋 | DH11: 除菌ペーパー | DL11: 1 | DM11: 袋 | DR11: 除菌ペーパー | DV11: 1 | DW11: 袋 | EB11: 除菌ペーパー | EF11: 1 | EG11: 袋
B12: 介護用ビニール手袋 | F12: 10 | G12: 組 | L12: 介護用ビニール手袋 | P12: 10 | Q12: 組 | V12: 介護用ビニール手袋 | Z12: 10 | AA12: 組 | AF12: 介護用ビニール手袋 | AJ12: 10 | AK12: 組 | AP12: 介護用ビニール手袋 | AT12: 10 | AU12: 組 | AZ12: 介護用ビニール手袋 | BD12: 10 | BE12: 組 | BJ12: 介護用ビニール手袋 | BN12: 10 | BO12: 組 | BT12: 介護用ビニール手袋 | BX12: 10 | BY12: 組 | CD12: 介護用ビニール手袋 | CH12: 10 | CI12: 組 | CN12: 介護用ビニール手袋 | CR12: 10 | CS12: 組 | CX12: 介護用ビニール手袋 | DB12: 10 | DC12: 組 | DH12: 介護用ビニール手袋 | DL12: 10 | DM12: 組 | DR12: 介護用ビニール手袋 | DV12: 10 | DW12: 組 | EB12: 介護用ビニール手袋 | EF12: 10 | EG12: 組
B13: 紙コップ | F13: 50 | G13: 個 | L13: 紙コップ | P13: 50 | Q13: 個 | V13: 紙コップ | Z13: 50 | AA13: 個 | AF13: 紙コップ | AJ13: 50 | AK13: 個 | AP13: 紙コップ | AT13: 50 | AU13: 個 | AZ13: 紙コップ | BD13: 100 | BE13: 個 | BJ13: 紙コップ | BN13: 50 | BO13: 個 | BT13: 紙コップ | BX13: 50 | BY13: 個 | CD13: 紙コップ | CH13: 50 | CI13: 個 | CN13: 紙コップ | CR13: 50 | CS13: 個 | CX13: 紙コップ | DB13: 50 | DC13: 個 | DH13: 紙コップ | DL13: 50 | DM13: 個 | DR13: 紙コップ | DV13: 50 | DW13: 個 | EB13: 紙コップ | EF13: 50 | EG13: 個
B14: 軍手 | F14: 1 | G14: 双 | L14: 軍手 | P14: 1 | Q14: 双 | V14: 軍手 | Z14: 1 | AA14: 双 | AF14: 軍手 | AJ14: 1 | AK14: 双 | AP14: 軍手 | AT14: 1 | AU14: 双 | AZ14: 軍手 | BD14: 1 | BE14: 双 | BJ14: 軍手 | BN14: 1 | BO14: 双 | BT14: 軍手 | BX14: 1 | BY14: 双 | CD14: 軍手 | CH14: 1 | CI14: 双 | CN14: 軍手 | CR14: 1 | CS14: 双 | CX14: 軍手 | DB14: 1 | DC14: 双 | DH14: 軍手 | DL14: 1 | DM14: 双 | DR14: 軍手 | DV14: 1 | DW14: 双 | EB14: 軍手 | EF14: 1 | EG14: 双
B15: ラップ | F15: 1 | G15: 本 | L15: ラップ | P15: 1 | Q15: 本 | V15: ラップ | Z15: 1 | AA15: 本 | AF15: ラップ | AJ15: 1 | AK15: 本 | AP15: ラップ | AT15: 1 | AU15: 本 | AZ15: ラップ | BD15: 1 | BE15: 本 | BJ15: ラップ | BN15: 1 | BO15: 本 | BT15: ラップ | BX15: 1 | BY15: 本 | CD15: ラップ | CH15: 1 | CI15: 本 | CN15: ラップ | CR15: 1 | CS15: 本 | CX15: ラップ | DB15: 1 | DC15: 本 | DH15: ラップ | DL15: 1 | DM15: 本 | DR15: ラップ | DV15: 1 | DW15: 本 | EB15: ラップ | EF15: 1 | EG15: 本
B16: 嘔吐用ビニール袋 | F16: 20 | G16: 袋 | L16: 嘔吐用ビニール袋 | P16: 20 | Q16: 袋 | V16: 嘔吐用ビニール袋 | Z16: 20 | AA16: 袋 | AF16: 嘔吐用ビニール袋 | AJ16: 20 | AK16: 袋 | AP16: 嘔吐用ビニール袋 | AT16: 20 | AU16: 袋 | AZ16: 嘔吐用ビニール袋 | BD16: 50 | BE16: 袋 | BJ16: 嘔吐用ビニール袋 | BN16: 10 | BO16: 袋 | BT16: 嘔吐用ビニール袋 | BX16: 10 | BY16: 袋 | CD16: 嘔吐用ビニール袋 | CH16: 10 | CI16: 袋 | CN16: 嘔吐用ビニール袋 | CR16: 10 | CS16: 袋 | CX16: 嘔吐用ビニール袋 | DB16: 10 | DC16: 袋 | DH16: 嘔吐用ビニール袋 | DL16: 10 | DM16: 袋 | DR16: 嘔吐用ビニール袋 | DV16: 10 | DW16: 袋 | EB16: 嘔吐用ビニール袋 | EF16: 10 | EG16: 袋
... B20: 血圧計 | F20: 1 | G20: 個 | L20: 血圧計 | P20: 1 | Q20: 個 | V20: 血圧計 | Z20: 1 | AA20: 個 | AF20: 血圧計 | AJ20: 1 | AK20: 個 | AP20: 血圧計 | AT20: 1 | AU20: 個 | AZ20: 血圧計 | BD20: 1 | BE20: 個 | BJ20: 血圧計 | BN20: 1 | BO20: 個 | BT20: 血圧計 | BX20: 1 | BY20: 個 | CD20: 血圧計 | CH20: 1 | CI20: 個 | CN20: 血圧計 | CR20: 1 | CS20: 個 | CX20: 血圧計 | DB20: 1 | DC20: 個 | DH20: 血圧計 | DL20: 1 | DM20: 個 | DR20: 血圧計 | DV20: 1 | DW20: 個 | EB20: 血圧計 | EF20: 1 | EG20: 個
A21: 返却時、内容を確認後チェック入れてください。 | K21: 返却時、内容を確認後チェック入れてください。 | U21: 返却時、内容を確認後チェック入れてください。 | AE21: 返却時、内容を確認後チェック入れてください。 | AO21: 返却時、内容を確認後チェック入れてください。 | AY21: 返却時、内容を確認後チェック入れてください。 | BI21: 返却時、内容を確認後チェック入れてください。 | BS21: 返却時、内容を確認後チェック入れてください。 | CC21: 返却時、内容を確認後チェック入れてください。 | CM21: 返却時、内容を確認後チェック入れてください。 | CW21: 返却時、内容を確認後チェック入れてください。 | DG21: 返却時、内容を確認後チェック入れてください。 | DQ21: 返却時、内容を確認後チェック入れてください。 | EA21: 返却時、内容を確認後チェック入れてください。
A23: ラミネートしているので、油性ペンで確認お願いいたします。 | K23: ラミネートしているので、油性ペンで確認お願いいたします。 | U23: ラミネートしているので、油性ペンで確認お願いいたします。 | AE23: ラミネートしているので、油性ペンで確認お願いいたします。 | AO23: ラミネートしているので、油性ペンで確認お願いいたします。 | AY23: ラミネートしているので、油性ペンで確認お願いいたします。 | BI23: ラミネートしているので、油性ペンで確認お願いいたします。 | BS23: ラミネートしているので、油性ペンで確認お願いいたします。 | CC23: ラミネートしているので、油性ペンで確認お願いいたします。 | CM23: ラミネートしているので、油性ペンで確認お願いいたします。 | CW23: ラミネートしているので、油性ペンで確認お願いいたします。 | DG23: ラミネートしているので、油性ペンで確認お願いいたします。 | DQ23: ラミネートしているので、油性ペンで確認お願いいたします。 | EA23: ラミネートしているので、油性ペンで確認お願いいたします。

Sheet 救護備品 (2)
A1: 大津港ターミナル | K1: 大津市民会館 | U1: 勤労福祉会館 | AE1: ふれあいスポーツセンター | AO1: 逢坂市民センター | AY1: 平野市民センター | BI1: びわこボート | BS1: 草津本部 | CC1: 業務用地 | CM1: 一般B | CW1: びわ湖ホール | DG1: 楽天 | DQ1: 琵琶湖ホテル前 | EA1: マリーナターミナル
B5: 内容 | F5: 数量 | H5: 確認印
B6: 毛布 | F6: 1 | G6: 枚 | L6: 毛布 | R6: 2 | S6: 枚 | V6: 毛布 | AB6: 2 | AC6: 枚 | AF6: 毛布 | AL6: 1 | AM6: 枚 | AP6: 毛布 | AV6: 6 | AW6: 枚 | AZ6: 毛布 | BF6: 6 | BG6: 枚 | BJ6: 毛布 | BP6: 1 | BQ6: 枚 | BT6: 毛布 | BZ6: 1 | CA6: 枚 | CD6: 毛布 | CJ6: 1 | CK6: 枚 | CN6: 毛布 | CT6: 1 | CU6: 枚 | CX6: 毛布 | DD6: 1 | DE6: 枚 | DH6: 毛布 | DN6: 1 | DO6: 枚 | DR6: 毛布 | DX6: 1 | DY6: 枚 | EB6: 毛布 | EH6: 1 | EI6: 枚
B7: 大判バスタオル | F7: 4 | G7: 枚 | L7: フェイスタオル | R7: 4 | S7: 枚 | V7: フェイスタオル | AB7: 4 | AC7: 枚 | AF7: フェイスタオル | AL7: 4 | AM7: 枚 | AP7: フェイスタオル | AV7: 4 | AW7: 枚 | AZ7: フェイスタオル | BF7: 4 | BG7: 枚 | BJ7: フェイスタオル | BP7: 4 | BQ7: 枚 | BT7: フェイスタオル | BZ7: 4 | CA7: 枚 | CD7: フェイスタオル | CJ7: 4 | CK7: 枚 | CN7: フェイスタオル | CT7: 4 | CU7: 枚 | CX7: フェイスタオル | DD7: 4 | DE7: 枚 | DH7: フェイスタオル | DN7: 4 | DO7: 枚 | DR7: フェイスタオル | DX7: 4 | DY7: 枚 | EB7: フェイスタオル | EH7: 4 | EI7: 枚
B8: バスタオル | F8: 1 | G8: 枚 | L8: ティッシュ | R8: 1 | S8: 箱 | V8: ティッシュ | AB8: 1 | AC8: 箱 | AF8: ティッシュ | AL8: 1 | AM8: 箱 | AP8: ティッシュ | AV8: 1 | AW8: 箱 | AZ8: ティッシュ | BF8: 1 | BG8: 箱 | BJ8: ティッシュ | BP8: 1 | BQ8: 箱 | BT8: ティッシュ | BZ8: 1 | CA8: 箱 | CD8: ティッシュ | CJ8: 1 | CK8: 箱 | CN8: ティッシュ | CT8: 1 | CU8: 箱 | CX8: ティッシュ | DD8: 1 | DE8: 箱 | DH8: ティッシュ | DN8: 1 | DO8: 箱 | DR8: ティッシュ | DX8: 1 | DY8: 箱 | EB8: ティッシュ | EH8: 1 | EI8: 箱
B9: フェイスタオル | F9: 4 | G9: 枚 | L9: フェイスタオル | R9: 4 | S9: 枚 | V9: フェイスタオル | AB9: 4 | AC9: 枚 | AF9: フェイスタオル | AL9: 4 | AM9: 枚 | AP9: フェイスタオル | AV9: 4 | AW9: 枚 | AZ9: フェイスタオル | BF9: 4 | BG9: 枚 | BJ9: フェイスタオル | BP9: 4 | BQ9: 枚 | BT9: フェイスタオル | BZ9: 4 | CA9: 枚 | CD9: フェイスタオル | CJ9: 4 | CK9: 枚 | CN9: フェイスタオル | CT9: 4 | CU9: 枚 | CX9: フェイスタオル | DD9: 4 | DE9: 枚 | DH9: フェイスタオル | DN9: 4 | DO9: 枚 | DR9: フェイスタオル | DX9: 4 | DY9: 枚 | EB9: フェイスタオル | EH9: 4 | EI9: 枚
B10: ティッシュ | F10: 1 | G10: 箱 | L10: ティッシュ | R10: 1 | S10: 箱 | V10: ティッシュ | AB10: 1 | AC10: 箱 | AF10: ティッシュ | AL10: 1 | AM10: 箱 | AP10: ティッシュ | AV10: 1 | AW10: 箱 | AZ10: ティッシュ | BF10: 1 | BG10: 箱 | BJ10: ティッシュ | BP10: 1 | BQ10: 箱 | BT10: ティッシュ | BZ10: 1 | CA10: 箱 | CD10: ティッシュ | CJ10: 1 | CK10: 箱 | CN10: ティッシュ | CT10: 1 | CU10: 箱 | CX10: ティッシュ | DD10: 1 | DE10: 箱 | DH10: ティッシュ | DN10: 1 | DO10: 箱 | DR10: ティッシュ | DX10: 1 | DY10: 箱 | EB10: ティッシュ | EH10: 1 | EI10: 箱
B11: ペーパータオル | F11: 1 | G11: 組 | L11: ペーパータオル | R11: 1 | S11: 組 | V11: ペーパータオル | AB11: 1 | AC11: 組 | AF11: ペーパータオル | AL11: 1 | AM11: 組 | AP11: ペーパータオル | AV11: 1 | AW11: 組 | AZ11: ペーパータオル | BF11: 1 | BG11: 組 | BJ11: ペーパータオル | BP11: 1 | BQ11: 組 | BT11: ペーパータオル | BZ11: 1 | CA11: 組 | CD11: ペーパータオル | CJ11: 1 | CK11: 組 | CN11: ペーパータオル | CT11: 1 | CU11: 組 | CX11: ペーパータオル | DD11: 1 | DE11: 組 | DH11: ペーパータオル | DN11: 1 | DO11: 組 | DR11: ペーパータオル | DX11: 1 | DY11: 組 | EB11: ペーパータオル | EH11: 1 | EI11: 組
B12: 除菌ペーパー | F12: 1 | G12: 袋 | L12: 除菌ペーパー | R12: 1 | S12: 袋 | V12: 除菌ペーパー | AB12: 1 | AC12: 袋 | AF12: 除菌ペーパー | AL12: 1 | AM12: 袋 | AP12: 除菌ペーパー | AV12: 1 | AW12: 袋 | AZ12: 除菌ペーパー | BF12: 1 | BG12: 袋 | BJ12: 除菌ペーパー | BP12: 1 | BQ12: 袋 | BT12: 除菌ペーパー | BZ12: 1 | CA12: 袋 | CD12: 除菌ペーパー | CJ12: 1 | CK12: 袋 | CN12: 除菌ペーパー | CT12: 1 | CU12: 袋 | CX12: 除菌ペーパー | DD12: 1 | DE12: 袋 | DH12: 除菌ペーパー | DN12: 1 | DO12: 袋 | DR12: 除菌ペーパー | DX12: 1 | DY12: 袋 | EB12: 除菌ペーパー | EH12: 1 | EI12: 袋
B13: 介護用ビニール手袋 | F13: 10 | G13: 組 | L13: 介護用ビニール手袋 | R13: 10 | S13: 組 | V13: 介護用ビニール手袋 | AB13: 10 | AC13: 組 | AF13: 介護用ビニール手袋 | AL13: 10 | AM13: 組 | AP13: 介護用ビニール手袋 | AV13: 10 | AW13: 組 | AZ13: 介護用ビニール手袋 | BF13: 10 | BG13: 組 | BJ13: 介護用ビニール手袋 | BP13: 10 | BQ13: 組 | BT13: 介護用ビニール手袋 | BZ13: 10 | CA13: 組 | CD13: 介護用ビニール手袋 | CJ13: 10 | CK13: 組 | CN13: 介護用ビニール手袋 | CT13: 10 | CU13: 組 | CX13: 介護用ビニール手袋 | DD13: 10 | DE13: 組 | DH13: 介護用ビニール手袋 | DN13: 10 | DO13: 組 | DR13: 介護用ビニール手袋 | DX13: 10 | DY13: 組 | EB13: 介護用ビニール手袋 | EH13: 10 | EI13: 組
B14: 紙コップ | F14: 50 | G14: 個 | L14: 紙コップ | R14: 50 | S14: 個 | V14: 紙コップ | AB14: 50 | AC14: 個 | AF14: 紙コップ | AL14: 50 | AM14: 個 | AP14: 紙コップ | AV14: 100 | AW14: 個 | AZ14: 紙コップ | BF14: 100 | BG14: 個 | BJ14: 紙コップ | BP14: 50 | BQ14: 個 | BT14: 紙コップ | BZ14: 50 | CA14: 個 | CD14: 紙コップ | CJ14: 50 | CK14: 個 | CN14: 紙コップ | CT14: 50 | CU14: 個 | CX14: 紙コップ | DD14: 50 | DE14: 個 | DH14: 紙コップ | DN14: 50 | DO14: 個 | DR14: 紙コップ | DX14: 50 | DY14: 個 | EB14: 紙コップ | EH14: 50 | EI14: 個
B15: 軍手 | F15: 1 | G15: 双 | L15: 軍手 | R15: 1 | S15: 双 | V15: 軍手 | AB15: 1 | AC15: 双 | AF15: 軍手 | AL15: 1 | AM15: 双 | AP15: 軍手 | AV15: 1 | AW15: 双 | AZ15: 軍手 | BF15: 1 | BG15: 双 | BJ15: 軍手 | BP15: 1 | BQ15: 双 | BT15: 軍手 | BZ15: 1 | CA15: 双 | CD15: 軍手 | CJ15: 1 | CK15: 双 | CN15: 軍手 | CT15: 1 | CU15: 双 | CX15: 軍手 | DD15: 1 | DE15: 双 | DH15: 軍手 | DN15: 1 | DO15: 双 | DR15: 軍手 | DX15: 1 | DY15: 双 | EB15: 軍手 | EH15: 1 | EI15: 双
B16: ラップ | F16: 1 | G16: 本 | L16: ラップ | R16: 1 | S16: 本 | V16: ラップ | AB16: 1 | AC16: 本 | AF16: ラップ | AL16: 1 | AM16: 本 | AP16: ラップ | AV16: 1 | AW16: 本 | AZ16: ラップ | BF16: 1 | BG16: 本 | BJ16: ラップ | BP16: 1 | BQ16: 本 | BT16: ラップ | BZ16: 1 | CA16: 本 | CD16: ラップ | CJ16: 1 | CK16: 本 | CN16: ラップ | CT16: 1 | CU16: 本 | CX16: ラップ | DD16: 1 | DE16: 本 | DH16: ラップ | DN16: 1 | DO16: 本 | DR16: ラップ | DX16: 1 | DY16: 本 | EB16: ラップ | EH16: 1 | EI16: 本
B17: 嘔吐用ビニール袋 | F17: 20 | G17: 袋 | L17: 嘔吐用ビニール袋 | R17: 20 | S17: 袋 | V17: 嘔吐用ビニール袋 | AB17: 20 | AC17: 袋 | AF17: 嘔吐用ビニール袋 | AL17: 20 | AM17: 袋 | AP17: 嘔吐用ビニール袋 | AV17: 50 | AW17: 袋 | AZ17: 嘔吐用ビニール袋 | BF17: 50 | BG17: 袋 | BJ17: 嘔吐用ビニール袋 | BP17: 10 | BQ17: 袋 | BT17: 嘔吐用ビニール袋 | BZ17: 10 | CA17: 袋 | CD17: 嘔吐用ビニール袋 | CJ17: 10 | CK17: 袋 | CN17: 嘔吐用ビニール袋 | CT17: 10 | CU17: 袋 | CX17: 嘔吐用ビニール袋 | DD17: 10 | DE17: 袋 | DH17: 嘔吐用ビニール袋 | DN17: 10 | DO17: 袋 | DR17: 嘔吐用ビニール袋 | DX17: 10 | DY17: 袋 | EB17: 嘔吐用ビニール袋 | EH17: 10 | EI17: 袋
... B21: 血圧計 | F21: 1 | G21: 個 | L21: 血圧計 | R21: 1 | S21: 個 | V21: 血圧計 | AB21: 1 | AC21: 個 | AF21: 血圧計 | AL21: 1 | AM21: 個 | AP21: 血圧計 | AV21: 1 | AW21: 個 | AZ21: 血圧計 | BF21: 1 | BG21: 個 | BJ21: 血圧計 | BP21: 1 | BQ21: 個 | BT21: 血圧計 | BZ21: 1 | CA21: 個 | CD21: 血圧計 | CJ21: 1 | CK21: 個 | CN21: 血圧計 | CT21: 1 | CU21: 個 | CX21: 血圧計 | DD21: 1 | DE21: 個 | DH21: 血圧計 | DN21: 1 | DO21: 個 | DR21: 血圧計 | DX21: 1 | DY21: 個 | EB21: 血圧計 | EH21: 1 | EI21: 個

Sheet 救護備品
A1: 大津港 ターミナル | M1: 大津港 ターミナル | Y1: 大津 市民会館 | AK1: =Y1 -> 大津 市民会館 | AW1: 勤労 福祉会館 | BI1: 勤労 福祉会館 | BU1: ふれあい スポーツ センター | CG1: ふれあい スポーツ センター | CS1: 逢坂市民 センター | DE1: 平野市民 センター | DQ1: びわこ ボート | EC1: 草津 本部
C8: フェイスタオル | I8: 4 | J8: 枚 | AA8: フェイスタオル | AG8: 4 | AH8: 枚 | AY8: フェイスタオル | BE8: 4 | BF8: 枚 | BW8: フェイスタオル | CC8: 4 | CD8: 枚 | CU8: フェイスタオル | DA8: 4 | DB8: 枚 | DG8: フェイスタオル | DM8: 4 | DN8: 枚 | DS8: フェイスタオル | DY8: 4 | DZ8: 枚 | EE8: フェイスタオル | EK8: 4 | EL8: 枚
C9: ティッシュ | I9: 1 | J9: 箱 | AA9: ティッシュ | AG9: 1 | AH9: 箱 | AY9: ティッシュ | BE9: 1 | BF9: 箱 | BW9: ティッシュ | CC9: 1 | CD9: 箱 | CU9: ティッシュ | DA9: 1 | DB9: 箱 | DG9: ティッシュ | DM9: 1 | DN9: 箱 | DS9: ティッシュ | DY9: 1 | DZ9: 箱 | EE9: ティッシュ | EK9: 1 | EL9: 箱
C10: ペーパータオル | I10: 1 | J10: 組 | AA10: ペーパータオル | AG10: 1 | AH10: 組 | AY10: ペーパータオル | BE10: 1 | BF10: 組 | BW10: ペーパータオル | CC10: 1 | CD10: 組 | CU10: ペーパータオル | DA10: 1 | DB10: 組 | DG10: ペーパータオル | DM10: 1 | DN10: 組 | DS10: ペーパータオル | DY10: 1 | DZ10: 組 | EE10: ペーパータオル | EK10: 1 | EL10: 組
C11: 除菌ペーパー | I11: 1 | J11: 袋 | AA11: 除菌ペーパー | AG11: 1 | AH11: 袋 | AY11: 除菌ペーパー | BE11: 1 | BF11: 袋 | BW11: 除菌ペーパー | CC11: 1 | CD11: 袋 | CU11: 除菌ペーパー | DA11: 1 | DB11: 袋 | DG11: 除菌ペーパー | DM11: 1 | DN11: 袋 | DS11: 除菌ペーパー | DY11: 1 | DZ11: 袋 | EE11: 除菌ペーパー | EK11: 1 | EL11: 袋
C12: 介護用ビニール手袋 | I12: 10 | J12: 組 | AA12: 介護用ビニール手袋 | AG12: 10 | AH12: 組 | AY12: 介護用ビニール手袋 | BE12: 10 | BF12: 組 | BW12: 介護用ビニール手袋 | CC12: 10 | CD12: 組 | CU12: 介護用ビニール手袋 | DA12: 10 | DB12: 組 | DG12: 介護用ビニール手袋 | DM12: 10 | DN12: 組 | DS12: 介護用ビニール手袋 | DY12: 10 | DZ12: 組 | EE12: 介護用ビニール手袋 | EK12: 10 | EL12: 組
C13: 紙コップ | I13: 50 | J13: 個 | AA13: 紙コップ | AG13: 50 | AH13: 個 | AY13: 紙コップ | BE13: 50 | BF13: 個 | BW13: 紙コップ | CC13: 50 | CD13: 個 | CU13: 紙コップ | DA13: 100 | DB13: 個 | DG13: 紙コップ | DM13: 100 | DN13: 個 | DS13: 紙コップ | DY13: 50 | DZ13: 個 | EE13: 紙コップ | EK13: 50 | EL13: 個
C14: 軍手 | I14: 1 | J14: 双 | AA14: 軍手 | AG14: 1 | AH14: 双 | AY14: 軍手 | BE14: 1 | BF14: 双 | BW14: 軍手 | CC14: 1 | CD14: 双 | CU14: 軍手 | DA14: 1 | DB14: 双 | DG14: 軍手 | DM14: 1 | DN14: 双 | DS14: 軍手 | DY14: 1 | DZ14: 双 | EE14: 軍手 | EK14: 1 | EL14: 双
C15: ラップ | I15: 1 | J15: 本 | AA15: ラップ | AG15: 1 | AH15: 本 | AY15: ラップ | BE15: 1 | BF15: 本 | BW15: ラップ | CC15: 1 | CD15: 本 | CU15: ラップ | DA15: 1 | DB15: 本 | DG15: ラップ | DM15: 1 | DN15: 本 | DS15: ラップ | DY15: 1 | DZ15: 本 | EE15: ラップ | EK15: 1 | EL15: 本
C16: 嘔吐用ビニール袋 | I16: 20 | J16: 袋 | AA16: 嘔吐用ビニール袋 | AG16: 20 | AH16: 袋 | AY16: 嘔吐用ビニール袋 | BE16: 20 | BF16: 袋 | BW16: 嘔吐用ビニール袋 | CC16: 20 | CD16: 袋 | CU16: 嘔吐用ビニール袋 | DA16: 50 | DB16: 袋 | DG16: 嘔吐用ビニール袋 | DM16: 50 | DN16: 袋 | DS16: 嘔吐用ビニール袋 | DY16: 10 | DZ16: 袋 | EE16: 嘔吐用ビニール袋 | EK16: 10 | EL16: 袋
C17: ストロー | I17: 20 | J17: 本 | AA17: ストロー | AG17: 20 | AH17: 本 | AY17: ストロー | BE17: 20 | BF17: 本 | BW17: ストロー | CC17: 20 | CD17: 本 | CU17: ストロー | DA17: 20 | DB17: 本 | DG17: ストロー | DM17: 20 | DN17: 本 | DS17: ストロー | DY17: 20 | DZ17: 本 | EE17: ストロー | EK17: 20 | EL17: 本

Sheet クーラーボックス中身 (2)
A1: 業務用地 | M1: びわ湖ホール | Y1: 楽天 | AK1: 一般B | AW1: びわ湖 ホテル前 | BI1: 大津港 ターミナル | BU1: 大津 市民会館 | CG1: 勤労福祉 センター | CS1: 逢坂市民 センター | DE1: 平野市民 センター | DQ1: びわこ ボート | EC1: 草津本部 | EO1: におの浜 スポーツセンター | FA1: マリーナターミナル | FM1: 金麦
C8: 水 | I8: 24 | J8: 本 | O8: 水 | U8: 24 | V8: 本 | AA8: 水 | AG8: 24 | AH8: 本 | AM8: 水 | AS8: 24 | AT8: 本 | AY8: 水 | BE8: 24 | BF8: 本 | BK8: 水 | BQ8: 24 | BR8: 本 | BW8: 水 | CC8: 24 | CD8: 本 | CI8: 水 | CO8: 24 | CP8: 本 | CU8: 水 | DA8: 48 | DB8: 本 | DG8: 水 | DM8: 48 | DN8: 本 | DS8: 水 | DY8: 24 | DZ8: 本 | EE8: 水 | EK8: 24 | EL8: 本 | EQ8: 水 | EW8: 24 | EX8: 本 | FC8: 水 | FI8: 24 | FJ8: 本 | FM8: 氷 ５０貫
C9: OS-1 | I9: 10 | J9: 本 | O9: OS-1 | U9: 10 | V9: 本 | AA9: OS-1 | AG9: 10 | AH9: 本 | AM9: OS-1 | AS9: 10 | AT9: 本 | AY9: OS-1 | BE9: 10 | BF9: 本 | BK9: OS-1 | BQ9: 24 | BR9: 本 | BW9: OS-1 | CC9: 24 | CD9: 本 | CI9: OS-1 | CO9: 24 | CP9: 本 | CU9: OS-1 | DA9: 36 | DB9: 本 | DG9: OS-1 | DM9: 36 | DN9: 本 | DS9: OS-1 | DY9: 24 | DZ9: 本 | EE9: OS-1 | EK9: 24 | EL9: 本 | EQ9: OS-1 | EW9: 24 | EX9: 本 | FC9: OS-1 | FI9: 24 | FJ9: 本
C10: OS-1 ゼリー | I10: 10 | J10: 本 | O10: OS-1 ゼリー | U10: 10 | V10: 本 | AA10: OS-1 ゼリー | AG10: 10 | AH10: 本 | AM10: OS-1 ゼリー | AS10: 10 | AT10: 本 | AY10: OS-1 ゼリー | BE10: 10 | BF10: 本 | BK10: OS-1 ゼリー | BQ10: 10 | BR10: 本 | BW10: OS-1 ゼリー | CC10: 10 | CD10: 本 | CI10: OS-1 ゼリー | CO10: 10 | CP10: 本 | CU10: OS-1 ゼリー | DA10: 10 | DB10: 本 | DG10: OS-1 ゼリー | DM10: 10 | DN10: 本 | DS10: OS-1 ゼリー | DZ10: 本 | EE10: OS-1 ゼリー | EL10: 本 | EQ10: OS-1 ゼリー | EX10: 本 | FC10: OS-1 ゼリー | FJ10: 本 | FM10: ドライ １０ｋｇ
C11: アイスノン | I11: 3 | J11: 個 | O11: アイスノン | U11: 3 | V11: 個 | AA11: アイスノン | AG11: 3 | AH11: 個 | AM11: アイスノン | AS11: 3 | AT11: 個 | AY11: アイスノン | BE11: 3 | BF11: 個 | BK11: アイスノン | BQ11: 3 | BR11: 個 | BW11: アイスノン | CC11: 3 | CD11: 個 | CI11: アイスノン | CO11: 3 | CP11: 個 | CU11: アイスノン | DA11: 3 | DB11: 個 | DG11: アイスノン | DM11: 3 | DN11: 個 | DS11: アイスノン | DZ11: 個 | EE11: アイスノン | EL11: 個 | EQ11: アイスノン | EX11: 個 | FC11: アイスノン | FJ11: 個
C12: 保冷剤 | I12: 2 | J12: 個 | O12: 保冷剤 | U12: 2 | V12: 個 | AA12: 保冷剤 | AG12: 2 | AH12: 個 | AM12: 保冷剤 | AS12: 2 | AT12: 個 | AY12: 保冷剤 | BE12: 2 | BF12: 個 | BK12: 保冷剤（大） | BQ12: 2 | BR12: 個 | BW12: 保冷剤（大） | CC12: 2 | CD12: 個 | CI12: 保冷剤（大） | CO12: 2 | CP12: 個 | CU12: 保冷剤（大） | DA12: 2 | DB12: 個 | DG12: 保冷剤（大） | DM12: 2 | DN12: 個 | DS12: 保冷剤（大） | DZ12: 個 | EE12: 保冷剤（大） | EL12: 個 | EQ12: 保冷剤（大） | EX12: 個 | FC12: 保冷剤（大） | FJ12: 個
C13: 瞬間保冷パック | I13: 10 | J13: 個 | O13: 瞬間保冷パック | U13: 10 | V13: 個 | AA13: 瞬間保冷パック | AG13: 10 | AH13: 個 | AM13: 瞬間保冷パック | AS13: 10 | AT13: 個 | AY13: 瞬間保冷パック | BE13: 10 | BF13: 個 | BK13: 保冷剤（小） | BQ13: 10 | BR13: 個 | BW13: 保冷剤（小） | CC13: 10 | CD13: 個 | CI13: 保冷剤（小） | CO13: 10 | CP13: 個 | CU13: 保冷剤（小） | DA13: 10 | DB13: 個 | DG13: 保冷剤（小） | DM13: 10 | DN13: 個 | DS13: 保冷剤（小） | DZ13: 個 | EE13: 保冷剤（小） | EL13: 個 | EQ13: 保冷剤（小） | EX13: 個 | FC13: 保冷剤（小） | FJ13: 個 | FM13: ４個×１３ケース
C14: 氷 | I14: 4 | J14: 貫 | O14: 氷 | U14: 4 | V14: 貫 | AA14: 氷 | AG14: 4 | AH14: 貫 | AM14: 氷 | AS14: 4 | AT14: 貫 | AY14: 氷 | BE14: 4 | BF14: 貫 | BK14: 瞬間保冷パック | BR14: 個 | BW14: 瞬間保冷パック | CD14: 個 | CI14: 瞬間保冷パック | CP14: 個 | CU14: 瞬間保冷パック | DB14: 個 | DG14: 瞬間保冷パック | DN14: 個 | DS14: 瞬間保冷パック | DZ14: 個 | EE14: 瞬間保冷パック | EL14: 個 | EQ14: 瞬間保冷パック | EX14: 個 | FC14: 瞬間保冷パック | FJ14: 個
C15: ドライアイス | I15: 4 | J15: ㎏ | O15: ドライアイス | U15: 4 | V15: ㎏ | AA15: ドライアイス | AG15: 4 | AH15: ㎏ | AM15: ドライアイス | AS15: 4 | AT15: ㎏ | AY15: ドライアイス | BE15: 4 | BF15: ㎏ | BK15: 氷 | BQ15: 4 | BR15: 貫 | BW15: 氷 | CC15: 4 | CD15: 貫 | CI15: 氷 | CO15: 4 | CP15: 貫 | CU15: 氷 | DA15: 4 | DB15: 貫 | DG15: 氷 | DM15: 4 | DN15: 貫 | DS15: 氷 | DZ15: 貫 | EE15: 氷 | EL15: 貫 | EQ15: 氷 | EX15: 貫 | FC15: 氷 | FJ15: 貫

Sheet クーラーボックス中身
A1: 業務用地 | M1: 業務用地 | Y1: びわ湖ホール | AK1: =Y1 -> びわ湖ホール | AW1: 楽天 | BI1: =AW1 -> 楽天 | BU1: 一般B | CG1: =BU1 -> 一般B | CS1: びわ湖 ホテル前 | DE1: =CS1 -> びわ湖 ホテル前 | DQ1: ターミ ナル | EC1: =DQ1 -> ターミ ナル | EO1: 大津港 ターミナル | FA1: 大津港 ターミナル | FM1: 大津 市民会館 | FY1: =FM1 -> 大津 市民会館 | GK1: 勤労福祉 センター | GW1: =GK1 -> 勤労福祉 センター | HI1: 逢坂市民 センター | HU1: =HI1 -> 逢坂市民 センター | IG1: 平野市民 センター | IS1: =IG1 -> 平野市民 センター | JE1: びわこ ボート | JQ1: =JE1 -> びわこ ボート | KC1: 草津 本部 | KO1: =KC1 -> 草津 本部 | LA1: におの浜 スポーツセンター | LM1: =LA1 -> におの浜 スポーツセンター | LY1: マリーナターミナル | MK1: =LY1 -> マリーナターミナル
C8: 水 | I8: 24 | J8: 本 | AA8: 水 | AG8: 24 | AH8: 本 | AY8: 水 | BE8: 24 | BF8: 本 | BW8: 水 | CC8: 24 | CD8: 本 | CU8: 水 | DA8: 24 | DB8: 本 | DS8: 水 | DY8: 24 | DZ8: 本 | EQ8: 水 | EW8: 24 | EX8: 本 | FO8: 水 | FU8: 24 | FV8: 本 | GM8: 水 | GS8: 24 | GT8: 本 | HK8: 水 | HQ8: 48 | HR8: 本 | II8: 水 | IO8: 48 | IP8: 本 | JG8: 水 | JM8: 24 | JN8: 本 | KE8: 水 | KK8: 24 | KL8: 本 | LC8: 水 | LI8: 24 | LJ8: 本 | MA8: 水 | MG8: 24 | MH8: 本
C9: OS-1 | I9: 10 | J9: 本 | AA9: OS-1 | AG9: 10 | AH9: 本 | AY9: OS-1 | BE9: 10 | BF9: 本 | BW9: OS-1 | CC9: 10 | CD9: 本 | CU9: OS-1 | DA9: 10 | DB9: 本 | DS9: OS-1 | DY9: 10 | DZ9: 本 | EQ9: OS-1 | EW9: 24 | EX9: 本 | FO9: OS-1 | FU9: 24 | FV9: 本 | GM9: OS-1 | GS9: 24 | GT9: 本 | HK9: OS-1 | HQ9: 36 | HR9: 本 | II9: OS-1 | IO9: 36 | IP9: 本 | JG9: OS-1 | JM9: 24 | JN9: 本 | KE9: OS-1 | KK9: 24 | KL9: 本 | LC9: OS-1 | LI9: 24 | LJ9: 本 | MA9: OS-1 | MG9: 24 | MH9: 本
C10: OS-1 ゼリー | I10: 10 | J10: 本 | AA10: OS-1 ゼリー | AG10: 10 | AH10: 本 | AY10: OS-1 ゼリー | BE10: 10 | BF10: 本 | BW10: OS-1 ゼリー | CC10: 10 | CD10: 本 | CU10: OS-1 ゼリー | DA10: 10 | DB10: 本 | DS10: OS-1 ゼリー | DY10: 10 | DZ10: 本 | EQ10: OS-1 ゼリー | EW10: 10 | EX10: 本 | FO10: OS-1 ゼリー | FU10: 10 | FV10: 本 | GM10: OS-1 ゼリー | GS10: 10 | GT10: 本 | HK10: OS-1 ゼリー | HQ10: 10 | HR10: 本 | II10: OS-1 ゼリー | IO10: 10 | IP10: 本 | JG10: OS-1 ゼリー | JN10: 本 | KE10: OS-1 ゼリー | KL10: 本 | LC10: OS-1 ゼリー | LJ10: 本 | MA10: OS-1 ゼリー | MH10: 本
C11: アイスノン | I11: 3 | J11: 個 | AA11: アイスノン | AG11: 3 | AH11: 個 | AY11: アイスノン | BE11: 3 | BF11: 個 | BW11: アイスノン | CC11: 3 | CD11: 個 | CU11: アイスノン | DA11: 3 | DB11: 個 | DS11: アイスノン | DY11: 3 | DZ11: 個 | EQ11: アイスノン | EW11: 3 | EX11: 個 | FO11: アイスノン | FU11: 3 | FV11: 個 | GM11: アイスノン | GS11: 3 | GT11: 個 | HK11: アイスノン | HQ11: 3 | HR11: 個 | II11: アイスノン | IO11: 3 | IP11: 個 | JG11: アイスノン | JN11: 個 | KE11: アイスノン | KL11: 個 | LC11: アイスノン | LJ11: 個 | MA11: アイスノン | MH11: 個
C12: 保冷剤 | I12: 2 | J12: 個 | AA12: 保冷剤 | AG12: 2 | AH12: 個 | AY12: 保冷剤 | BE12: 2 | BF12: 個 | BW12: 保冷剤 | CC12: 2 | CD12: 個 | CU12: 保冷剤 | DA12: 2 | DB12: 個 | DS12: 保冷剤 | DY12: 2 | DZ12: 個 | EQ12: 保冷剤（大） | EW12: 2 | EX12: 個 | FO12: 保冷剤（大） | FU12: 2 | FV12: 個 | GM12: 保冷剤（大） | GS12: 2 | GT12: 個 | HK12: 保冷剤（大） | HQ12: 2 | HR12: 個 | II12: 保冷剤（大） | IO12: 2 | IP12: 個 | JG12: 保冷剤（大） | JN12: 個 | KE12: 保冷剤（大） | KL12: 個 | LC12: 保冷剤（大） | LJ12: 個 | MA12: 保冷剤（大） | MH12: 個
C13: 瞬間保冷パック | I13: 10 | J13: 個 | AA13: 瞬間保冷パック | AG13: 10 | AH13: 個 | AY13: 瞬間保冷パック | BE13: 10 | BF13: 個 | BW13: 瞬間保冷パック | CC13: 10 | CD13: 個 | CU13: 瞬間保冷パック | DA13: 10 | DB13: 個 | DS13: 瞬間保冷パック | DY13: 10 | DZ13: 個 | EQ13: 保冷剤（小） | EW13: 10 | EX13: 個 | FO13: 保冷剤（小） | FU13: 10 | FV13: 個 | GM13: 保冷剤（小） | GS13: 10 | GT13: 個 | HK13: 保冷剤（小） | HQ13: 10 | HR13: 個 | II13: 保冷剤（小） | IO13: 10 | IP13: 個 | JG13: 保冷剤（小） | JN13: 個 | KE13: 保冷剤（小） | KL13: 個 | LC13: 保冷剤（小） | LJ13: 個 | MA13: 保冷剤（小） | MH13: 個
C14: 氷 | I14: 4 | J14: 貫 | AA14: 氷 | AG14: 4 | AH14: 貫 | AY14: 氷 | BE14: 4 | BF14: 貫 | BW14: 氷 | CC14: 4 | CD14: 貫 | CU14: 氷 | DA14: 4 | DB14: 貫 | DS14: 氷 | DY14: 4 | DZ14: 貫 | EQ14: 瞬間保冷パック | EX14: 個 | FO14: 瞬間保冷パック | FV14: 個 | GM14: 瞬間保冷パック | GT14: 個 | HK14: 瞬間保冷パック | HR14: 個 | II14: 瞬間保冷パック | IP14: 個 | JG14: 瞬間保冷パック | JN14: 個 | KE14: 瞬間保冷パック | KL14: 個 | LC14: 瞬間保冷パック | LJ14: 個 | MA14: 瞬間保冷パック | MH14: 個
C15: ドライアイス | I15: 4 | J15: ㎏ | AA15: ドライアイス | AG15: 4 | AH15: ㎏ | AY15: ドライアイス | BE15: 4 | BF15: ㎏ | BW15: ドライアイス | CC15: 4 | CD15: ㎏ | CU15: ドライアイス | DA15: 4 | DB15: ㎏ | DS15: ドライアイス | DY15: 4 | DZ15: ㎏ | EQ15: 氷 | EW15: 4 | EX15: 貫 | FO15: 氷 | FU15: 4 | FV15: 貫 | GM15: 氷 | GS15: 4 | GT15: 貫 | HK15: 氷 | HQ15: 4 | HR15: 貫 | II15: 氷 | IO15: 4 | IP15: 貫 | JG15: 氷 | JN15: 貫 | KE15: 氷 | KL15: 貫 | LC15: 氷 | LJ15: 貫 | MA15: 氷 | MH15: 貫

Sheet Sheet1 (2)
A1: 業務 用地 | B1: =クーラーボックス中身!AK1 -> びわ湖ホール | C1: =クーラーボックス中身!BI1 -> 楽天 | D1: =クーラーボックス中身!CG1 -> 一般B | E1: =クーラーボックス中身!DE1 -> びわ湖 ホテル前 | F1: =クーラーボックス中身!FY1 -> 大津 市民会館 | G1: =クーラーボックス中身!GW1 -> 勤労福祉 センター | H1: =クーラーボックス中身!HU1 -> 逢坂市民 センター | I1: =クーラーボックス中身!IS1 -> 平野市民 センター | J1: =クーラーボックス中身!JQ1 -> びわこ ボート | K1: =クーラーボックス中身!KO1 -> 草津 本部

Sheet Sheet1 (3)
A1: 水 本 | B1: 水 本 | C1: 水 本
A2: におの浜スポーツセンター | B2: マリーナターミナル | C2: 大津港ターミナル
A3: OS-1 本 | B3: OS-1 本 | C3: OS-1 本
A4: =A2 -> におの浜スポーツセンター | B4: =B2 -> マリーナターミナル | C4: =C2 -> 大津港ターミナル
A5: ゼリー 本 | B5: ゼリー 本 | C5: ゼリー 本
A6: =A2 -> におの浜スポーツセンター | B6: =B4 -> マリーナターミナル | C6: =C4 -> 大津港ターミナル

Sheet OS
A1: 水 本 | B1: 水 本 | C1: 水 本 | D1: 水 本 | E1: 水 本 | F1: 水 本 | G1: 水 本 | H1: 水 本 | I1: 水 本 | J1: 水 本 | K1: 水 本 | L1: 水 本
A2: 業務 用地 | B2: =クーラーボックス中身!AK1 -> びわ湖ホール | C2: =クーラーボックス中身!BI1 -> 楽天 | D2: =クーラーボックス中身!CG1 -> 一般B | E2: 琵琶湖 ホテル前 | F2: =クーラーボックス中身!EC1 -> ターミ ナル | G2: 大津 市民会館 | H2: =クーラーボックス中身!GW1 -> 勤労福祉 センター | I2: =クーラーボックス中身!HU1 -> 逢坂市民 センター | J2: =クーラーボックス中身!IS1 -> 平野市民 センター | K2: =クーラーボックス中身!JQ1 -> びわこ ボート | L2: 草津本部
A3: OS-1 本 | B3: OS-2 本 | C3: OS-3 本 | D3: OS-4 本 | E3: OS-5 本 | F3: OS-6 本 | G3: OS-7 本 | H3: OS-8 本 | I3: OS-9 本 | J3: OS-10 本 | K3: OS-11 本 | L3: OS-12 本
A4: 業務 用地 | B4: =B2 -> びわ湖ホール | C4: =C2 -> 楽天 | D4: =D2 -> 一般B | E4: =E2 -> 琵琶湖 ホテル前 | F4: =F2 -> ターミ ナル | G4: 大津 市民会館 | H4: =H2 -> 勤労福祉 センター | I4: =I2 -> 逢坂市民 センター | J4: =J2 -> 平野市民 センター | K4: びわこ ボート | L4: =L2 -> 草津本部
A5: ゼリー 本 | B5: ゼリー 本 | C5: ゼリー 本 | D5: ゼリー 本 | E5: ゼリー 本 | F5: ゼリー 本 | G5: ゼリー 本 | H5: ゼリー 本 | I5: ゼリー 本 | J5: ゼリー 本 | K5: ゼリー 本 | L5: ゼリー 本
A6: 業務 用地 | B6: =B4 -> びわ湖ホール | C6: =C4 -> 楽天 | D6: =D4 -> 一般B | E6: =E4 -> 琵琶湖 ホテル前 | F6: =F2 -> ターミ ナル | G6: 大津 市民会館 | H6: =H4 -> 勤労福祉 センター | I6: =I4 -> 逢坂市民 センター | J6: =J4 -> 平野市民 センター | K6: びわこ ボート | L6: =L4 -> 草津本部

Sheet 速攻冷却 (3)
A1: 速攻冷却 個 | B1: =A1 -> 速攻冷却 個 | C1: =B1 -> 速攻冷却 個 | D1: =C1 -> 速攻冷却 個
A2: マリーナターミナル | B2: =A2 -> マリーナターミナル | C2: 大津港ターミナル | D2: =C2 -> 大津港ターミナル
A3: =A1 -> 速攻冷却 個 | B3: =A3 -> 速攻冷却 個 | C3: =B3 -> 速攻冷却 個 | D3: =C3 -> 速攻冷却 個
A4: ふれあいスポーツセンター | B4: =A4 -> ふれあいスポーツセンター | C4: びわこボート | D4: =C4 -> びわこボート
A5: アイスノン 個 | B5: =A5 -> アイスノン 個 | C5: =B5 -> アイスノン 個 | D5: =C5 -> アイスノン 個
A6: マリーナターミナル | B6: =A6 -> マリーナターミナル | C6: 大津港ターミナル | D6: =C6 -> 大津港ターミナル
A7: アイスノン 個 | B7: =A7 -> アイスノン 個 | C7: =B7 -> アイスノン 個 | D7: =C7 -> アイスノン 個
A8: ふれあいスポーツセンター | B8: =A8 -> ふれあいスポーツセンター | C8: びわこボート | D8: =C8 -> びわこボート
A9: OS-1 本 | B9: =A9 -> OS-1 本 | C9: =B9 -> OS-1 本 | D9: =C9 -> OS-1 本
A10: マリーナターミナル | B10: =A10 -> マリーナターミナル | C10: 大津港ターミナル | D10: =C10 -> 大津港ターミナル
A11: OS-1 本 | B11: =A11 -> OS-1 本 | C11: =B11 -> OS-1 本 | D11: =C11 -> OS-1 本
A12: ふれあいスポーツセンター | B12: =A12 -> ふれあいスポーツセンター | C12: びわこボート | D12: =C12 -> びわこボート
A13: ゼリー 本 | B13: =A13 -> ゼリー 本 | C13: =B13 -> ゼリー 本 | D13: =C13 -> ゼリー 本
A14: マリーナターミナル | B14: =A14 -> マリーナターミナル | C14: 大津港ターミナル | D14: =C14 -> 大津港ターミナル
A15: ゼリー 本 | B15: =A15 -> ゼリー 本 | C15: =B15 -> ゼリー 本 | D15: =C15 -> ゼリー 本
A16: ふれあいスポーツセンター | B16: =A16 -> ふれあいスポーツセンター | C16: びわこボート | D16: =C16 -> びわこボート
A17: ㈱CSILead | B17: ㈱CSILead | C17: ㈱CSILead | D17: ㈱CSILead
A19: ㈱CSILead | B19: ㈱CSILead | C19: ㈱CSILead | D19: ㈱CSILead
A21: ㈱CSILead | B21: ㈱CSILead | C21: ㈱CSILead | D21: ㈱CSILead
A23: ㈱CSILead | B23: ㈱CSILead | C23: ㈱CSILead | D23: ㈱CSILead

Sheet 速攻冷却 (2)
A1: 大津港 | B1: マリーナ ターミナル | C1: 草津本部
A3: 大津港 | B3: マリーナ ターミナル | C3: 草津本部
A5: 大津港 | B5: マリーナ ターミナル | C5: 草津本部
A7: びわこボート | B7: におの浜 スポーツ センター | C7: におの浜 スポーツ センター
A9: びわこボート | B9: におの浜 スポーツ センター | C9: におの浜 スポーツ センター
A11: びわこボート | B11: におの浜 スポーツ センター | C11: におの浜 スポーツ センター

Sheet 速攻冷却
A1: 速攻冷却 個 | B1: =A1 -> 速攻冷却 個 | C1: =B1 -> 速攻冷却 個 | D1: =C1 -> 速攻冷却 個
A2: 業務用地 | B2: =A2 -> 業務用地 | C2: 大津市民会館 | D2: =C2 -> 大津市民会館
A3: =A1 -> 速攻冷却 個 | B3: =A3 -> 速攻冷却 個 | C3: =B3 -> 速攻冷却 個 | D3: =C3 -> 速攻冷却 個
A4: ターミナル | B4: =A4 -> ターミナル | C4: 勤労福祉センター | D4: =C4 -> 勤労福祉センター
A5: =A1 -> 速攻冷却 個 | B5: =A5 -> 速攻冷却 個 | C5: =B5 -> 速攻冷却 個 | D5: =C5 -> 速攻冷却 個
A6: 楽天 | B6: =A6 -> 楽天 | C6: 逢坂市民センター | D6: =C6 -> 逢坂市民センター
A7: =A1 -> 速攻冷却 個 | B7: =A7 -> 速攻冷却 個 | C7: =B7 -> 速攻冷却 個 | D7: =C7 -> 速攻冷却 個
A8: びわ湖ホール | B8: =A8 -> びわ湖ホール | C8: 平野市民センター | D8: =C8 -> 平野市民センター
A9: =A1 -> 速攻冷却 個 | B9: =A9 -> 速攻冷却 個 | C9: =B9 -> 速攻冷却 個 | D9: =C9 -> 速攻冷却 個
A10: 一般B | B10: =A10 -> 一般B | C10: 平野市民センター | D10: =C10 -> 平野市民センター
A11: =A1 -> 速攻冷却 個 | B11: =A11 -> 速攻冷却 個
A12: 琵琶湖ホテル前 | B12: =A12 -> 琵琶湖ホテル前

Sheet アイスノンシル
A1: アイスノン 個 | B1: =A1 -> アイスノン 個 | C1: =B1 -> アイスノン 個 | D1: =C1 -> アイスノン 個
A2: 業務用地 | B2: =A2 -> 業務用地 | C2: 大津市民会館 | D2: =C2 -> 大津市民会館
A3: =A1 -> アイスノン 個 | B3: =A3 -> アイスノン 個 | C3: =B3 -> アイスノン 個 | D3: =C3 -> アイスノン 個
A4: ターミナル | B4: =A4 -> ターミナル | C4: 勤労福祉センター | D4: =C4 -> 勤労福祉センター
A5: =A1 -> アイスノン 個 | B5: =A5 -> アイスノン 個 | C5: =B5 -> アイスノン 個 | D5: =C5 -> アイスノン 個
A6: 楽天 | B6: =A6 -> 楽天 | C6: 逢坂市民センター | D6: =C6 -> 逢坂市民センター
A7: =A1 -> アイスノン 個 | B7: =A7 -> アイスノン 個 | C7: =B7 -> アイスノン 個 | D7: =C7 -> アイスノン 個
A8: びわ湖ホール | B8: =A8 -> びわ湖ホール | C8: 平野市民センター | D8: =C8 -> 平野市民センター
A9: =A1 -> アイスノン 個 | B9: =A9 -> アイスノン 個 | C9: =B9 -> アイスノン 個 | D9: =C9 -> アイスノン 個
A10: 一般B | B10: =A10 -> 一般B | C10: 平野市民センター | D10: =C10 -> 平野市民センター
A11: =A1 -> アイスノン 個 | B11: =A11 -> アイスノン 個
A12: 琵琶湖ホテル前 | B12: =A12 -> 琵琶湖ホテル前

Sheet 水シール
A1: 水 本 | B1: =A1 -> 水 本 | C1: =B1 -> 水 本 | D1: =C1 -> 水 本
A2: 業務用地 | B2: =A2 -> 業務用地 | C2: 大津市民会館 | D2: =C2 -> 大津市民会館
A3: =A1 -> 水 本 | B3: =A3 -> 水 本 | C3: =B3 -> 水 本 | D3: =C3 -> 水 本
A4: ターミナル | B4: =A4 -> ターミナル | C4: 勤労福祉センター | D4: =C4 -> 勤労福祉センター
A5: =A1 -> 水 本 | B5: =A5 -> 水 本 | C5: =B5 -> 水 本 | D5: =C5 -> 水 本
A6: 楽天 | B6: =A6 -> 楽天 | C6: 逢坂市民センター | D6: =C6 -> 逢坂市民センター
A7: =A1 -> 水 本 | B7: =A7 -> 水 本 | C7: =B7 -> 水 本 | D7: =C7 -> 水 本
A8: びわ湖ホール | B8: =A8 -> びわ湖ホール | C8: 平野市民センター | D8: =C8 -> 平野市民センター
A9: =A1 -> 水 本 | B9: =A9 -> 水 本 | C9: =B9 -> 水 本 | D9: =C9 -> 水 本
A10: 一般B | B10: =A10 -> 一般B | C10: 平野市民センター | D10: =C10 -> 平野市民センター
A11: =A1 -> 水 本 | B11: =A11 -> 水 本
A12: 琵琶湖ホテル前 | B12: =A12 -> 琵琶湖ホテル前

Sheet ゼリーシール
A1: ゼリー 本 | B1: =A1 -> ゼリー 本 | C1: =B1 -> ゼリー 本 | D1: =C1 -> ゼリー 本
A2: 業務用地 | B2: =A2 -> 業務用地 | C2: 大津市民会館 | D2: =C2 -> 大津市民会館
A3: =A1 -> ゼリー 本 | B3: =A3 -> ゼリー 本 | C3: =B3 -> ゼリー 本 | D3: =C3 -> ゼリー 本
A4: ターミナル | B4: =A4 -> ターミナル | C4: 勤労福祉センター | D4: =C4 -> 勤労福祉センター
A5: =A1 -> ゼリー 本 | B5: =A5 -> ゼリー 本 | C5: =B5 -> ゼリー 本 | D5: =C5 -> ゼリー 本
A6: 楽天 | B6: =A6 -> 楽天 | C6: 逢坂市民センター | D6: =C6 -> 逢坂市民センター
A7: =A1 -> ゼリー 本 | B7: =A7 -> ゼリー 本 | C7: =B7 -> ゼリー 本 | D7: =C7 -> ゼリー 本
A8: びわ湖ホール | B8: =A8 -> びわ湖ホール | C8: 平野市民センター | D8: =C8 -> 平野市民センター
A9: =A1 -> ゼリー 本 | B9: =A9 -> ゼリー 本 | C9: =B9 -> ゼリー 本 | D9: =C9 -> ゼリー 本
A10: 一般B | B10: =A10 -> 一般B | C10: 平野市民センター | D10: =C10 -> 平野市民センター
A11: =A1 -> ゼリー 本 | B11: =A11 -> ゼリー 本
A12: 琵琶湖ホテル前 | B12: =A12 -> 琵琶湖ホテル前

Sheet OS-1シール
A1: OS-1 本 | B1: =A1 -> OS-1 本 | C1: OS-1 本 | D1: =C1 -> OS-1 本
A2: 業務用地 | B2: =A2 -> 業務用地 | C2: 大津市民会館 | D2: =C2 -> 大津市民会館
A3: OS-1 本 | B3: =A3 -> OS-1 本 | C3: OS-1 本 | D3: =C3 -> OS-1 本
A4: ターミナル | B4: =A4 -> ターミナル | C4: 勤労福祉センター | D4: =C4 -> 勤労福祉センター
A5: OS-1 本 | B5: =A5 -> OS-1 本 | C5: OS-1 本 | D5: =C5 -> OS-1 本
A6: 楽天 | B6: =A6 -> 楽天 | C6: 逢坂市民センター | D6: =C6 -> 逢坂市民センター
A7: OS-1 本 | B7: =A7 -> OS-1 本 | C7: OS-1 本 | D7: =C7 -> OS-1 本
A8: びわ湖ホール | B8: =A8 -> びわ湖ホール | C8: 平野市民センター | D8: =C8 -> 平野市民センター
A9: OS-1 本 | B9: =A9 -> OS-1 本 | C9: OS-1 本 | D9: =C9 -> OS-1 本
A10: 一般B | B10: =A10 -> 一般B | C10: 平野市民センター | D10: =C10 -> 平野市民センター
A11: OS-1 本 | B11: =A11 -> OS-1 本
A12: 琵琶湖ホテル前 | B12: =A12 -> 琵琶湖ホテル前

Sheet ジム予定表
A1: びわ湖花火大会の事務方準備要綱
A2: 1 | B2: 椅子シート作成
A3: 2 | B3: タオル・タオルケット類洗濯（クリーニング）
A4: 3 | B4: 救護備品の確認
A5: 4 | B5: 氷・ドライアイスの発注
A6: 5 | B6: 飲料の発注
A7: 6 | B7: お弁当の発注
A8: 7 | B8: 各ホテルにファックス（ホテル宿泊の再確認）
A9: 8 | B9: 懐中電灯類の確認（電池など）
A10: 9
A11: 10
A12: 11
A13: 12
A14: 13
A15: 14
A16: 15

Sheet Sheet6 (2)
A1: 大晃 | B1: 8 | N1: =SUM(B1:M1) -> 8
A2: ㈱プラスワン | B2: 6 | N2: =SUM(B2:M2) -> 6
A3: KS | B3: 10 | N3: =SUM(B3:M3) -> 10
A4: ライズ | B4: 1 | N4: =SUM(B4:M4) -> 1
A5: アソビ | B5: 30 | C5: 5 | N5: =SUM(B5:M5) -> 35
A6: トラスト | B6: 8 | N6: =SUM(B6:M6) -> 8
A7: レイクサイド | B7: 12 | N7: =SUM(B7:M7) -> 12
A8: フソ | B8: 2 | C8: 13 | N8: =SUM(B8:M8) -> 15
A9: 富士総合 | B9: 7 | N9: =SUM(B9:M9) -> 7
A10: ルートワン | B10: 15 | N10: =SUM(B10:M10) -> 15
A11: ゼロ | B11: 7 | C11: 2 | N11: =SUM(B11:M11) -> 9
A12: コナン | B12: 7 | N12: =SUM(B12:M12) -> 7
A13: 東洋ワーク（大阪） | B13: 3 | N13: =SUM(B13:M13) -> 3
A14: アダムス | B14: 6 | C14: 28 | N14: =SUM(B14:M14) -> 34
A15: 江州 | B15: 10 | N15: =SUM(B15:M15) -> 10
A16: コスモ | B16: 8 | N16: =SUM(B16:M16) -> 8
A17: オウミ | B17: 16 | N17: =SUM(B17:M17) -> 16
A18: シンリュウ | B18: 46 | C18: 5 | N18: =SUM(B18:M18) -> 51
A19: K2 | B19: 3 | C19: 6 | D19: 14 | E19: 25 | N19: =SUM(B19:M19) -> 48
A20: プラスワン㈱ | B20: 6 | N20: =SUM(B20:M20) -> 6
A21: エース | B21: 30 | C21: 7 | D21: 6 | E21: 13 | N21: =SUM(B21:M21) -> 56
A22: サンエス | B22: 17 | N22: =SUM(B22:M22) -> 17
A23: NSS | B23: 25 | N23: =SUM(B23:M23) -> 25
A24: エムティー | B24: 35 | N24: =SUM(B24:M24) -> 35
A25: 兵庫警備 | B25: 7 | N25: =SUM(B25:M25) -> 7
A26: 西部総合 | B26: 30 | N26: =SUM(B26:M26) -> 30
A27: ドリーム | B27: 1 | C27: 8 | N27: =SUM(B27:M27) -> 9
A28: ジャパン | B28: 1 | C28: 4 | N28: =SUM(B28:M28) -> 5
A29: 東洋ワーク（草津） | B29: 5 | N29: =SUM(B29:M29) -> 5
A30: セノン | B30: 43 | N30: =SUM(B30:M30) -> 43
A31: カンパト | B31: 60 | C31: 36 | D31: 1 | N31: =SUM(B31:M31) -> 97
A32: シンテイ | B32: 12 | N32: =SUM(B32:M32) -> 12
A33: コトナ | B33: 8 | C33: 17 | D33: 15 | E33: 6 | F33: 40 | G33: 46 | H33: 46 | I33: 22 | J33: 1 | K33: 15 | N33: =SUM(B33:M33) -> 216
A34: イーフロ | B34: 1 | C34: 9 | N34: =SUM(B34:M34) -> 10
A35: 京阪ビル | B35: 5 | N35: =SUM(B35:M35) -> 5
A36: アールシー | B36: 11 | N36: =SUM(B36:M36) -> 11
M37: =SUM(N1:N36) -> 892

Sheet Sheet6
A1: 大晃 | B1: 8 | N1: =SUM(B1:M1) -> 8
A2: ㈱プラスワン | B2: 6 | C2: 6 | N2: =SUM(B2:M2) -> 12
A3: KS | B3: 10 | N3: =SUM(B3:M3) -> 10
A4: ライズ | B4: 1 | N4: =SUM(B4:M4) -> 1
A5: アソビ | B5: 30 | C5: 5 | N5: =SUM(B5:M5) -> 35
A6: トラスト | B6: 9 | C6: 8 | N6: =SUM(B6:M6) -> 17
A7: レイクサイド | B7: 12 | N7: =SUM(B7:M7) -> 12
A8: フソ | B8: 2 | C8: 13 | N8: =SUM(B8:M8) -> 15
A9: 富士総合 | B9: 7 | N9: =SUM(B9:M9) -> 7
A10: ルートワン | B10: 15 | N10: =SUM(B10:M10) -> 15
A11: ゼロ | B11: 6 | C11: 2 | N11: =SUM(B11:M11) -> 8
A12: コナン | B12: 7 | N12: =SUM(B12:M12) -> 7
A13: 東洋ワーク（大阪） | B13: 3 | N13: =SUM(B13:M13) -> 3
A14: アダムス | B14: 6 | C14: 28 | N14: =SUM(B14:M14) -> 34
A15: 江州 | B15: 10 | N15: =SUM(B15:M15) -> 10
A16: コスモ | B16: 8 | N16: =SUM(B16:M16) -> 8
A17: オウミ | B17: 15 | N17: =SUM(B17:M17) -> 15
A18: シンリュウ | B18: 46 | C18: 5 | N18: =SUM(B18:M18) -> 51
A19: K2 | B19: 3 | C19: 6 | D19: 14 | E19: 25 | N19: =SUM(B19:M19) -> 48
A20: プラスワン㈱ | B20: 6 | N20: =SUM(B20:M20) -> 6
A21: エース | B21: 30 | C21: 7 | D21: 6 | E21: 13 | N21: =SUM(B21:M21) -> 56
A22: サンエス | B22: 17 | C22: 17 | N22: =SUM(B22:M22) -> 34
A23: NSS | B23: 25 | C23: 25 | N23: =SUM(B23:M23) -> 50
A24: エムティー | B24: 35 | C24: 35 | N24: =SUM(B24:M24) -> 70
A25: 兵庫警備 | B25: 7 | N25: =SUM(B25:M25) -> 7
A26: 西部総合 | B26: 30 | N26: =SUM(B26:M26) -> 30
A27: ドリーム | B27: 1 | C27: 8 | N27: =SUM(B27:M27) -> 9
A28: ジャパン | B28: 1 | C28: 4 | N28: =SUM(B28:M28) -> 5
A29: 東洋ワーク（草津） | B29: 6 | N29: =SUM(B29:M29) -> 6
A30: セノン | B30: 43 | N30: =SUM(B30:M30) -> 43
A31: カンパト | B31: 60 | C31: 36 | D31: 1 | N31: =SUM(B31:M31) -> 97
A32: シンテイ | B32: 12 | N32: =SUM(B32:M32) -> 12
A33: コトナ | B33: 8 | C33: 17 | D33: 15 | E33: 35 | F33: 65 | G33: 7 | H33: 40 | I33: 46 | J33: 46 | K33: 15 | L33: 22 | M33: 1 | N33: =SUM(B33:M33) -> 317
A34: イーフロ | B34: 1 | C34: 9 | N34: =SUM(B34:M34) -> 10
A35: 京阪ビル | B35: 5 | N35: =SUM(B35:M35) -> 5
A36: アールシー | B36: 11 | N36: =SUM(B36:M36) -> 11
M37: =SUM(N1:N36) -> 1084
