Workbook

Sheet シフト表原本
A1: 2026 | C1: ◄年を入力してください | G1: #add8e6 新盛 | H1: #87ceeb 扶蘇 | I1: #a8e6cf 山村 | J1: #98fb98 日伸 | K1: #ffd8b1 エスアール | L1: #ffb6a3 前田建設 | M1: #d2d2f6 岡崎組 | N1: #b8a0d4 ケイズ | O1: #b0c4de 大洋 | P1: #9acd32 エスコン | Q1: #ffff75 松林 | R1: #3D9BF1 管清 | S1: #fa8072 コーヨーテック
A2: 10 | C2: ◄月を選択してください | G2: #f06a8a イベント
B4: =TEXT(DATE($A$1,$A$2,COLUMN(A1)),"d") -> 1 | C4: =TEXT(DATE($A$1,$A$2,COLUMN(B1)),"d") -> 2 | D4: =TEXT(DATE($A$1,$A$2,COLUMN(C1)),"d") -> 3 | E4: =TEXT(DATE($A$1,$A$2,COLUMN(D1)),"d") -> 4 | F4: =TEXT(DATE($A$1,$A$2,COLUMN(E1)),"d") -> 5 | G4: =TEXT(DATE($A$1,$A$2,COLUMN(F1)),"d") -> 6 | H4: =TEXT(DATE($A$1,$A$2,COLUMN(G1)),"d") -> 7 | I4: =TEXT(DATE($A$1,$A$2,COLUMN(H1)),"d") -> 8 | ... AF4: =TEXT(DATE($A$1,$A$2,COLUMN(AE1)),"d") -> 31 | AH4: 企業一覧 | AI4: ※増えれば都度追加していくこと
B5: =TEXT(DATE($A$1,$A$2,COLUMN(A2)),"aaa") -> 木 | C5: =TEXT(DATE($A$1,$A$2,COLUMN(B2)),"aaa") -> 金 | D5: =TEXT(DATE($A$1,$A$2,COLUMN(C2)),"aaa") -> 土 | E5: =TEXT(DATE($A$1,$A$2,COLUMN(D2)),"aaa") -> 日 | F5: =TEXT(DATE($A$1,$A$2,COLUMN(E2)),"aaa") -> 月 | G5: =TEXT(DATE($A$1,$A$2,COLUMN(F2)),"aaa") -> 火 | H5: =TEXT(DATE($A$1,$A$2,COLUMN(G2)),"aaa") -> 水 | I5: =TEXT(DATE($A$1,$A$2,COLUMN(H2)),"aaa") -> 木 | ... AF5: =TEXT(DATE($A$1,$A$2,COLUMN(AE2)),"aaa") -> 土 | AH5: 新盛,扶蘇,山村,日神,エスアール,前建,岡崎,ケイズ,大洋,エスコン,コーヨー,松林,管清
A6: 大崎 和哉
A7: 大崎 宏稀
A8: 油谷 州昭
A9: 伊藤 優希
A10: 香山 満
A11: 畑中 幸雄
A12: 岡本 善信
A13: 田中 英樹
A14: 霞末 英一
A15: 新澤 健男
A16: 山本 茂樹
A17: 山本 善樹
... A21: 山中 友子
A29: 新盛 | B29: =COUNTIF(B$6:B$28,"新盛") -> 0 | C29: =COUNTIF(C$6:C$28,"新盛") -> 0 | D29: =COUNTIF(D$6:D$28,"新盛") -> 0 | E29: =COUNTIF(E$6:E$28,"新盛") -> 0 | F29: =COUNTIF(F$6:F$28,"新盛") -> 0 | G29: =COUNTIF(G$6:G$28,"新盛") -> 0 | H29: =COUNTIF(H$6:H$28,"新盛") -> 0 | I29: =COUNTIF(I$6:I$28,"新盛") -> 0 | ... AF29: =COUNTIF(AF$6:AF$28,"新盛") -> 0
A30: 扶蘇 | B30: =COUNTIF(B$6:B$28,"扶蘇") -> 0 | C30: =COUNTIF(C$6:C$28,"扶蘇") -> 0 | D30: =COUNTIF(D$6:D$28,"扶蘇") -> 0 | E30: =COUNTIF(E$6:E$28,"扶蘇") -> 0 | F30: =COUNTIF(F$6:F$28,"扶蘇") -> 0 | G30: =COUNTIF(G$6:G$28,"扶蘇") -> 0 | H30: =COUNTIF(H$6:H$28,"扶蘇") -> 0 | I30: =COUNTIF(I$6:I$28,"扶蘇") -> 0 | ... AF30: =COUNTIF(AF$6:AF$28,"扶蘇") -> 0
A31: 山村 | B31: =COUNTIF(B$6:B$28,"山村") -> 0 | C31: =COUNTIF(C$6:C$28,"山村") -> 0 | D31: =COUNTIF(D$6:D$28,"山村") -> 0 | E31: =COUNTIF(E$6:E$28,"山村") -> 0 | F31: =COUNTIF(F$6:F$28,"山村") -> 0 | G31: =COUNTIF(G$6:G$28,"山村") -> 0 | H31: =COUNTIF(H$6:H$28,"山村") -> 0 | I31: =COUNTIF(I$6:I$28,"山村") -> 0 | ... AF31: =COUNTIF(AF$6:AF$28,"山村") -> 0
A32: 日伸 | B32: =COUNTIF(B$6:B$28,"日伸") -> 0 | C32: =COUNTIF(C$6:C$28,"日伸") -> 0 | D32: =COUNTIF(D$6:D$28,"日伸") -> 0 | E32: =COUNTIF(E$6:E$28,"日伸") -> 0 | F32: =COUNTIF(F$6:F$28,"日伸") -> 0 | G32: =COUNTIF(G$6:G$28,"日伸") -> 0 | H32: =COUNTIF(H$6:H$28,"日伸") -> 0 | I32: =COUNTIF(I$6:I$28,"日伸") -> 0 | ... AF32: =COUNTIF(AF$6:AF$28,"日伸") -> 0
A33: エスアール | B33: =COUNTIF(B$6:B$28,"エス") -> 0 | C33: =COUNTIF(C$6:C$28,"エス") -> 0 | D33: =COUNTIF(D$6:D$28,"エス") -> 0 | E33: =COUNTIF(E$6:E$28,"エス") -> 0 | F33: =COUNTIF(F$6:F$28,"エス") -> 0 | G33: =COUNTIF(G$6:G$28,"エス") -> 0 | H33: =COUNTIF(H$6:H$28,"エス") -> 0 | I33: =COUNTIF(I$6:I$28,"エス") -> 0 | ... AF33: =COUNTIF(AF$6:AF$28,"エス") -> 0
A34: 前建 | B34: =COUNTIF(B$6:B$28,"前建") -> 0 | C34: =COUNTIF(C$6:C$28,"前建") -> 0 | D34: =COUNTIF(D$6:D$28,"前建") -> 0 | E34: =COUNTIF(E$6:E$28,"前建") -> 0 | F34: =COUNTIF(F$6:F$28,"前建") -> 0 | G34: =COUNTIF(G$6:G$28,"前建") -> 0 | H34: =COUNTIF(H$6:H$28,"前建") -> 0 | I34: =COUNTIF(I$6:I$28,"前建") -> 0 | ... AF34: =COUNTIF(AF$6:AF$28,"前建") -> 0
A35: 岡崎 | B35: =COUNTIF(B$6:B$28,"岡崎") -> 0 | C35: =COUNTIF(C$6:C$28,"岡崎") -> 0 | D35: =COUNTIF(D$6:D$28,"岡崎") -> 0 | E35: =COUNTIF(E$6:E$28,"岡崎") -> 0 | F35: =COUNTIF(F$6:F$28,"岡崎") -> 0 | G35: =COUNTIF(G$6:G$28,"岡崎") -> 0 | H35: =COUNTIF(H$6:H$28,"岡崎") -> 0 | I35: =COUNTIF(I$6:I$28,"岡崎") -> 0 | ... AF35: =COUNTIF(AF$6:AF$28,"岡崎") -> 0
A36: ケイズ | B36: =COUNTIF(B$6:B$28,"大洋") -> 0 | C36: =COUNTIF(C$6:C$28,"大洋") -> 0 | D36: =COUNTIF(D$6:D$28,"大洋") -> 0 | E36: =COUNTIF(E$6:E$28,"大洋") -> 0 | F36: =COUNTIF(F$6:F$28,"大洋") -> 0 | G36: =COUNTIF(G$6:G$28,"大洋") -> 0 | H36: =COUNTIF(H$6:H$28,"大洋") -> 0 | I36: =COUNTIF(I$6:I$28,"大洋") -> 0 | ... AF36: =COUNTIF(AF$6:AF$28,"大洋") -> 0
A37: 大洋 | B37: =COUNTIF(B$6:B$28,"ケイズ") -> 0 | C37: =COUNTIF(C$6:C$28,"ケイズ") -> 0 | D37: =COUNTIF(D$6:D$28,"ケイズ") -> 0 | E37: =COUNTIF(E$6:E$28,"ケイズ") -> 0 | F37: =COUNTIF(F$6:F$28,"ケイズ") -> 0 | G37: =COUNTIF(G$6:G$28,"ケイズ") -> 0 | H37: =COUNTIF(H$6:H$28,"ケイズ") -> 0 | I37: =COUNTIF(I$6:I$28,"ケイズ") -> 0 | ... AF37: =COUNTIF(AF$6:AF$28,"ケイズ") -> 0
A38: エスコン | B38: =COUNTIF(B$6:B$28,"エスコン") -> 0 | C38: =COUNTIF(C$6:C$28,"エスコン") -> 0 | D38: =COUNTIF(D$6:D$28,"エスコン") -> 0 | E38: =COUNTIF(E$6:E$28,"エスコン") -> 0 | F38: =COUNTIF(F$6:F$28,"エスコン") -> 0 | G38: =COUNTIF(G$6:G$28,"エスコン") -> 0 | H38: =COUNTIF(H$6:H$28,"エスコン") -> 0 | I38: =COUNTIF(I$6:I$28,"エスコン") -> 0 | ... AF38: =COUNTIF(AF$6:AF$28,"エスコン") -> 0
A39: 松林 | B39: =COUNTIF(B$6:B$28,"松林") -> 0 | C39: =COUNTIF(C$6:C$28,"松林") -> 0 | D39: =COUNTIF(D$6:D$28,"松林") -> 0 | E39: =COUNTIF(E$6:E$28,"松林") -> 0 | F39: =COUNTIF(F$6:F$28,"松林") -> 0 | G39: =COUNTIF(G$6:G$28,"松林") -> 0 | H39: =COUNTIF(H$6:H$28,"松林") -> 0 | I39: =COUNTIF(I$6:I$28,"松林") -> 0 | ... AF39: =COUNTIF(AF$6:AF$28,"松林") -> 0
A40: 管清 | B40: =COUNTIF(B$6:B$28,"管清") -> 0 | C40: =COUNTIF(C$6:C$28,"管清") -> 0 | D40: =COUNTIF(D$6:D$28,"管清") -> 0 | E40: =COUNTIF(E$6:E$28,"管清") -> 0 | F40: =COUNTIF(F$6:F$28,"管清") -> 0 | G40: =COUNTIF(G$6:G$28,"管清") -> 0 | H40: =COUNTIF(H$6:H$28,"管清") -> 0 | I40: =COUNTIF(I$6:I$28,"管清") -> 0 | ... AF40: =COUNTIF(AF$6:AF$28,"管清") -> 0
A41: コーヨー | B41: =COUNTIF(B$6:B$28,"コーヨー") -> 0 | C41: =COUNTIF(C$6:C$28,"コーヨー") -> 0 | D41: =COUNTIF(D$6:D$28,"コーヨー") -> 0 | E41: =COUNTIF(E$6:E$28,"コーヨー") -> 0 | F41: =COUNTIF(F$6:F$28,"コーヨー") -> 0 | G41: =COUNTIF(G$6:G$28,"コーヨー") -> 0 | H41: =COUNTIF(H$6:H$28,"コーヨー") -> 0 | I41: =COUNTIF(I$6:I$28,"コーヨー") -> 0 | ... AF41: =COUNTIF(AF$6:AF$28,"コーヨー") -> 0
A42: イベント | B42: =COUNTIF(B$6:B$28,"イベント") -> 0 | C42: =COUNTIF(C$6:C$28,"イベント") -> 0 | D42: =COUNTIF(D$6:D$28,"イベント") -> 0 | E42: =COUNTIF(E$6:E$28,"イベント") -> 0 | F42: =COUNTIF(F$6:F$28,"イベント") -> 0 | G42: =COUNTIF(G$6:G$28,"イベント") -> 0 | H42: =COUNTIF(H$6:H$28,"イベント") -> 0 | I42: =COUNTIF(I$6:I$28,"イベント") -> 0 | ... AF42: =COUNTIF(AF$6:AF$28,"イベント") -> 0
B43: =TEXT(DATE($A$1,$A$2,COLUMN(A35)),"d") -> 1 | C43: =TEXT(DATE($A$1,$A$2,COLUMN(B35)),"d") -> 2 | D43: =TEXT(DATE($A$1,$A$2,COLUMN(C35)),"d") -> 3 | E43: =TEXT(DATE($A$1,$A$2,COLUMN(D35)),"d") -> 4 | F43: =TEXT(DATE($A$1,$A$2,COLUMN(E35)),"d") -> 5 | G43: =TEXT(DATE($A$1,$A$2,COLUMN(F35)),"d") -> 6 | H43: =TEXT(DATE($A$1,$A$2,COLUMN(G35)),"d") -> 7 | I43: =TEXT(DATE($A$1,$A$2,COLUMN(H35)),"d") -> 8 | ... AF43: =TEXT(DATE($A$1,$A$2,COLUMN(AE35)),"d") -> 31
B44: =TEXT(DATE($A$1,$A$2,COLUMN(A36)),"aaa") -> 木 | C44: =TEXT(DATE($A$1,$A$2,COLUMN(B36)),"aaa") -> 金 | D44: =TEXT(DATE($A$1,$A$2,COLUMN(C36)),"aaa") -> 土 | E44: =TEXT(DATE($A$1,$A$2,COLUMN(D36)),"aaa") -> 日 | F44: =TEXT(DATE($A$1,$A$2,COLUMN(E36)),"aaa") -> 月 | G44: =TEXT(DATE($A$1,$A$2,COLUMN(F36)),"aaa") -> 火 | H44: =TEXT(DATE($A$1,$A$2,COLUMN(G36)),"aaa") -> 水 | I44: =TEXT(DATE($A$1,$A$2,COLUMN(H36)),"aaa") -> 木 | ... AF44: =TEXT(DATE($A$1,$A$2,COLUMN(AE36)),"aaa") -> 土
A50: 祝日数 | B50: =COUNTIF(祝日データ!$B$2:$B$20,DATE(シフト表原本!$A$1,シフト表原本!$A$2,シフト表原本!B$4)) -> 0 | C50: =COUNTIF(祝日データ!$B$2:$B$20,DATE(シフト表原本!$A$1,シフト表原本!$A$2,シフト表原本!C$4)) -> 0 | D50: =COUNTIF(祝日データ!$B$2:$B$20,DATE(シフト表原本!$A$1,シフト表原本!$A$2,シフト表原本!D$4)) -> 0 | E50: =COUNTIF(祝日データ!$B$2:$B$20,DATE(シフト表原本!$A$1,シフト表原本!$A$2,シフト表原本!E$4)) -> 0 | F50: =COUNTIF(祝日データ!$B$2:$B$20,DATE(シフト表原本!$A$1,シフト表原本!$A$2,シフト表原本!F$4)) -> 0 | G50: =COUNTIF(祝日データ!$B$2:$B$20,DATE(シフト表原本!$A$1,シフト表原本!$A$2,シフト表原本!G$4)) -> 0 | H50: =COUNTIF(祝日データ!$B$2:$B$20,DATE(シフト表原本!$A$1,シフト表原本!$A$2,シフト表原本!H$4)) -> 0 | I50: =COUNTIF(祝日データ!$B$2:$B$20,DATE(シフト表原本!$A$1,シフト表原本!$A$2,シフト表原本!I$4)) -> 0 | ... AF50: =COUNTIF(祝日データ!$B$2:$B$20,DATE(シフト表原本!$A$1,シフト表原本!$A$2,シフト表原本!AF$4)) -> 0

Sheet 祝日データ
B1: 2025 | C1: 2026 | D1: 2027 | E1: 2028 | F1: 2029 | G1: 2030 | H1: 2031 | I1: 2032 | J1: 2033 | K1: 2034 | L1: 2035 | M1: 2036 | N1: 2037
A2: 1 | B2: 45658 | C2: 46023 | D2: 46388 | E2: 46753 | F2: 47119 | G2: 47484 | H2: 47849 | I2: 48214 | J2: 48580 | K2: 48945 | L2: 49310 | M2: 49675 | N2: 50041
A3: 2 | B3: 45670 | C3: 46034 | D3: 46398 | E3: 46762 | F3: 47126 | G3: 47497 | H3: 47861 | I3: 48225 | J3: 48589 | K3: 48946 | L3: 49317 | M3: 49688 | N3: 50052
A4: 3 | B4: 45699 | C4: 46064 | D4: 46429 | E4: 46794 | F4: 47160 | G4: 47525 | H4: 47890 | I4: 48255 | J4: 48621 | K4: 48953 | L4: 49351 | M4: 49716 | N4: 50082
A5: 4 | B5: 45711 | C5: 46076 | D5: 46441 | E5: 46806 | F5: 47161 | G5: 47537 | H5: 47902 | I5: 48267 | J5: 48633 | K5: 48986 | L5: 49352 | M5: 49728 | N5: 50094
A6: 5 | B6: 45712 | C6: 46101 | D6: 46467 | E6: 46832 | F6: 47172 | G6: 47562 | H6: 47903 | I6: 48293 | J6: 48658 | K6: 48998 | L6: 49363 | M6: 49754 | N6: 50119
A7: 6 | B7: 45736 | C7: 46141 | D7: 46468 | E7: 46872 | F7: 47197 | G7: 47602 | H7: 47928 | I7: 48333 | J7: 48659 | K7: 49023 | L7: 49389 | M7: 49794 | N7: 50159
A8: 7 | B8: 45776 | C8: 46145 | D8: 46506 | E8: 46876 | F8: 47237 | G8: 47606 | H8: 47967 | I8: 48337 | J8: 48698 | K8: 49063 | L8: 49428 | M8: 49798 | N8: 50163
A9: 8 | B9: 45780 | C9: 46146 | D9: 46510 | E9: 46877 | F9: 47238 | G9: 47607 | H9: 47971 | I9: 48338 | J9: 48702 | K9: 49067 | L9: 49429 | M9: 49799 | N9: 50164
A10: 9 | B10: 45781 | C10: 46147 | D10: 46511 | E10: 46878 | F10: 47241 | G10: 47608 | H10: 47972 | I10: 48339 | J10: 48703 | K10: 49068 | L10: 49432 | M10: 49800 | N10: 50165
A11: 10 | B11: 45782 | C11: 46148 | D11: 46512 | E11: 46951 | F11: 47242 | G11: 47609 | H11: 47973 | I11: 48414 | J11: 48704 | K11: 49069 | L11: 49433 | M11: 49801 | N11: 50166
A12: 11 | B12: 45783 | C12: 46223 | D12: 46587 | E12: 46976 | F12: 47243 | G12: 47679 | H12: 47974 | I12: 48437 | J12: 48778 | K12: 49142 | L12: 49434 | M12: 49877 | N12: 50241
A13: 12 | B13: 45859 | C13: 46245 | D13: 46610 | E13: 47014 | F13: 47315 | G13: 47706 | H13: 48050 | I13: 48477 | J13: 48802 | K13: 49167 | L13: 49506 | M13: 49898 | N13: 50263
... A17: 16 | B17: 45943 | C17: 46307 | D17: 46694 | E17: 47080 | F17: 47385 | G17: 47770 | H17: 48134 | I17: 48521 | J17: 48886 | K17: 49251 | L17: 49576 | M17: 49982 | N17: 50325
A18: 17 | B18: 45964 | C18: 46329 | D18: 46714 | F18: 47399 | G18: 47790 | H18: 48155 | I18: 48541 | J18: 48906 | K18: 49271 | L18: 49590 | M18: 50002 | N18: 50347
A19: 18 | B19: 45984 | C19: 46349 | F19: 47425 | G19: 47791 | H19: 48175 | L19: 49616 | M19: 50003 | N19: 50367
A20: 19 | B20: 45985 | F20: 47445 | G20: 47810 | H20: 48176 | L20: 49636
