Workbook

Sheet 2026
C7: 警備区若しくは部署名 | N7: 県職計 | X7: 市職計 | AH7: ＢＶＢ計 | AR7: 警備員計 | AY7: 合計
C8: =A46 -> 運営本部・本部警備区 | N8: =E142 -> 45 | X8: =G142 -> 15 | AH8: =I142 -> 31 | AR8: =K142 -> 2 | AY8: =SUM(N8:AX8) -> 93
C9: =A144 -> 本部直轄遊撃隊 | N9: =E256 -> 0 | X9: =G256 -> 0 | AH9: =I256 -> 0 | AR9: =K256 -> 109 | AY9: =SUM(N9:AX9) -> 109
C10: =A258 -> 本部市民会館・島の関西横断対策班 | N10: =E303 -> 4 | X10: =G303 -> 0 | AH10: =I306 -> 2 | AR10: =K306 -> 39 | AY10: =SUM(N10:AX10) -> 45
C11: =A308 -> 露店本部 | N11: =E340 -> 0 | X11: =G340 -> 29 | AH11: =I340 -> 0 | AR11: =K340 -> 0 | AY11: =SUM(N11:AX11) -> 29
C12: =A342 -> 漁協 | N12: =E347 -> 2 | X12: =G347 -> 0 | AH12: =I347 -> 0 | AR12: =K347 -> 0 | AY12: =SUM(N12:AX12) -> 2
C13: =A353 -> 緊急船舶 | N13: =E352 -> 1 | X13: =G352 -> 0 | AH13: =I353 -> 0 | AR13: =K353 -> 0 | AY13: =SUM(N13:AX13) -> 1
C14: =A356 -> 場所取り対策（8月5日） | N14: =E362 -> 0 | X14: =G362 -> 1 | AH14: =I362 -> 1 | AR14: =K362 -> 1 | AY14: =SUM(N14:AX14) -> 3
C15: =A364 -> 場所取り対策（8月5日夜間警戒） | N15: =E375 -> 0 | X15: =G375 -> 0 | AH15: =I375 -> 0 | AR15: =K375 -> 8 | AY15: =SUM(N15:AX15) -> 8
C16: =A377 -> 場所取り対策（8月６日） | N16: =E400 -> 3 | X16: =G400 -> 8 | AH16: =I400 -> 1 | AR16: =K400 -> 8 | AY16: =SUM(N16:AX16) -> 20
C17: =A402 -> 会場保全（昼勤） | N17: =E422 -> 0 | X17: =G422 -> 0 | AH17: =I422 -> 0 | AR17: =K422 -> 17 | AY17: =SUM(N17:AX17) -> 17
C18: =A424 -> 本部警備区びわ湖ホール警備隊 | N18: =E438 -> 2 | X18: =G438 -> 0 | AH18: =I464 -> 0 | AR18: =K464 -> 35 | AY18: =SUM(N18:AX18) -> 37
C19: =A466 -> におの浜2丁目交差点横断対策班 | N19: =E484 -> 0 | X19: =G484 -> 0 | AH19: =I484 -> 0 | AR19: =K484 -> 15 | AY19: =SUM(N19:AX19) -> 15
C20: =A486 -> 有料観覧東側出入口対応班（楽天Ｉ、楽天Ｊ・一般Ａ・一般Ｂ） | N20: =E509 -> 0 | X20: =G509 -> 0 | AH20: =I509 -> 0 | AR20: =K509 -> 20 | AY20: =SUM(N20:AX20) -> 20
C21: =A511 -> 一般観覧（Ａ・Ｂ・雑踏観測・市民プラザ外周対策班） | N21: =E567 -> 0 | X21: =G567 -> 0 | AH21: =I567 -> 0 | AR21: =K567 -> 49 | AY21: =SUM(N21:AX21) -> 49
C22: =A580 -> 本部警備区びわ湖ボート派遣隊 | N22: =E626 -> 7 | X22: =G626 -> 0 | AH22: =I626 -> 1 | AR22: =K626 -> 35 | AY22: =SUM(N22:AX22) -> 43
C23: =A631 -> 第1警備区（近江神宮・柳が崎周辺警備区）（警備区責任者所在地：近江神宮前交差点） | N23: =E649 -> 0 | X23: =G649 -> 2 | AH23: =I649 -> 0 | AR23: =K649 -> 9 | AY23: =SUM(N23:AX23) -> 11
C24: =A651 -> 第2警備区（大津京駅周辺警備区）（警備区責任者所在地：皇子山総合運動公園多目的広場） | N24: =E725 -> 4 | X24: =G725 -> 12 | AH24: =I725 -> 0 | AR24: =K725 -> 55 | AY24: =SUM(N24:AX24) -> 71
C25: =A727 -> 第3警備区（浜大津周辺警備区）（警備区責任者所在地：浜大津シンボル緑地） | N25: =E906 -> 4 | X25: =G906 -> 31 | AH25: =I906 -> 2 | AR25: =K906 -> 137 | AY25: =SUM(N25:AX25) -> 174
C26: =A908 -> 第4警備区（県道558号線周辺警備区）（警備区責任者所在地：京町１南交差点） | N26: =E959 -> 0 | X26: =G959 -> 5 | AH26: =I959 -> 0 | AR26: =K959 -> 43 | AY26: =SUM(N26:AX26) -> 48
C27: =A961 -> 第5警備区（ＪＲ大津駅南側警備区）（警備区責任者所在地：駅南ロータリー） | N27: =E992 -> 0 | X27: =G992 -> 2 | AH27: =I992 -> 0 | AR27: =K992 -> 22 | AY27: =SUM(N27:AX27) -> 24
C28: =A994 -> 第6警備区（ＪＲ大津駅北側周辺警備区）（警備区責任者所在地：大津駅前） | N28: =E1090 -> 19 | X28: =G1090 -> 5 | AH28: =I1090 -> 4 | AR28: =K1090 -> 65 | AY28: =SUM(N28:AX28) -> 93
C29: =A1092 -> 第7警備区（30ｍ道路北側警備区）（警備区責任者所在地：京町3丁目交差点） | N29: =E1137 -> 8 | X29: =G1137 -> 9 | AH29: =I1137 -> 0 | AR29: =K1137 -> 22 | AY29: =SUM(N29:AX29) -> 39
C30: =A1139 -> 第8警備区（島ノ関周辺警備区）（警備区責任者所在地：島の関駅前交差点） | N30: =E1189 -> 4 | X30: =G1189 -> 0 | AH30: =I1189 -> 0 | AR30: =K1189 -> 43 | AY30: =SUM(N30:AX30) -> 47
C31: =A1191 -> 第8警備区打出浜交差点南側導線対策班 | N31: =C1234 -> 0 | X31: =M1234 -> 0 | AH31: =I1234 -> 0 | AR31: =K1234 -> 41 | AY31: =SUM(N31:AX31) -> 41
C32: =A1236 -> 第9警備区（石場・なぎさ公園周辺警備区）（警備区責任者所在地：びわ湖ホール前救護所） | N32: =E1297 -> 6 | X32: =G1297 -> 0 | AH32: =I1297 -> 3 | AR32: =K1297 -> 45 | AY32: =SUM(N32:AX32) -> 54
C33: =A1299 -> 第10警備区（におの浜周辺警備区）（警備区責任者所在地：アヤハディオ前公園） | N33: =E1367 -> 0 | X33: =G1367 -> 0 | AH33: =I1367 -> 0 | AR33: =K1367 -> 63 | AY33: =SUM(N33:AX33) -> 63
C34: =A1369 -> 第11警備区（におのはま・膳所周辺警備区）（警備区責任者所在地：膳所駅前） | N34: =E1450 -> 16 | X34: =G1450 -> 1 | AH34: =I1450 -> 2 | AR34: =K1450 -> 51 | AY34: =SUM(N34:AX34) -> 70
C35: =A1459 -> 第1２警備区（大津東警備区）（警備区責任者所在地：イオン出口付近） | N35: =E1464 -> 0 | X35: =G1464 -> 0 | AH35: =I1464 -> 0 | AR35: =K1464 -> 2 | AY35: =SUM(N35:AX35) -> 2
C36: =A1477 -> 草津警備区（警備区責任者所在地：帰帆島第1駐車場） | N36: =E1534 -> 3 | X36: =G1534 -> 0 | AH36: =I1534 -> 3 | AR36: =K1534 -> 48 | AY36: =SUM(N36:AX36) -> 54
C37: =A1534 -> 0 | N37: =E1564 -> 0 | X37: =G1564 -> 0 | AH37: =I1564 -> 0 | AR37: =K1564 -> 27 | AY37: =SUM(N37:AX37) -> 27
C38: 柳ヶ崎ヨットハーバー周辺 | N38: =E1564 -> 0 | X38: =G1564 -> 0 | AH38: =I1564 -> 0 | AR38: 14 | AY38: =SUM(N38:AX38) -> 14
C39: 浜大津公共駐車場 | N39: =E1565 -> 0 | X39: =G1565 -> 0 | AH39: =I1565 -> 0 | AR39: 18 | AY39: =SUM(N39:AX39) -> 18
N40: =SUM(N8:W39) -> 128 | X40: =SUM(X8:AG39) -> 120 | AH40: =SUM(AH8:AQ39) -> 50 | AR40: =SUM(AR8:AX39) -> 1043
C41: 施工関係7月22日から8月18日まで | AR41: 84 | AY41: =SUM(N41:AX41) -> 84
N42: =SUM(N8:W41) -> 256 | O42: =SUM(O8:X41) -> 240 | P42: =SUM(P8:Y41) -> 240 | Q42: =SUM(Q8:Z41) -> 240 | R42: =SUM(R8:AA41) -> 240 | S42: =SUM(S8:AB41) -> 240 | T42: =SUM(T8:AC41) -> 240 | U42: =SUM(U8:AD41) -> 240 | ... AG42: =SUM(AG8:AP41) -> 100 | AH42: =SUM(AH13:AQ41) -> 67 | AI42: =SUM(AI13:AR41) -> 2020 | AJ42: =SUM(AJ13:AS41) -> 2020 | AK42: =SUM(AK13:AT41) -> 2020 | AL42: =SUM(AL13:AU41) -> 2020 | AM42: =SUM(AM13:AV41) -> 2020 | AN42: =SUM(AN13:AW41) -> 2020 | AO42: =SUM(AO13:AX41) -> 2020 | ... AQ42: =SUM(AQ13:AZ41) -> 3167 | AR42: =SUM(AR40:AX41) -> 1127 | AY42: =SUM(AY8:AY41) -> 1425
M43: 場所取り対策の市職員は、公園緑地協会職員が委託により実施。
A46: 運営本部・本部警備区
A47: No | B47: 部署 | C47: 場所 | D47: ポスト | E47: 県職 | G47: 市職 | I47: ＢＶＢ | K47: 警備 | M47: 従事会社名 | N47: 9 | P47: 10 | R47: 11 | T47: 12 | V47: 13 | X47: 14 | Z47: 15 | AB47: 16 | AD47: 17 | AF47: 18 | AH47: 19 | AJ47: 20 | AL47: 21 | AN47: 22 | AP47: 23 | AR47: 24 | AT47: 1 | AV47: 2 | AX47: 超過勤務 | AY47: 職 務 | BG47: 備 考
E48: 区計 | F48: 累計 | G48: 区計 | H48: 累計 | I48: 区計 | J48: 累計 | K48: 区計 | L48: 累計 | O48: 30 | Q48: 30 | S48: 30 | U48: 30 | W48: 30 | Y48: 30 | AA48: 30 | AC48: 30 | AE48: 30 | AG48: 30 | AI48: 30 | AK48: 30 | AM48: 30 | AO48: 30 | AQ48: 30 | AS48: 30 | AU48: 30
...

Sheet 合計数
D1: 配置実績 | AH1: 申込数
A2: NO. | B2: 事業者名 | C2: 法人格省略 | D2: 一般 | E2: 資格者 | F2: 本部直轄 | G2: 本部市民会館・島の関西横断対策班 | H2: 露店本部 | I2: 漁協 | J2: 緊急船舶 | K2: 場所取り対策 5日～6日 | L2: 会場保全 （昼勤） | M2: 本部警備区びわ湖ホール警備隊 | N2: におの浜2丁目交差点横断対策班 | O2: 有料観覧東側出入口対応班（楽天Ｉ、楽天Ｊ・一般Ａ・一般Ｂ） | P2: 一般観覧（Ａ・Ｂ・雑踏観測・市民プラザ外周対策班） | Q2: 本部警備区びわ湖ボート派遣隊 | R2: 第1警備区 | S2: 第2警備区 | T2: 第3警備区 | U2: 第4警備区 | V2: 第5警備区 | W2: 第6警備区 | X2: 第7警備区 | Y2: 第8警備区 （島ノ関＋打出浜） | Z2: 第9警備区 | AA2: 第10警備区 | AB2: 第11警備区 | AC2: 第12警備区 | AD2: 草津警備区 | AE2: 合計 | AF2: 合計 （検算） | AG2: 動員率 | AH2: 一般 | AI2: 資格者 | AJ2: 合計
A3: 1 | B3: 有限会社大晃 | C3: =SUBSTITUTE(SUBSTITUTE(SUBSTITUTE(B3,"株式会社",""),"有限会社",""),"合同会社","") -> 大晃 | E3: =COUNTIFS('2026'!$A$47:$AW$1626,"*"&C3&"*",'2026'!$A$47:$AW$1626,"交*") -> 0 | F3: =COUNTIF('2026'!$M$147:$M$255,"*"&$C3&"*") -> 0 | G3: =COUNTIF('2026'!$M$261:$M$305,"*"&$C3&"*") -> 0 | K3: =COUNTIF('2026'!$M$359:$M$399,"*"&C3&"*") -> 0 | L3: =COUNTIF('2026'!$M$405:$M$421,"*"&$C3&"*") -> 0 | M3: =COUNTIF('2026'!$M$427:$M$463,"*"&C3&"*") -> 0 | N3: =COUNTIF('2026'!$M$469:$M$483,"*"&C3&"*") -> 0 | O3: =COUNTIF('2026'!$M$489:$M$508,"*"&C3&"*") -> 0 | P3: =COUNTIF('2026'!$M$514:$M$566,"*"&C3&"*") -> 0 | Q3: =COUNTIF('2026'!$M$583:$M$625,"*"&C3&"*") -> 0 | R3: =COUNTIF('2026'!$M$634:$M$648,"*"&C3&"*") -> 0 | S3: =COUNTIF('2026'!$M$654:$M$724,"*"&C3&"*") -> 0 | T3: =COUNTIF('2026'!$M$730:$M$905,"*"&C3&"*") -> 0 | U3: =COUNTIF('2026'!$M$911:$M$958,"*"&C3&"*") -> 0 | V3: =COUNTIF('2026'!$M$964:$M$991,"*"&C3&"*") -> 0 | W3: =COUNTIF('2026'!$M$997:$M$1089,"*"&C3&"*") -> 0 | X3: =COUNTIF('2026'!$M$1095:$M$1136,"*"&C3&"*") -> 0 | Y3: =COUNTIF('2026'!$M$1142:$M$1233,"*"&C3&"*") -> 9 | Z3: =COUNTIF('2026'!$M$1239:$M$1296,"*"&C3&"*") -> 0 | AA3: =COUNTIF('2026'!$M$1304:$M$1366,"*"&C3&"*") -> 0 | AB3: =COUNTIF('2026'!$M$1372:$M$1449,"*"&C3&"*") -> 0 | AC3: =COUNTIF('2026'!$M$1462:$M$1463,"*"&C3&"*") -> 0 | AD3: =COUNTIF('2026'!$M$1480:$M$1593,"*"&C3&"*") -> 0 | AE3: =SUM(F3:AD3) -> 9 | AF3: =COUNTIF('2026'!$M$144:$M$1626,"*"&C3&"*") -> 9 | AG3: =AF3/AJ3 -> 0.75 | AH3: 10 | AI3: 2 | AJ3: 12 | AM3: 有限会社
A4: 2 | B4: 株式会社ＫＳ警 | C4: =SUBSTITUTE(SUBSTITUTE(SUBSTITUTE(B4,"株式会社",""),"有限会社",""),"合同会社","") -> ＫＳ警 | E4: =COUNTIFS('2026'!$A$47:$AW$1626,"*"&C4&"*",'2026'!$A$47:$AW$1626,"交*") -> 0 | F4: =COUNTIF('2026'!$M$147:$M$255,"*"&$C4&"*") -> 0 | G4: =COUNTIF('2026'!$M$261:$M$305,"*"&$C4&"*") -> 0 | K4: =COUNTIF('2026'!$M$359:$M$399,"*"&C4&"*") -> 0 | L4: =COUNTIF('2026'!$M$405:$M$421,"*"&$C4&"*") -> 0 | M4: =COUNTIF('2026'!$M$427:$M$463,"*"&C4&"*") -> 0 | N4: =COUNTIF('2026'!$M$469:$M$483,"*"&C4&"*") -> 0 | O4: =COUNTIF('2026'!$M$489:$M$508,"*"&C4&"*") -> 0 | P4: =COUNTIF('2026'!$M$514:$M$566,"*"&C4&"*") -> 0 | Q4: =COUNTIF('2026'!$M$583:$M$625,"*"&C4&"*") -> 0 | R4: =COUNTIF('2026'!$M$634:$M$648,"*"&C4&"*") -> 0 | S4: =COUNTIF('2026'!$M$654:$M$724,"*"&C4&"*") -> 0 | T4: =COUNTIF('2026'!$M$730:$M$905,"*"&C4&"*") -> 0 | U4: =COUNTIF('2026'!$M$911:$M$958,"*"&C4&"*") -> 0 | V4: =COUNTIF('2026'!$M$964:$M$991,"*"&C4&"*") -> 0 | W4: =COUNTIF('2026'!$M$997:$M$1089,"*"&C4&"*") -> 0 | X4: =COUNTIF('2026'!$M$1095:$M$1136,"*"&C4&"*") -> 0 | Y4: =COUNTIF('2026'!$M$1142:$M$1233,"*"&C4&"*") -> 0 | Z4: =COUNTIF('2026'!$M$1239:$M$1296,"*"&C4&"*") -> 0 | AA4: =COUNTIF('2026'!$M$1304:$M$1366,"*"&C4&"*") -> 10 | AB4: =COUNTIF('2026'!$M$1372:$M$1449,"*"&C4&"*") -> 0 | AC4: =COUNTIF('2026'!$M$1462:$M$1463,"*"&C4&"*") -> 0 | AD4: =COUNTIF('2026'!$M$1480:$M$1593,"*"&C4&"*") -> 0 | AE4: =SUM(F4:AD4) -> 10 | AF4: =COUNTIF('2026'!$M$144:$M$1626,"*"&C4&"*") -> 10 | AG4: =AF4/AJ4 -> 1 | AH4: 3 | AI4: 7 | AJ4: 10 | AM4: 株式会社
A5: 3 | B5: 株式会社ライズ | C5: =SUBSTITUTE(SUBSTITUTE(SUBSTITUTE(B5,"株式会社",""),"有限会社",""),"合同会社","") -> ライズ | E5: =COUNTIFS('2026'!$A$47:$AW$1626,"*"&C5&"*",'2026'!$A$47:$AW$1626,"交*") -> 0 | F5: =COUNTIF('2026'!$M$147:$M$255,"*"&$C5&"*") -> 0 | G5: =COUNTIF('2026'!$M$261:$M$305,"*"&$C5&"*") -> 0 | K5: =COUNTIF('2026'!$M$359:$M$399,"*"&C5&"*") -> 0 | L5: =COUNTIF('2026'!$M$405:$M$421,"*"&$C5&"*") -> 0 | M5: =COUNTIF('2026'!$M$427:$M$463,"*"&C5&"*") -> 0 | N5: =COUNTIF('2026'!$M$469:$M$483,"*"&C5&"*") -> 0 | O5: =COUNTIF('2026'!$M$489:$M$508,"*"&C5&"*") -> 0 | P5: =COUNTIF('2026'!$M$514:$M$566,"*"&C5&"*") -> 0 | Q5: =COUNTIF('2026'!$M$583:$M$625,"*"&C5&"*") -> 0 | R5: =COUNTIF('2026'!$M$634:$M$648,"*"&C5&"*") -> 0 | S5: =COUNTIF('2026'!$M$654:$M$724,"*"&C5&"*") -> 0 | T5: =COUNTIF('2026'!$M$730:$M$905,"*"&C5&"*") -> 0 | U5: =COUNTIF('2026'!$M$911:$M$958,"*"&C5&"*") -> 0 | V5: =COUNTIF('2026'!$M$964:$M$991,"*"&C5&"*") -> 0 | W5: =COUNTIF('2026'!$M$997:$M$1089,"*"&C5&"*") -> 0 | X5: =COUNTIF('2026'!$M$1095:$M$1136,"*"&C5&"*") -> 0 | Y5: =COUNTIF('2026'!$M$1142:$M$1233,"*"&C5&"*") -> 0 | Z5: =COUNTIF('2026'!$M$1239:$M$1296,"*"&C5&"*") -> 0 | AA5: =COUNTIF('2026'!$M$1304:$M$1366,"*"&C5&"*") -> 0 | AB5: =COUNTIF('2026'!$M$1372:$M$1449,"*"&C5&"*") -> 0 | AC5: =COUNTIF('2026'!$M$1462:$M$1463,"*"&C5&"*") -> 0 | AD5: =COUNTIF('2026'!$M$1480:$M$1593,"*"&C5&"*") -> 9 | AE5: =SUM(F5:AD5) -> 9 | AF5: =COUNTIF('2026'!$M$144:$M$1626,"*"&C5&"*") -> 9 | AG5: =AF5/AJ5 -> 0.6 | AH5: 12 | AI5: 3 | AJ5: 15 | AM5: 合同会社
A6: 4 | B6: 株式会社アソビイズム | C6: =SUBSTITUTE(SUBSTITUTE(SUBSTITUTE(B6,"株式会社",""),"有限会社",""),"合同会社","") -> アソビイズム | E6: =COUNTIFS('2026'!$A$47:$AW$1626,"*"&C6&"*",'2026'!$A$47:$AW$1626,"交*") -> 0 | F6: =COUNTIF('2026'!$M$147:$M$255,"*"&$C6&"*") -> 0 | G6: =COUNTIF('2026'!$M$261:$M$305,"*"&$C6&"*") -> 0 | K6: =COUNTIF('2026'!$M$359:$M$399,"*"&C6&"*") -> 0 | L6: =COUNTIF('2026'!$M$405:$M$421,"*"&$C6&"*") -> 0 | M6: =COUNTIF('2026'!$M$427:$M$463,"*"&C6&"*") -> 0 | N6: =COUNTIF('2026'!$M$469:$M$483,"*"&C6&"*") -> 0 | O6: =COUNTIF('2026'!$M$489:$M$508,"*"&C6&"*") -> 0 | P6: =COUNTIF('2026'!$M$514:$M$566,"*"&C6&"*") -> 0 | Q6: =COUNTIF('2026'!$M$583:$M$625,"*"&C6&"*") -> 0 | R6: =COUNTIF('2026'!$M$634:$M$648,"*"&C6&"*") -> 0 | S6: =COUNTIF('2026'!$M$654:$M$724,"*"&C6&"*") -> 29 | T6: =COUNTIF('2026'!$M$730:$M$905,"*"&C6&"*") -> 0 | U6: =COUNTIF('2026'!$M$911:$M$958,"*"&C6&"*") -> 0 | V6: =COUNTIF('2026'!$M$964:$M$991,"*"&C6&"*") -> 0 | W6: =COUNTIF('2026'!$M$997:$M$1089,"*"&C6&"*") -> 0 | X6: =COUNTIF('2026'!$M$1095:$M$1136,"*"&C6&"*") -> 0 | Y6: =COUNTIF('2026'!$M$1142:$M$1233,"*"&C6&"*") -> 0 | Z6: =COUNTIF('2026'!$M$1239:$M$1296,"*"&C6&"*") -> 0 | AA6: =COUNTIF('2026'!$M$1304:$M$1366,"*"&C6&"*") -> 0 | AB6: =COUNTIF('2026'!$M$1372:$M$1449,"*"&C6&"*") -> 0 | AC6: =COUNTIF('2026'!$M$1462:$M$1463,"*"&C6&"*") -> 0 | AD6: =COUNTIF('2026'!$M$1480:$M$1593,"*"&C6&"*") -> 0 | AE6: =SUM(F6:AD6) -> 29 | AF6: =COUNTIF('2026'!$M$144:$M$1626,"*"&C6&"*") -> 29 | AG6: =AF6/AJ6 -> 0.41428571 | AH6: 60 | AI6: 10 | AJ6: 70
A7: 5 | B7: 株式会社トラストセキュリティ | C7: =SUBSTITUTE(SUBSTITUTE(SUBSTITUTE(B7,"株式会社",""),"有限会社",""),"合同会社","") -> トラストセキュリティ | E7: =COUNTIFS('2026'!$A$47:$AW$1626,"*"&C7&"*",'2026'!$A$47:$AW$1626,"交*") -> 0 | F7: =COUNTIF('2026'!$M$147:$M$255,"*"&$C7&"*") -> 0 | G7: =COUNTIF('2026'!$M$261:$M$305,"*"&$C7&"*") -> 0 | K7: =COUNTIF('2026'!$M$359:$M$399,"*"&C7&"*") -> 0 | L7: =COUNTIF('2026'!$M$405:$M$421,"*"&$C7&"*") -> 0 | M7: =COUNTIF('2026'!$M$427:$M$463,"*"&C7&"*") -> 0 | N7: =COUNTIF('2026'!$M$469:$M$483,"*"&C7&"*") -> 0 | O7: =COUNTIF('2026'!$M$489:$M$508,"*"&C7&"*") -> 0 | P7: =COUNTIF('2026'!$M$514:$M$566,"*"&C7&"*") -> 0 | Q7: =COUNTIF('2026'!$M$583:$M$625,"*"&C7&"*") -> 0 | R7: =COUNTIF('2026'!$M$634:$M$648,"*"&C7&"*") -> 9 | S7: =COUNTIF('2026'!$M$654:$M$724,"*"&C7&"*") -> 0 | T7: =COUNTIF('2026'!$M$730:$M$905,"*"&C7&"*") -> 0 | U7: =COUNTIF('2026'!$M$911:$M$958,"*"&C7&"*") -> 0 | V7: =COUNTIF('2026'!$M$964:$M$991,"*"&C7&"*") -> 0 | W7: =COUNTIF('2026'!$M$997:$M$1089,"*"&C7&"*") -> 0 | X7: =COUNTIF('2026'!$M$1095:$M$1136,"*"&C7&"*") -> 0 | Y7: =COUNTIF('2026'!$M$1142:$M$1233,"*"&C7&"*") -> 0 | Z7: =COUNTIF('2026'!$M$1239:$M$1296,"*"&C7&"*") -> 0 | AA7: =COUNTIF('2026'!$M$1304:$M$1366,"*"&C7&"*") -> 8 | AB7: =COUNTIF('2026'!$M$1372:$M$1449,"*"&C7&"*") -> 0 | AC7: =COUNTIF('2026'!$M$1462:$M$1463,"*"&C7&"*") -> 0 | AD7: =COUNTIF('2026'!$M$1480:$M$1593,"*"&C7&"*") -> 0 | AE7: =SUM(F7:AD7) -> 17 | AF7: =COUNTIF('2026'!$M$144:$M$1626,"*"&C7&"*") -> 17 | AG7: =AF7/AJ7 -> 1 | AH7: 9 | AI7: 8 | AJ7: 17
A8: 6 | B8: アイガード有限会社 | C8: =SUBSTITUTE(SUBSTITUTE(SUBSTITUTE(B8,"株式会社",""),"有限会社",""),"合同会社","") -> アイガード | E8: =COUNTIFS('2026'!$A$47:$AW$1626,"*"&C8&"*",'2026'!$A$47:$AW$1626,"交*") -> 0 | F8: =COUNTIF('2026'!$M$147:$M$255,"*"&$C8&"*") -> 0 | G8: =COUNTIF('2026'!$M$261:$M$305,"*"&$C8&"*") -> 0 | K8: =COUNTIF('2026'!$M$359:$M$399,"*"&C8&"*") -> 0 | L8: =COUNTIF('2026'!$M$405:$M$421,"*"&$C8&"*") -> 0 | M8: =COUNTIF('2026'!$M$427:$M$463,"*"&C8&"*") -> 0 | N8: =COUNTIF('2026'!$M$469:$M$483,"*"&C8&"*") -> 0 | O8: =COUNTIF('2026'!$M$489:$M$508,"*"&C8&"*") -> 0 | P8: =COUNTIF('2026'!$M$514:$M$566,"*"&C8&"*") -> 0 | Q8: =COUNTIF('2026'!$M$583:$M$625,"*"&C8&"*") -> 0 | R8: =COUNTIF('2026'!$M$634:$M$648,"*"&C8&"*") -> 0 | S8: =COUNTIF('2026'!$M$654:$M$724,"*"&C8&"*") -> 0 | T8: =COUNTIF('2026'!$M$730:$M$905,"*"&C8&"*") -> 0 | U8: =COUNTIF('2026'!$M$911:$M$958,"*"&C8&"*") -> 0 | V8: =COUNTIF('2026'!$M$964:$M$991,"*"&C8&"*") -> 0 | W8: =COUNTIF('2026'!$M$997:$M$1089,"*"&C8&"*") -> 0 | X8: =COUNTIF('2026'!$M$1095:$M$1136,"*"&C8&"*") -> 0 | Y8: =COUNTIF('2026'!$M$1142:$M$1233,"*"&C8&"*") -> 0 | Z8: =COUNTIF('2026'!$M$1239:$M$1296,"*"&C8&"*") -> 0 | AA8: =COUNTIF('2026'!$M$1304:$M$1366,"*"&C8&"*") -> 0 | AB8: =COUNTIF('2026'!$M$1372:$M$1449,"*"&C8&"*") -> 0 | AC8: =COUNTIF('2026'!$M$1462:$M$1463,"*"&C8&"*") -> 0 | AD8: =COUNTIF('2026'!$M$1480:$M$1593,"*"&C8&"*") -> 0 | AE8: =SUM(F8:AD8) -> 0 | AF8: =COUNTIF('2026'!$M$144:$M$1626,"*"&C8&"*") -> 0 | AG8: =AF8/AJ8 -> #DIV/0! | AH8: 0 | AI8: 0 | AJ8: 0
A9: 7 | B9: 有限会社レークサイドガード | C9: =SUBSTITUTE(SUBSTITUTE(SUBSTITUTE(B9,"株式会社",""),"有限会社",""),"合同会社","") -> レークサイドガード | E9: =COUNTIFS('2026'!$A$47:$AW$1626,"*"&C9&"*",'2026'!$A$47:$AW$1626,"交*") -> 0 | F9: =COUNTIF('2026'!$M$147:$M$255,"*"&$C9&"*") -> 0 | G9: =COUNTIF('2026'!$M$261:$M$305,"*"&$C9&"*") -> 0 | K9: =COUNTIF('2026'!$M$359:$M$399,"*"&C9&"*") -> 0 | L9: =COUNTIF('2026'!$M$405:$M$421,"*"&$C9&"*") -> 0 | M9: =COUNTIF('2026'!$M$427:$M$463,"*"&C9&"*") -> 0 | N9: =COUNTIF('2026'!$M$469:$M$483,"*"&C9&"*") -> 0 | O9: =COUNTIF('2026'!$M$489:$M$508,"*"&C9&"*") -> 0 | P9: =COUNTIF('2026'!$M$514:$M$566,"*"&C9&"*") -> 0 | Q9: =COUNTIF('2026'!$M$583:$M$625,"*"&C9&"*") -> 0 | R9: =COUNTIF('2026'!$M$634:$M$648,"*"&C9&"*") -> 0 | S9: =COUNTIF('2026'!$M$654:$M$724,"*"&C9&"*") -> 12 | T9: =COUNTIF('2026'!$M$730:$M$905,"*"&C9&"*") -> 0 | U9: =COUNTIF('2026'!$M$911:$M$958,"*"&C9&"*") -> 0 | V9: =COUNTIF('2026'!$M$964:$M$991,"*"&C9&"*") -> 0 | W9: =COUNTIF('2026'!$M$997:$M$1089,"*"&C9&"*") -> 0 | X9: =COUNTIF('2026'!$M$1095:$M$1136,"*"&C9&"*") -> 0 | Y9: =COUNTIF('2026'!$M$1142:$M$1233,"*"&C9&"*") -> 0 | Z9: =COUNTIF('2026'!$M$1239:$M$1296,"*"&C9&"*") -> 0 | AA9: =COUNTIF('2026'!$M$1304:$M$1366,"*"&C9&"*") -> 0 | AB9: =COUNTIF('2026'!$M$1372:$M$1449,"*"&C9&"*") -> 0 | AC9: =COUNTIF('2026'!$M$1462:$M$1463,"*"&C9&"*") -> 0 | AD9: =COUNTIF('2026'!$M$1480:$M$1593,"*"&C9&"*") -> 0 | AE9: =SUM(F9:AD9) -> 12 | AF9: =COUNTIF('2026'!$M$144:$M$1626,"*"&C9&"*") -> 12 | AG9: =AF9/AJ9 -> 0.34285714 | AH9: 31 | AI9: 4 | AJ9: 35
A10: 8 | B10: 有限会社富綜 | C10: =SUBSTITUTE(SUBSTITUTE(SUBSTITUTE(B10,"株式会社",""),"有限会社",""),"合同会社","") -> 富綜 | E10: =COUNTIFS('2026'!$A$47:$AW$1626,"*"&C10&"*",'2026'!$A$47:$AW$1626,"交*") -> 0 | F10: =COUNTIF('2026'!$M$147:$M$255,"*"&$C10&"*") -> 0 | G10: =COUNTIF('2026'!$M$261:$M$305,"*"&$C10&"*") -> 0 | K10: =COUNTIF('2026'!$M$359:$M$399,"*"&C10&"*") -> 0 | L10: =COUNTIF('2026'!$M$405:$M$421,"*"&$C10&"*") -> 0 | M10: =COUNTIF('2026'!$M$427:$M$463,"*"&C10&"*") -> 0 | N10: =COUNTIF('2026'!$M$469:$M$483,"*"&C10&"*") -> 0 | O10: =COUNTIF('2026'!$M$489:$M$508,"*"&C10&"*") -> 0 | P10: =COUNTIF('2026'!$M$514:$M$566,"*"&C10&"*") -> 0 | Q10: =COUNTIF('2026'!$M$583:$M$625,"*"&C10&"*") -> 0 | R10: =COUNTIF('2026'!$M$634:$M$648,"*"&C10&"*") -> 0 | S10: =COUNTIF('2026'!$M$654:$M$724,"*"&C10&"*") -> 0 | T10: =COUNTIF('2026'!$M$730:$M$905,"*"&C10&"*") -> 0 | U10: =COUNTIF('2026'!$M$911:$M$958,"*"&C10&"*") -> 0 | V10: =COUNTIF('2026'!$M$964:$M$991,"*"&C10&"*") -> 0 | W10: =COUNTIF('2026'!$M$997:$M$1089,"*"&C10&"*") -> 0 | X10: =COUNTIF('2026'!$M$1095:$M$1136,"*"&C10&"*") -> 0 | Y10: =COUNTIF('2026'!$M$1142:$M$1233,"*"&C10&"*") -> 0 | Z10: =COUNTIF('2026'!$M$1239:$M$1296,"*"&C10&"*") -> 0 | AA10: =COUNTIF('2026'!$M$1304:$M$1366,"*"&C10&"*") -> 0 | AB10: =COUNTIF('2026'!$M$1372:$M$1449,"*"&C10&"*") -> 0 | AC10: =COUNTIF('2026'!$M$1462:$M$1463,"*"&C10&"*") -> 2 | AD10: =COUNTIF('2026'!$M$1480:$M$1593,"*"&C10&"*") -> 13 | AE10: =SUM(F10:AD10) -> 15 | AF10: =COUNTIF('2026'!$M$144:$M$1626,"*"&C10&"*") -> 15 | AG10: =AF10/AJ10 -> 0.88235294 | AH10: 13 | AI10: 4 | AJ10: 17
A11: 9 | B11: 株式会社富士綜合 | C11: =SUBSTITUTE(SUBSTITUTE(SUBSTITUTE(B11,"株式会社",""),"有限会社",""),"合同会社","") -> 富士綜合 | E11: =COUNTIFS('2026'!$A$47:$AW$1626,"*"&C11&"*",'2026'!$A$47:$AW$1626,"交*") -> 0 | F11: =COUNTIF('2026'!$M$147:$M$255,"*"&$C11&"*") -> 0 | G11: =COUNTIF('2026'!$M$261:$M$305,"*"&$C11&"*") -> 0 | K11: =COUNTIF('2026'!$M$359:$M$399,"*"&C11&"*") -> 0 | L11: =COUNTIF('2026'!$M$405:$M$421,"*"&$C11&"*") -> 0 | M11: =COUNTIF('2026'!$M$427:$M$463,"*"&C11&"*") -> 0 | N11: =COUNTIF('2026'!$M$469:$M$483,"*"&C11&"*") -> 0 | O11: =COUNTIF('2026'!$M$489:$M$508,"*"&C11&"*") -> 0 | P11: =COUNTIF('2026'!$M$514:$M$566,"*"&C11&"*") -> 0 | Q11: =COUNTIF('2026'!$M$583:$M$625,"*"&C11&"*") -> 0 | R11: =COUNTIF('2026'!$M$634:$M$648,"*"&C11&"*") -> 0 | S11: =COUNTIF('2026'!$M$654:$M$724,"*"&C11&"*") -> 0 | T11: =COUNTIF('2026'!$M$730:$M$905,"*"&C11&"*") -> 0 | U11: =COUNTIF('2026'!$M$911:$M$958,"*"&C11&"*") -> 0 | V11: =COUNTIF('2026'!$M$964:$M$991,"*"&C11&"*") -> 0 | W11: =COUNTIF('2026'!$M$997:$M$1089,"*"&C11&"*") -> 0 | X11: =COUNTIF('2026'!$M$1095:$M$1136,"*"&C11&"*") -> 0 | Y11: =COUNTIF('2026'!$M$1142:$M$1233,"*"&C11&"*") -> 0 | Z11: =COUNTIF('2026'!$M$1239:$M$1296,"*"&C11&"*") -> 0 | AA11: =COUNTIF('2026'!$M$1304:$M$1366,"*"&C11&"*") -> 0 | AB11: =COUNTIF('2026'!$M$1372:$M$1449,"*"&C11&"*") -> 0 | AC11: =COUNTIF('2026'!$M$1462:$M$1463,"*"&C11&"*") -> 0 | AD11: =COUNTIF('2026'!$M$1480:$M$1593,"*"&C11&"*") -> 7 | AE11: =SUM(F11:AD11) -> 7 | AF11: =COUNTIF('2026'!$M$144:$M$1626,"*"&C11&"*") -> 7 | AG11: =AF11/AJ11 -> 0.7 | AH11: 9 | AI11: 1 | AJ11: 10
A12: 10 | B12: ルートワン警備保障株式会社 | C12: =SUBSTITUTE(SUBSTITUTE(SUBSTITUTE(B12,"株式会社",""),"有限会社",""),"合同会社","") -> ルートワン警備保障 | E12: =COUNTIFS('2026'!$A$47:$AW$1626,"*"&C12&"*",'2026'!$A$47:$AW$1626,"交*") -> 0 | F12: =COUNTIF('2026'!$M$147:$M$255,"*"&$C12&"*") -> 0 | G12: =COUNTIF('2026'!$M$261:$M$305,"*"&$C12&"*") -> 0 | K12: =COUNTIF('2026'!$M$359:$M$399,"*"&C12&"*") -> 0 | L12: =COUNTIF('2026'!$M$405:$M$421,"*"&$C12&"*") -> 0 | M12: =COUNTIF('2026'!$M$427:$M$463,"*"&C12&"*") -> 0 | N12: =COUNTIF('2026'!$M$469:$M$483,"*"&C12&"*") -> 0 | O12: =COUNTIF('2026'!$M$489:$M$508,"*"&C12&"*") -> 0 | P12: =COUNTIF('2026'!$M$514:$M$566,"*"&C12&"*") -> 0 | Q12: =COUNTIF('2026'!$M$583:$M$625,"*"&C12&"*") -> 0 | R12: =COUNTIF('2026'!$M$634:$M$648,"*"&C12&"*") -> 0 | S12: =COUNTIF('2026'!$M$654:$M$724,"*"&C12&"*") -> 0 | T12: =COUNTIF('2026'!$M$730:$M$905,"*"&C12&"*") -> 0 | U12: =COUNTIF('2026'!$M$911:$M$958,"*"&C12&"*") -> 0 | V12: =COUNTIF('2026'!$M$964:$M$991,"*"&C12&"*") -> 0 | W12: =COUNTIF('2026'!$M$997:$M$1089,"*"&C12&"*") -> 0 | X12: =COUNTIF('2026'!$M$1095:$M$1136,"*"&C12&"*") -> 0 | Y12: =COUNTIF('2026'!$M$1142:$M$1233,"*"&C12&"*") -> 0 | Z12: =COUNTIF('2026'!$M$1239:$M$1296,"*"&C12&"*") -> 0 | AA12: =COUNTIF('2026'!$M$1304:$M$1366,"*"&C12&"*") -> 0 | AB12: =COUNTIF('2026'!$M$1372:$M$1449,"*"&C12&"*") -> 0 | AC12: =COUNTIF('2026'!$M$1462:$M$1463,"*"&C12&"*") -> 0 | AD12: =COUNTIF('2026'!$M$1480:$M$1593,"*"&C12&"*") -> 15 | AE12: =SUM(F12:AD12) -> 15 | AF12: =COUNTIF('2026'!$M$144:$M$1626,"*"&C12&"*") -> 15 | AG12: =AF12/AJ12 -> 1 | AH12: 13 | AI12: 2 | AJ12: 15
A13: 11 | B13: 合同会社ZERO警備 | C13: =SUBSTITUTE(SUBSTITUTE(SUBSTITUTE(B13,"株式会社",""),"有限会社",""),"合同会社","") -> ZERO警備 | E13: =COUNTIFS('2026'!$A$47:$AW$1626,"*"&C13&"*",'2026'!$A$47:$AW$1626,"交*") -> 0 | F13: =COUNTIF('2026'!$M$147:$M$255,"*"&$C13&"*") -> 0 | G13: =COUNTIF('2026'!$M$261:$M$305,"*"&$C13&"*") -> 0 | K13: =COUNTIF('2026'!$M$359:$M$399,"*"&C13&"*") -> 0 | L13: =COUNTIF('2026'!$M$405:$M$421,"*"&$C13&"*") -> 0 | M13: =COUNTIF('2026'!$M$427:$M$463,"*"&C13&"*") -> 0 | N13: =COUNTIF('2026'!$M$469:$M$483,"*"&C13&"*") -> 0 | O13: =COUNTIF('2026'!$M$489:$M$508,"*"&C13&"*") -> 0 | P13: =COUNTIF('2026'!$M$514:$M$566,"*"&C13&"*") -> 0 | Q13: =COUNTIF('2026'!$M$583:$M$625,"*"&C13&"*") -> 0 | R13: =COUNTIF('2026'!$M$634:$M$648,"*"&C13&"*") -> 0 | S13: =COUNTIF('2026'!$M$654:$M$724,"*"&C13&"*") -> 0 | T13: =COUNTIF('2026'!$M$730:$M$905,"*"&C13&"*") -> 0 | U13: =COUNTIF('2026'!$M$911:$M$958,"*"&C13&"*") -> 0 | V13: =COUNTIF('2026'!$M$964:$M$991,"*"&C13&"*") -> 0 | W13: =COUNTIF('2026'!$M$997:$M$1089,"*"&C13&"*") -> 0 | X13: =COUNTIF('2026'!$M$1095:$M$1136,"*"&C13&"*") -> 0 | Y13: =COUNTIF('2026'!$M$1142:$M$1233,"*"&C13&"*") -> 0 | Z13: =COUNTIF('2026'!$M$1239:$M$1296,"*"&C13&"*") -> 0 | AA13: =COUNTIF('2026'!$M$1304:$M$1366,"*"&C13&"*") -> 0 | AB13: =COUNTIF('2026'!$M$1372:$M$1449,"*"&C13&"*") -> 0 | AC13: =COUNTIF('2026'!$M$1462:$M$1463,"*"&C13&"*") -> 0 | AD13: =COUNTIF('2026'!$M$1480:$M$1593,"*"&C13&"*") -> 7 | AE13: =SUM(F13:AD13) -> 7 | AF13: =COUNTIF('2026'!$M$144:$M$1626,"*"&C13&"*") -> 7 | AG13: =AF13/AJ13 -> 0.46666667 | AH13: 10 | AI13: 5 | AJ13: 15
A14: 12 | B14: 株式会社コナン | C14: =SUBSTITUTE(SUBSTITUTE(SUBSTITUTE(B14,"株式会社",""),"有限会社",""),"合同会社","") -> コナン | E14: =COUNTIFS('2026'!$A$47:$AW$1626,"*"&C14&"*",'2026'!$A$47:$AW$1626,"交*") -> 0 | F14: =COUNTIF('2026'!$M$147:$M$255,"*"&$C14&"*") -> 0 | G14: =COUNTIF('2026'!$M$261:$M$305,"*"&$C14&"*") -> 0 | K14: =COUNTIF('2026'!$M$359:$M$399,"*"&C14&"*") -> 0 | L14: =COUNTIF('2026'!$M$405:$M$421,"*"&$C14&"*") -> 0 | M14: =COUNTIF('2026'!$M$427:$M$463,"*"&C14&"*") -> 0 | N14: =COUNTIF('2026'!$M$469:$M$483,"*"&C14&"*") -> 0 | O14: =COUNTIF('2026'!$M$489:$M$508,"*"&C14&"*") -> 0 | P14: =COUNTIF('2026'!$M$514:$M$566,"*"&C14&"*") -> 0 | Q14: =COUNTIF('2026'!$M$583:$M$625,"*"&C14&"*") -> 0 | R14: =COUNTIF('2026'!$M$634:$M$648,"*"&C14&"*") -> 0 | S14: =COUNTIF('2026'!$M$654:$M$724,"*"&C14&"*") -> 8 | T14: =COUNTIF('2026'!$M$730:$M$905,"*"&C14&"*") -> 0 | U14: =COUNTIF('2026'!$M$911:$M$958,"*"&C14&"*") -> 0 | V14: =COUNTIF('2026'!$M$964:$M$991,"*"&C14&"*") -> 0 | W14: =COUNTIF('2026'!$M$997:$M$1089,"*"&C14&"*") -> 0 | X14: =COUNTIF('2026'!$M$1095:$M$1136,"*"&C14&"*") -> 0 | Y14: =COUNTIF('2026'!$M$1142:$M$1233,"*"&C14&"*") -> 0 | Z14: =COUNTIF('2026'!$M$1239:$M$1296,"*"&C14&"*") -> 0 | AA14: =COUNTIF('2026'!$M$1304:$M$1366,"*"&C14&"*") -> 0 | AB14: =COUNTIF('2026'!$M$1372:$M$1449,"*"&C14&"*") -> 0 | AC14: =COUNTIF('2026'!$M$1462:$M$1463,"*"&C14&"*") -> 0 | AD14: =COUNTIF('2026'!$M$1480:$M$1593,"*"&C14&"*") -> 0 | AE14: =SUM(F14:AD14) -> 8 | AF14: =COUNTIF('2026'!$M$144:$M$1626,"*"&C14&"*") -> 8 | AG14: =AF14/AJ14 -> 1 | AH14: 7 | AI14: 1 | AJ14: 8
A15: 13 | B15: ジェイティ警備株式会社 | C15: =SUBSTITUTE(SUBSTITUTE(SUBSTITUTE(B15,"株式会社",""),"有限会社",""),"合同会社","") -> ジェイティ警備 | E15: =COUNTIFS('2026'!$A$47:$AW$1626,"*"&C15&"*",'2026'!$A$47:$AW$1626,"交*") -> 0 | F15: =COUNTIF('2026'!$M$147:$M$255,"*"&$C15&"*") -> 0 | G15: =COUNTIF('2026'!$M$261:$M$305,"*"&$C15&"*") -> 0 | K15: =COUNTIF('2026'!$M$359:$M$399,"*"&C15&"*") -> 0 | L15: =COUNTIF('2026'!$M$405:$M$421,"*"&$C15&"*") -> 0 | M15: =COUNTIF('2026'!$M$427:$M$463,"*"&C15&"*") -> 0 | N15: =COUNTIF('2026'!$M$469:$M$483,"*"&C15&"*") -> 0 | O15: =COUNTIF('2026'!$M$489:$M$508,"*"&C15&"*") -> 0 | P15: =COUNTIF('2026'!$M$514:$M$566,"*"&C15&"*") -> 0 | Q15: =COUNTIF('2026'!$M$583:$M$625,"*"&C15&"*") -> 0 | R15: =COUNTIF('2026'!$M$634:$M$648,"*"&C15&"*") -> 0 | S15: =COUNTIF('2026'!$M$654:$M$724,"*"&C15&"*") -> 0 | T15: =COUNTIF('2026'!$M$730:$M$905,"*"&C15&"*") -> 0 | U15: =COUNTIF('2026'!$M$911:$M$958,"*"&C15&"*") -> 0 | V15: =COUNTIF('2026'!$M$964:$M$991,"*"&C15&"*") -> 0 | W15: =COUNTIF('2026'!$M$997:$M$1089,"*"&C15&"*") -> 0 | X15: =COUNTIF('2026'!$M$1095:$M$1136,"*"&C15&"*") -> 0 | Y15: =COUNTIF('2026'!$M$1142:$M$1233,"*"&C15&"*") -> 0 | Z15: =COUNTIF('2026'!$M$1239:$M$1296,"*"&C15&"*") -> 0 | AA15: =COUNTIF('2026'!$M$1304:$M$1366,"*"&C15&"*") -> 0 | AB15: =COUNTIF('2026'!$M$1372:$M$1449,"*"&C15&"*") -> 0 | AC15: =COUNTIF('2026'!$M$1462:$M$1463,"*"&C15&"*") -> 0 | AD15: =COUNTIF('2026'!$M$1480:$M$1593,"*"&C15&"*") -> 0 | AE15: =SUM(F15:AD15) -> 0 | AF15: =COUNTIF('2026'!$M$144:$M$1626,"*"&C15&"*") -> 0 | AG15: =AF15/AJ15 -> #DIV/0!
A16: 14 | B16: 東洋ワークセキュリティ草津株式会社 | C16: =SUBSTITUTE(SUBSTITUTE(SUBSTITUTE(B16,"株式会社",""),"有限会社",""),"合同会社","") -> 東洋ワークセキュリティ草津 | E16: =COUNTIFS('2026'!$A$47:$AW$1626,"*"&C16&"*",'2026'!$A$47:$AW$1626,"交*") -> 0 | F16: =COUNTIF('2026'!$M$147:$M$255,"*"&$C16&"*") -> 0 | G16: =COUNTIF('2026'!$M$261:$M$305,"*"&$C16&"*") -> 0 | K16: =COUNTIF('2026'!$M$359:$M$399,"*"&C16&"*") -> 0 | L16: =COUNTIF('2026'!$M$405:$M$421,"*"&$C16&"*") -> 0 | M16: =COUNTIF('2026'!$M$427:$M$463,"*"&C16&"*") -> 0 | N16: =COUNTIF('2026'!$M$469:$M$483,"*"&C16&"*") -> 0 | O16: =COUNTIF('2026'!$M$489:$M$508,"*"&C16&"*") -> 0 | P16: =COUNTIF('2026'!$M$514:$M$566,"*"&C16&"*") -> 0 | Q16: =COUNTIF('2026'!$M$583:$M$625,"*"&C16&"*") -> 0 | R16: =COUNTIF('2026'!$M$634:$M$648,"*"&C16&"*") -> 0 | S16: =COUNTIF('2026'!$M$654:$M$724,"*"&C16&"*") -> 0 | T16: =COUNTIF('2026'!$M$730:$M$905,"*"&C16&"*") -> 0 | U16: =COUNTIF('2026'!$M$911:$M$958,"*"&C16&"*") -> 0 | V16: =COUNTIF('2026'!$M$964:$M$991,"*"&C16&"*") -> 0 | W16: =COUNTIF('2026'!$M$997:$M$1089,"*"&C16&"*") -> 0 | X16: =COUNTIF('2026'!$M$1095:$M$1136,"*"&C16&"*") -> 0 | Y16: =COUNTIF('2026'!$M$1142:$M$1233,"*"&C16&"*") -> 0 | Z16: =COUNTIF('2026'!$M$1239:$M$1296,"*"&C16&"*") -> 0 | AA16: =COUNTIF('2026'!$M$1304:$M$1366,"*"&C16&"*") -> 0 | AB16: =COUNTIF('2026'!$M$1372:$M$1449,"*"&C16&"*") -> 0 | AC16: =COUNTIF('2026'!$M$1462:$M$1463,"*"&C16&"*") -> 0 | AD16: 5 | AE16: =SUM(F16:AD16) -> 5 | AF16: 5 | AG16: =AF16/AJ16 -> 1 | AH16: 4 | AI16: 1 | AJ16: 5
A17: 15 | B17: 株式会社アダムスセキュリティ | C17: =SUBSTITUTE(SUBSTITUTE(SUBSTITUTE(B17,"株式会社",""),"有限会社",""),"合同会社","") -> アダムスセキュリティ | E17: =COUNTIFS('2026'!$A$47:$AW$1626,"*"&C17&"*",'2026'!$A$47:$AW$1626,"交*") -> 0 | F17: =COUNTIF('2026'!$M$147:$M$255,"*"&$C17&"*") -> 3 | G17: =COUNTIF('2026'!$M$261:$M$305,"*"&$C17&"*") -> 0 | K17: =COUNTIF('2026'!$M$359:$M$399,"*"&C17&"*") -> 0 | L17: =COUNTIF('2026'!$M$405:$M$421,"*"&$C17&"*") -> 0 | M17: =COUNTIF('2026'!$M$427:$M$463,"*"&C17&"*") -> 0 | N17: =COUNTIF('2026'!$M$469:$M$483,"*"&C17&"*") -> 0 | O17: =COUNTIF('2026'!$M$489:$M$508,"*"&C17&"*") -> 0 | P17: =COUNTIF('2026'!$M$514:$M$566,"*"&C17&"*") -> 0 | Q17: =COUNTIF('2026'!$M$583:$M$625,"*"&C17&"*") -> 0 | R17: =COUNTIF('2026'!$M$634:$M$648,"*"&C17&"*") -> 0 | S17: =COUNTIF('2026'!$M$654:$M$724,"*"&C17&"*") -> 0 | T17: =COUNTIF('2026'!$M$730:$M$905,"*"&C17&"*") -> 0 | U17: =COUNTIF('2026'!$M$911:$M$958,"*"&C17&"*") -> 0 | V17: =COUNTIF('2026'!$M$964:$M$991,"*"&C17&"*") -> 0 | W17: =COUNTIF('2026'!$M$997:$M$1089,"*"&C17&"*") -> 0 | X17: =COUNTIF('2026'!$M$1095:$M$1136,"*"&C17&"*") -> 0 | Y17: =COUNTIF('2026'!$M$1142:$M$1233,"*"&C17&"*") -> 0 | Z17: =COUNTIF('2026'!$M$1239:$M$1296,"*"&C17&"*") -> 0 | AA17: =COUNTIF('2026'!$M$1304:$M$1366,"*"&C17&"*") -> 27 | AB17: =COUNTIF('2026'!$M$1372:$M$1449,"*"&C17&"*") -> 0 | AC17: =COUNTIF('2026'!$M$1462:$M$1463,"*"&C17&"*") -> 0 | AD17: =COUNTIF('2026'!$M$1480:$M$1593,"*"&C17&"*") -> 0 | AE17: =SUM(F17:AD17) -> 30 | AF17: =COUNTIF('2026'!$M$144:$M$1626,"*"&C17&"*") -> 30 | AG17: =AF17/AJ17 -> 0.75 | AH17: 35 | AI17: 5 | AJ17: 40
A18: 16 | B18: 株式会社江州大丸 | C18: =SUBSTITUTE(SUBSTITUTE(SUBSTITUTE(B18,"株式会社",""),"有限会社",""),"合同会社","") -> 江州大丸 | E18: =COUNTIFS('2026'!$A$47:$AW$1626,"*"&C18&"*",'2026'!$A$47:$AW$1626,"交*") -> 0 | F18: =COUNTIF('2026'!$M$147:$M$255,"*"&$C18&"*") -> 0 | G18: =COUNTIF('2026'!$M$261:$M$305,"*"&$C18&"*") -> 0 | K18: =COUNTIF('2026'!$M$359:$M$399,"*"&C18&"*") -> 0 | L18: =COUNTIF('2026'!$M$405:$M$421,"*"&$C18&"*") -> 0 | M18: =COUNTIF('2026'!$M$427:$M$463,"*"&C18&"*") -> 0 | N18: =COUNTIF('2026'!$M$469:$M$483,"*"&C18&"*") -> 0 | O18: =COUNTIF('2026'!$M$489:$M$508,"*"&C18&"*") -> 0 | P18: =COUNTIF('2026'!$M$514:$M$566,"*"&C18&"*") -> 0 | Q18: =COUNTIF('2026'!$M$583:$M$625,"*"&C18&"*") -> 0 | R18: =COUNTIF('2026'!$M$634:$M$648,"*"&C18&"*") -> 0 | S18: =COUNTIF('2026'!$M$654:$M$724,"*"&C18&"*") -> 0 | T18: =COUNTIF('2026'!$M$730:$M$905,"*"&C18&"*") -> 0 | U18: =COUNTIF('2026'!$M$911:$M$958,"*"&C18&"*") -> 0 | V18: =COUNTIF('2026'!$M$964:$M$991,"*"&C18&"*") -> 0 | W18: =COUNTIF('2026'!$M$997:$M$1089,"*"&C18&"*") -> 0 | X18: =COUNTIF('2026'!$M$1095:$M$1136,"*"&C18&"*") -> 0 | Y18: =COUNTIF('2026'!$M$1142:$M$1233,"*"&C18&"*") -> 0 | Z18: =COUNTIF('2026'!$M$1239:$M$1296,"*"&C18&"*") -> 0 | AA18: =COUNTIF('2026'!$M$1304:$M$1366,"*"&C18&"*") -> 0 | AB18: =COUNTIF('2026'!$M$1372:$M$1449,"*"&C18&"*") -> 0 | AC18: =COUNTIF('2026'!$M$1462:$M$1463,"*"&C18&"*") -> 0 | AD18: =COUNTIF('2026'!$M$1480:$M$1593,"*"&C18&"*") -> 10 | AE18: =SUM(F18:AD18) -> 10 | AF18: =COUNTIF('2026'!$M$144:$M$1626,"*"&C18&"*") -> 10 | AG18: =AF18/AJ18 -> 1 | AH18: 10 | AI18: 0 | AJ18: 10
A19: 17 | B19: 全立興業有限会社 | C19: =SUBSTITUTE(SUBSTITUTE(SUBSTITUTE(B19,"株式会社",""),"有限会社",""),"合同会社","") -> 全立興業 | E19: =COUNTIFS('2026'!$A$47:$AW$1626,"*"&C19&"*",'2026'!$A$47:$AW$1626,"交*") -> 0 | F19: =COUNTIF('2026'!$M$147:$M$255,"*"&$C19&"*") -> 0 | G19: =COUNTIF('2026'!$M$261:$M$305,"*"&$C19&"*") -> 0 | K19: =COUNTIF('2026'!$M$359:$M$399,"*"&C19&"*") -> 0 | L19: =COUNTIF('2026'!$M$405:$M$421,"*"&$C19&"*") -> 0 | M19: =COUNTIF('2026'!$M$427:$M$463,"*"&C19&"*") -> 0 | N19: =COUNTIF('2026'!$M$469:$M$483,"*"&C19&"*") -> 0 | O19: =COUNTIF('2026'!$M$489:$M$508,"*"&C19&"*") -> 0 | P19: =COUNTIF('2026'!$M$514:$M$566,"*"&C19&"*") -> 0 | Q19: =COUNTIF('2026'!$M$583:$M$625,"*"&C19&"*") -> 0 | R19: =COUNTIF('2026'!$M$634:$M$648,"*"&C19&"*") -> 0 | S19: =COUNTIF('2026'!$M$654:$M$724,"*"&C19&"*") -> 0 | T19: =COUNTIF('2026'!$M$730:$M$905,"*"&C19&"*") -> 0 | U19: =COUNTIF('2026'!$M$911:$M$958,"*"&C19&"*") -> 0 | V19: =COUNTIF('2026'!$M$964:$M$991,"*"&C19&"*") -> 0 | W19: =COUNTIF('2026'!$M$997:$M$1089,"*"&C19&"*") -> 0 | X19: =COUNTIF('2026'!$M$1095:$M$1136,"*"&C19&"*") -> 0 | Y19: =COUNTIF('2026'!$M$1142:$M$1233,"*"&C19&"*") -> 0 | Z19: =COUNTIF('2026'!$M$1239:$M$1296,"*"&C19&"*") -> 0 | AA19: =COUNTIF('2026'!$M$1304:$M$1366,"*"&C19&"*") -> 0 | AB19: =COUNTIF('2026'!$M$1372:$M$1449,"*"&C19&"*") -> 0 | AC19: =COUNTIF('2026'!$M$1462:$M$1463,"*"&C19&"*") -> 0 | AD19: =COUNTIF('2026'!$M$1480:$M$1593,"*"&C19&"*") -> 0 | AE19: =SUM(F19:AD19) -> 0 | AF19: =COUNTIF('2026'!$M$144:$M$1626,"*"&C19&"*") -> 0 | AG19: =AF19/AJ19 -> #DIV/0!
A20: 18 | B20: 株式会社コスモ警備 | C20: =SUBSTITUTE(SUBSTITUTE(SUBSTITUTE(B20,"株式会社",""),"有限会社",""),"合同会社","") -> コスモ警備 | E20: =COUNTIFS('2026'!$A$47:$AW$1626,"*"&C20&"*",'2026'!$A$47:$AW$1626,"交*") -> 0 | F20: =COUNTIF('2026'!$M$147:$M$255,"*"&$C20&"*") -> 0 | G20: =COUNTIF('2026'!$M$261:$M$305,"*"&$C20&"*") -> 0 | K20: =COUNTIF('2026'!$M$359:$M$399,"*"&C20&"*") -> 0 | L20: =COUNTIF('2026'!$M$405:$M$421,"*"&$C20&"*") -> 0 | M20: =COUNTIF('2026'!$M$427:$M$463,"*"&C20&"*") -> 0 | N20: =COUNTIF('2026'!$M$469:$M$483,"*"&C20&"*") -> 0 | O20: =COUNTIF('2026'!$M$489:$M$508,"*"&C20&"*") -> 0 | P20: =COUNTIF('2026'!$M$514:$M$566,"*"&C20&"*") -> 0 | Q20: =COUNTIF('2026'!$M$583:$M$625,"*"&C20&"*") -> 0 | R20: =COUNTIF('2026'!$M$634:$M$648,"*"&C20&"*") -> 0 | S20: =COUNTIF('2026'!$M$654:$M$724,"*"&C20&"*") -> 0 | T20: =COUNTIF('2026'!$M$730:$M$905,"*"&C20&"*") -> 0 | U20: =COUNTIF('2026'!$M$911:$M$958,"*"&C20&"*") -> 0 | V20: =COUNTIF('2026'!$M$964:$M$991,"*"&C20&"*") -> 0 | W20: =COUNTIF('2026'!$M$997:$M$1089,"*"&C20&"*") -> 0 | X20: =COUNTIF('2026'!$M$1095:$M$1136,"*"&C20&"*") -> 0 | Y20: =COUNTIF('2026'!$M$1142:$M$1233,"*"&C20&"*") -> 0 | Z20: =COUNTIF('2026'!$M$1239:$M$1296,"*"&C20&"*") -> 8 | AA20: =COUNTIF('2026'!$M$1304:$M$1366,"*"&C20&"*") -> 0 | AB20: =COUNTIF('2026'!$M$1372:$M$1449,"*"&C20&"*") -> 0 | AC20: =COUNTIF('2026'!$M$1462:$M$1463,"*"&C20&"*") -> 0 | AD20: =COUNTIF('2026'!$M$1480:$M$1593,"*"&C20&"*") -> 0 | AE20: =SUM(F20:AD20) -> 8 | AF20: =COUNTIF('2026'!$M$144:$M$1626,"*"&C20&"*") -> 8 | AG20: =AF20/AJ20 -> 1 | AH20: 6 | AI20: 2 | AJ20: 8
A21: 19 | B21: おうみ警備保障株式会社 | C21: =SUBSTITUTE(SUBSTITUTE(SUBSTITUTE(B21,"株式会社",""),"有限会社",""),"合同会社","") -> おうみ警備保障 | E21: =COUNTIFS('2026'!$A$47:$AW$1626,"*"&C21&"*",'2026'!$A$47:$AW$1626,"交*") -> 0 | F21: =COUNTIF('2026'!$M$147:$M$255,"*"&$C21&"*") -> 0 | G21: =COUNTIF('2026'!$M$261:$M$305,"*"&$C21&"*") -> 0 | K21: =COUNTIF('2026'!$M$359:$M$399,"*"&C21&"*") -> 0 | L21: =COUNTIF('2026'!$M$405:$M$421,"*"&$C21&"*") -> 0 | M21: =COUNTIF('2026'!$M$427:$M$463,"*"&C21&"*") -> 0 | N21: =COUNTIF('2026'!$M$469:$M$483,"*"&C21&"*") -> 0 | O21: =COUNTIF('2026'!$M$489:$M$508,"*"&C21&"*") -> 0 | P21: =COUNTIF('2026'!$M$514:$M$566,"*"&C21&"*") -> 0 | Q21: =COUNTIF('2026'!$M$583:$M$625,"*"&C21&"*") -> 0 | R21: =COUNTIF('2026'!$M$634:$M$648,"*"&C21&"*") -> 0 | S21: =COUNTIF('2026'!$M$654:$M$724,"*"&C21&"*") -> 0 | T21: =COUNTIF('2026'!$M$730:$M$905,"*"&C21&"*") -> 0 | U21: =COUNTIF('2026'!$M$911:$M$958,"*"&C21&"*") -> 0 | V21: =COUNTIF('2026'!$M$964:$M$991,"*"&C21&"*") -> 0 | W21: =COUNTIF('2026'!$M$997:$M$1089,"*"&C21&"*") -> 0 | X21: =COUNTIF('2026'!$M$1095:$M$1136,"*"&C21&"*") -> 0 | Y21: =COUNTIF('2026'!$M$1142:$M$1233,"*"&C21&"*") -> 0 | Z21: =COUNTIF('2026'!$M$1239:$M$1296,"*"&C21&"*") -> 0 | AA21: =COUNTIF('2026'!$M$1304:$M$1366,"*"&C21&"*") -> 0 | AB21: =COUNTIF('2026'!$M$1372:$M$1449,"*"&C21&"*") -> 0 | AC21: =COUNTIF('2026'!$M$1462:$M$1463,"*"&C21&"*") -> 0 | AD21: =COUNTIF('2026'!$M$1480:$M$1593,"*"&C21&"*") -> 9 | AE21: =SUM(F21:AD21) -> 9 | AF21: =COUNTIF('2026'!$M$144:$M$1626,"*"&C21&"*") -> 9 | AG21: =AF21/AJ21 -> 0.6 | AH21: 13 | AI21: 2 | AJ21: 15
A22: 20 | B22: 株式会社グロウセキュリティ | C22: =SUBSTITUTE(SUBSTITUTE(SUBSTITUTE(B22,"株式会社",""),"有限会社",""),"合同会社","") -> グロウセキュリティ | E22: =COUNTIFS('2026'!$A$47:$AW$1626,"*"&C22&"*",'2026'!$A$47:$AW$1626,"交*") -> 0 | F22: =COUNTIF('2026'!$M$147:$M$255,"*"&$C22&"*") -> 0 | G22: =COUNTIF('2026'!$M$261:$M$305,"*"&$C22&"*") -> 0 | K22: =COUNTIF('2026'!$M$359:$M$399,"*"&C22&"*") -> 0 | L22: =COUNTIF('2026'!$M$405:$M$421,"*"&$C22&"*") -> 0 | M22: =COUNTIF('2026'!$M$427:$M$463,"*"&C22&"*") -> 0 | N22: =COUNTIF('2026'!$M$469:$M$483,"*"&C22&"*") -> 0 | O22: =COUNTIF('2026'!$M$489:$M$508,"*"&C22&"*") -> 0 | P22: =COUNTIF('2026'!$M$514:$M$566,"*"&C22&"*") -> 0 | Q22: =COUNTIF('2026'!$M$583:$M$625,"*"&C22&"*") -> 0 | R22: =COUNTIF('2026'!$M$634:$M$648,"*"&C22&"*") -> 0 | S22: =COUNTIF('2026'!$M$654:$M$724,"*"&C22&"*") -> 0 | T22: =COUNTIF('2026'!$M$730:$M$905,"*"&C22&"*") -> 0 | U22: =COUNTIF('2026'!$M$911:$M$958,"*"&C22&"*") -> 0 | V22: =COUNTIF('2026'!$M$964:$M$991,"*"&C22&"*") -> 0 | W22: =COUNTIF('2026'!$M$997:$M$1089,"*"&C22&"*") -> 0 | X22: =COUNTIF('2026'!$M$1095:$M$1136,"*"&C22&"*") -> 0 | Y22: =COUNTIF('2026'!$M$1142:$M$1233,"*"&C22&"*") -> 0 | Z22: =COUNTIF('2026'!$M$1239:$M$1296,"*"&C22&"*") -> 0 | AA22: =COUNTIF('2026'!$M$1304:$M$1366,"*"&C22&"*") -> 0 | AB22: =COUNTIF('2026'!$M$1372:$M$1449,"*"&C22&"*") -> 0 | AC22: =COUNTIF('2026'!$M$1462:$M$1463,"*"&C22&"*") -> 0 | AD22: =COUNTIF('2026'!$M$1480:$M$1593,"*"&C22&"*") -> 0 | AE22: =SUM(F22:AD22) -> 0 | AF22: =COUNTIF('2026'!$M$144:$M$1626,"*"&C22&"*") -> 0 | AG22: =AF22/AJ22 -> #DIV/0!
A23: 21 | B23: 株式会社シンリュウ | C23: =SUBSTITUTE(SUBSTITUTE(SUBSTITUTE(B23,"株式会社",""),"有限会社",""),"合同会社","") -> シンリュウ | E23: =COUNTIFS('2026'!$A$47:$AW$1626,"*"&C23&"*",'2026'!$A$47:$AW$1626,"交*") -> 0 | F23: =COUNTIF('2026'!$M$147:$M$255,"*"&$C23&"*") -> 20 | G23: =COUNTIF('2026'!$M$261:$M$305,"*"&$C23&"*") -> 0 | K23: =COUNTIF('2026'!$M$359:$M$399,"*"&C23&"*") -> 0 | L23: =COUNTIF('2026'!$M$405:$M$421,"*"&$C23&"*") -> 0 | M23: =COUNTIF('2026'!$M$427:$M$463,"*"&C23&"*") -> 0 | N23: =COUNTIF('2026'!$M$469:$M$483,"*"&C23&"*") -> 0 | O23: =COUNTIF('2026'!$M$489:$M$508,"*"&C23&"*") -> 0 | P23: =COUNTIF('2026'!$M$514:$M$566,"*"&C23&"*") -> 0 | Q23: =COUNTIF('2026'!$M$583:$M$625,"*"&C23&"*") -> 0 | R23: =COUNTIF('2026'!$M$634:$M$648,"*"&C23&"*") -> 0 | S23: =COUNTIF('2026'!$M$654:$M$724,"*"&C23&"*") -> 0 | T23: =COUNTIF('2026'!$M$730:$M$905,"*"&C23&"*") -> 0 | U23: =COUNTIF('2026'!$M$911:$M$958,"*"&C23&"*") -> 0 | V23: =COUNTIF('2026'!$M$964:$M$991,"*"&C23&"*") -> 0 | W23: =COUNTIF('2026'!$M$997:$M$1089,"*"&C23&"*") -> 0 | X23: =COUNTIF('2026'!$M$1095:$M$1136,"*"&C23&"*") -> 0 | Y23: =COUNTIF('2026'!$M$1142:$M$1233,"*"&C23&"*") -> 0 | Z23: =COUNTIF('2026'!$M$1239:$M$1296,"*"&C23&"*") -> 0 | AA23: =COUNTIF('2026'!$M$1304:$M$1366,"*"&C23&"*") -> 0 | AB23: =COUNTIF('2026'!$M$1372:$M$1449,"*"&C23&"*") -> 51 | AC23: =COUNTIF('2026'!$M$1462:$M$1463,"*"&C23&"*") -> 0 | AD23: =COUNTIF('2026'!$M$1480:$M$1593,"*"&C23&"*") -> 0 | AE23: =SUM(F23:AD23) -> 71 | AF23: =COUNTIF('2026'!$M$144:$M$1626,"*"&C23&"*") -> 71 | AG23: =AF23/AJ23 -> 0.53787879 | AH23: 120 | AI23: 12 | AJ23: 132
A24: 22 | B24: 株式会社K2 SECURITY | C24: =SUBSTITUTE(SUBSTITUTE(SUBSTITUTE(B24,"株式会社",""),"有限会社",""),"合同会社","") -> K2 SECURITY | E24: =COUNTIFS('2026'!$A$47:$AW$1626,"*"&C24&"*",'2026'!$A$47:$AW$1626,"交*") -> 0 | F24: =COUNTIF('2026'!$M$147:$M$255,"*"&$C24&"*") -> 0 | G24: =COUNTIF('2026'!$M$261:$M$305,"*"&$C24&"*") -> 0 | K24: =COUNTIF('2026'!$M$359:$M$399,"*"&C24&"*") -> 0 | L24: =COUNTIF('2026'!$M$405:$M$421,"*"&$C24&"*") -> 0 | M24: =COUNTIF('2026'!$M$427:$M$463,"*"&C24&"*") -> 0 | N24: =COUNTIF('2026'!$M$469:$M$483,"*"&C24&"*") -> 0 | O24: =COUNTIF('2026'!$M$489:$M$508,"*"&C24&"*") -> 3 | P24: =COUNTIF('2026'!$M$514:$M$566,"*"&C24&"*") -> 0 | Q24: =COUNTIF('2026'!$M$583:$M$625,"*"&C24&"*") -> 0 | R24: =COUNTIF('2026'!$M$634:$M$648,"*"&C24&"*") -> 0 | S24: =COUNTIF('2026'!$M$654:$M$724,"*"&C24&"*") -> 0 | T24: =COUNTIF('2026'!$M$730:$M$905,"*"&C24&"*") -> 0 | U24: =COUNTIF('2026'!$M$911:$M$958,"*"&C24&"*") -> 0 | V24: =COUNTIF('2026'!$M$964:$M$991,"*"&C24&"*") -> 0 | W24: =COUNTIF('2026'!$M$997:$M$1089,"*"&C24&"*") -> 0 | X24: =COUNTIF('2026'!$M$1095:$M$1136,"*"&C24&"*") -> 0 | Y24: =COUNTIF('2026'!$M$1142:$M$1233,"*"&C24&"*") -> 21 | Z24: =COUNTIF('2026'!$M$1239:$M$1296,"*"&C24&"*") -> 24 | AA24: =COUNTIF('2026'!$M$1304:$M$1366,"*"&C24&"*") -> 0 | AB24: =COUNTIF('2026'!$M$1372:$M$1449,"*"&C24&"*") -> 0 | AC24: =COUNTIF('2026'!$M$1462:$M$1463,"*"&C24&"*") -> 0 | AD24: =COUNTIF('2026'!$M$1480:$M$1593,"*"&C24&"*") -> 0 | AE24: =SUM(F24:AD24) -> 48 | AF24: =COUNTIF('2026'!$M$144:$M$1626,"*"&C24&"*") -> 48 | AG24: =AF24/AJ24 -> 0.68571429 | AH24: 62 | AI24: 8 | AJ24: 70
A25: 23 | B25: プラスワン㈱ | C25: プラスワン（株）H | E25: =COUNTIFS('2026'!$A$47:$AW$1626,"*"&C25&"*",'2026'!$A$47:$AW$1626,"交*") -> 0 | F25: =COUNTIF('2026'!$M$147:$M$255,"*"&$C25&"*") -> 0 | G25: =COUNTIF('2026'!$M$261:$M$305,"*"&$C25&"*") -> 0 | K25: =COUNTIF('2026'!$M$359:$M$399,"*"&C25&"*") -> 0 | L25: =COUNTIF('2026'!$M$405:$M$421,"*"&$C25&"*") -> 0 | M25: =COUNTIF('2026'!$M$427:$M$463,"*"&C25&"*") -> 0 | N25: =COUNTIF('2026'!$M$469:$M$483,"*"&C25&"*") -> 0 | O25: =COUNTIF('2026'!$M$489:$M$508,"*"&C25&"*") -> 0 | P25: =COUNTIF('2026'!$M$514:$M$566,"*"&C25&"*") -> 0 | Q25: =COUNTIF('2026'!$M$583:$M$625,"*"&C25&"*") -> 0 | R25: =COUNTIF('2026'!$M$634:$M$648,"*"&C25&"*") -> 0 | S25: =COUNTIF('2026'!$M$654:$M$724,"*"&C25&"*") -> 0 | T25: =COUNTIF('2026'!$M$730:$M$905,"*"&C25&"*") -> 0 | U25: =COUNTIF('2026'!$M$911:$M$958,"*"&C25&"*") -> 0 | V25: =COUNTIF('2026'!$M$964:$M$991,"*"&C25&"*") -> 0 | W25: =COUNTIF('2026'!$M$997:$M$1089,"*"&C25&"*") -> 0 | X25: =COUNTIF('2026'!$M$1095:$M$1136,"*"&C25&"*") -> 0 | Y25: =COUNTIF('2026'!$M$1142:$M$1233,"*"&C25&"*") -> 0 | Z25: =COUNTIF('2026'!$M$1239:$M$1296,"*"&C25&"*") -> 0 | AA25: =COUNTIF('2026'!$M$1304:$M$1366,"*"&C25&"*") -> 0 | AB25: =COUNTIF('2026'!$M$1372:$M$1449,"*"&C25&"*") -> 0 | AC25: =COUNTIF('2026'!$M$1462:$M$1463,"*"&C25&"*") -> 0 | AD25: =COUNTIF('2026'!$M$1480:$M$1593,"*"&C25&"*") -> 0 | AE25: =SUM(F25:AD25) -> 0 | AF25: =COUNTIF('2026'!$M$144:$M$1626,"*"&C25&"*") -> 0 | AG25: =AF25/AJ25 -> #DIV/0!
A26: 24 | B26: 株式会社エース警備保障 | C26: =SUBSTITUTE(SUBSTITUTE(SUBSTITUTE(B26,"株式会社",""),"有限会社",""),"合同会社","") -> エース警備保障 | E26: =COUNTIFS('2026'!$A$47:$AW$1626,"*"&C26&"*",'2026'!$A$47:$AW$1626,"交*") -> 0 | F26: =COUNTIF('2026'!$M$147:$M$255,"*"&$C26&"*") -> 10 | G26: =COUNTIF('2026'!$M$261:$M$305,"*"&$C26&"*") -> 0 | K26: =COUNTIF('2026'!$M$359:$M$399,"*"&C26&"*") -> 0 | L26: =COUNTIF('2026'!$M$405:$M$421,"*"&$C26&"*") -> 0 | M26: =COUNTIF('2026'!$M$427:$M$463,"*"&C26&"*") -> 0 | N26: =COUNTIF('2026'!$M$469:$M$483,"*"&C26&"*") -> 0 | O26: =COUNTIF('2026'!$M$489:$M$508,"*"&C26&"*") -> 0 | P26: =COUNTIF('2026'!$M$514:$M$566,"*"&C26&"*") -> 0 | Q26: =COUNTIF('2026'!$M$583:$M$625,"*"&C26&"*") -> 0 | R26: =COUNTIF('2026'!$M$634:$M$648,"*"&C26&"*") -> 0 | S26: =COUNTIF('2026'!$M$654:$M$724,"*"&C26&"*") -> 0 | T26: =COUNTIF('2026'!$M$730:$M$905,"*"&C26&"*") -> 0 | U26: =COUNTIF('2026'!$M$911:$M$958,"*"&C26&"*") -> 0 | V26: =COUNTIF('2026'!$M$964:$M$991,"*"&C26&"*") -> 0 | W26: =COUNTIF('2026'!$M$997:$M$1089,"*"&C26&"*") -> 6 | X26: =COUNTIF('2026'!$M$1095:$M$1136,"*"&C26&"*") -> 0 | Y26: =COUNTIF('2026'!$M$1142:$M$1233,"*"&C26&"*") -> 13 | Z26: =COUNTIF('2026'!$M$1239:$M$1296,"*"&C26&"*") -> 0 | AA26: =COUNTIF('2026'!$M$1304:$M$1366,"*"&C26&"*") -> 0 | AB26: =COUNTIF('2026'!$M$1372:$M$1449,"*"&C26&"*") -> 0 | AC26: =COUNTIF('2026'!$M$1462:$M$1463,"*"&C26&"*") -> 0 | AD26: =COUNTIF('2026'!$M$1480:$M$1593,"*"&C26&"*") -> 0 | AE26: =SUM(F26:AD26) -> 29 | AF26: =COUNTIF('2026'!$M$144:$M$1626,"*"&C26&"*") -> 29 | AG26: =AF26/AJ26 -> 0.26363636 | AH26: 100 | AI26: 10 | AJ26: 110
A27: 25 | B27: サンエス警備保障株式会社 | C27: =SUBSTITUTE(SUBSTITUTE(SUBSTITUTE(B27,"株式会社",""),"有限会社",""),"合同会社","") -> サンエス警備保障 | E27: =COUNTIFS('2026'!$A$47:$AW$1626,"*"&C27&"*",'2026'!$A$47:$AW$1626,"交*") -> 0 | F27: =COUNTIF('2026'!$M$147:$M$255,"*"&$C27&"*") -> 0 | G27: =COUNTIF('2026'!$M$261:$M$305,"*"&$C27&"*") -> 0 | K27: =COUNTIF('2026'!$M$359:$M$399,"*"&C27&"*") -> 0 | L27: =COUNTIF('2026'!$M$405:$M$421,"*"&$C27&"*") -> 17 | M27: =COUNTIF('2026'!$M$427:$M$463,"*"&C27&"*") -> 0 | N27: =COUNTIF('2026'!$M$469:$M$483,"*"&C27&"*") -> 0 | O27: =COUNTIF('2026'!$M$489:$M$508,"*"&C27&"*") -> 17 | P27: =COUNTIF('2026'!$M$514:$M$566,"*"&C27&"*") -> 0 | Q27: =COUNTIF('2026'!$M$583:$M$625,"*"&C27&"*") -> 0 | R27: =COUNTIF('2026'!$M$634:$M$648,"*"&C27&"*") -> 0 | S27: =COUNTIF('2026'!$M$654:$M$724,"*"&C27&"*") -> 0 | T27: =COUNTIF('2026'!$M$730:$M$905,"*"&C27&"*") -> 0 | U27: =COUNTIF('2026'!$M$911:$M$958,"*"&C27&"*") -> 0 | V27: =COUNTIF('2026'!$M$964:$M$991,"*"&C27&"*") -> 0 | W27: =COUNTIF('2026'!$M$997:$M$1089,"*"&C27&"*") -> 0 | X27: =COUNTIF('2026'!$M$1095:$M$1136,"*"&C27&"*") -> 0 | Y27: =COUNTIF('2026'!$M$1142:$M$1233,"*"&C27&"*") -> 0 | Z27: =COUNTIF('2026'!$M$1239:$M$1296,"*"&C27&"*") -> 0 | AA27: =COUNTIF('2026'!$M$1304:$M$1366,"*"&C27&"*") -> 0 | AB27: =COUNTIF('2026'!$M$1372:$M$1449,"*"&C27&"*") -> 0 | AC27: =COUNTIF('2026'!$M$1462:$M$1463,"*"&C27&"*") -> 0 | AD27: =COUNTIF('2026'!$M$1480:$M$1593,"*"&C27&"*") -> 0 | AE27: =SUM(F27:AD27) -> 34 | AF27: =COUNTIF('2026'!$M$144:$M$1626,"*"&C27&"*") -> 34 | AG27: =AF27/AJ27 -> 0.68 | AH27: 46 | AI27: 4 | AJ27: 50
A28: 26 | B28: 株式会社エム・ティー | C28: =SUBSTITUTE(SUBSTITUTE(SUBSTITUTE(B28,"株式会社",""),"有限会社",""),"合同会社","") -> エム・ティー | E28: =COUNTIFS('2026'!$A$47:$AW$1626,"*"&C28&"*",'2026'!$A$47:$AW$1626,"交*") -> 0 | F28: =COUNTIF('2026'!$M$147:$M$255,"*"&$C28&"*") -> 0 | G28: =COUNTIF('2026'!$M$261:$M$305,"*"&$C28&"*") -> 0 | K28: =COUNTIF('2026'!$M$359:$M$399,"*"&C28&"*") -> 0 | L28: =COUNTIF('2026'!$M$405:$M$421,"*"&$C28&"*") -> 0 | M28: =COUNTIF('2026'!$M$427:$M$463,"*"&C28&"*") -> 35 | N28: =COUNTIF('2026'!$M$469:$M$483,"*"&C28&"*") -> 0 | O28: =COUNTIF('2026'!$M$489:$M$508,"*"&C28&"*") -> 0 | P28: =COUNTIF('2026'!$M$514:$M$566,"*"&C28&"*") -> 0 | Q28: =COUNTIF('2026'!$M$583:$M$625,"*"&C28&"*") -> 0 | R28: =COUNTIF('2026'!$M$634:$M$648,"*"&C28&"*") -> 0 | S28: =COUNTIF('2026'!$M$654:$M$724,"*"&C28&"*") -> 0 | T28: =COUNTIF('2026'!$M$730:$M$905,"*"&C28&"*") -> 0 | U28: =COUNTIF('2026'!$M$911:$M$958,"*"&C28&"*") -> 0 | V28: =COUNTIF('2026'!$M$964:$M$991,"*"&C28&"*") -> 0 | W28: =COUNTIF('2026'!$M$997:$M$1089,"*"&C28&"*") -> 35 | X28: =COUNTIF('2026'!$M$1095:$M$1136,"*"&C28&"*") -> 0 | Y28: =COUNTIF('2026'!$M$1142:$M$1233,"*"&C28&"*") -> 0 | Z28: =COUNTIF('2026'!$M$1239:$M$1296,"*"&C28&"*") -> 0 | AA28: =COUNTIF('2026'!$M$1304:$M$1366,"*"&C28&"*") -> 0 | AB28: =COUNTIF('2026'!$M$1372:$M$1449,"*"&C28&"*") -> 0 | AC28: =COUNTIF('2026'!$M$1462:$M$1463,"*"&C28&"*") -> 0 | AD28: =COUNTIF('2026'!$M$1480:$M$1593,"*"&C28&"*") -> 0 | AE28: =SUM(F28:AD28) -> 70 | AF28: =COUNTIF('2026'!$M$144:$M$1626,"*"&C28&"*") -> 70 | AG28: =AF28/AJ28 -> 0.92105263 | AH28: 67 | AI28: 9 | AJ28: 76
A29: 27 | B29: 株式会社兵庫警備保障 | C29: =SUBSTITUTE(SUBSTITUTE(SUBSTITUTE(B29,"株式会社",""),"有限会社",""),"合同会社","") -> 兵庫警備保障 | E29: =COUNTIFS('2026'!$A$47:$AW$1626,"*"&C29&"*",'2026'!$A$47:$AW$1626,"交*") -> 0 | F29: =COUNTIF('2026'!$M$147:$M$255,"*"&$C29&"*") -> 7 | G29: =COUNTIF('2026'!$M$261:$M$305,"*"&$C29&"*") -> 0 | K29: =COUNTIF('2026'!$M$359:$M$399,"*"&C29&"*") -> 0 | L29: =COUNTIF('2026'!$M$405:$M$421,"*"&$C29&"*") -> 0 | M29: =COUNTIF('2026'!$M$427:$M$463,"*"&C29&"*") -> 0 | N29: =COUNTIF('2026'!$M$469:$M$483,"*"&C29&"*") -> 0 | O29: =COUNTIF('2026'!$M$489:$M$508,"*"&C29&"*") -> 0 | P29: =COUNTIF('2026'!$M$514:$M$566,"*"&C29&"*") -> 0 | Q29: =COUNTIF('2026'!$M$583:$M$625,"*"&C29&"*") -> 0 | R29: =COUNTIF('2026'!$M$634:$M$648,"*"&C29&"*") -> 0 | S29: =COUNTIF('2026'!$M$654:$M$724,"*"&C29&"*") -> 0 | T29: =COUNTIF('2026'!$M$730:$M$905,"*"&C29&"*") -> 0 | U29: =COUNTIF('2026'!$M$911:$M$958,"*"&C29&"*") -> 0 | V29: =COUNTIF('2026'!$M$964:$M$991,"*"&C29&"*") -> 0 | W29: =COUNTIF('2026'!$M$997:$M$1089,"*"&C29&"*") -> 0 | X29: =COUNTIF('2026'!$M$1095:$M$1136,"*"&C29&"*") -> 0 | Y29: =COUNTIF('2026'!$M$1142:$M$1233,"*"&C29&"*") -> 0 | Z29: =COUNTIF('2026'!$M$1239:$M$1296,"*"&C29&"*") -> 0 | AA29: =COUNTIF('2026'!$M$1304:$M$1366,"*"&C29&"*") -> 0 | AB29: =COUNTIF('2026'!$M$1372:$M$1449,"*"&C29&"*") -> 0 | AC29: =COUNTIF('2026'!$M$1462:$M$1463,"*"&C29&"*") -> 0 | AD29: =COUNTIF('2026'!$M$1480:$M$1593,"*"&C29&"*") -> 0 | AE29: =SUM(F29:AD29) -> 7 | AF29: =COUNTIF('2026'!$M$144:$M$1626,"*"&C29&"*") -> 7 | AG29: =AF29/AJ29 -> 1 | AH29: 6 | AI29: 1 | AJ29: 7
A30: 28 | B30: 西部綜合警備株式会社 | C30: =SUBSTITUTE(SUBSTITUTE(SUBSTITUTE(B30,"株式会社",""),"有限会社",""),"合同会社","") -> 西部綜合警備 | E30: =COUNTIFS('2026'!$A$47:$AW$1626,"*"&C30&"*",'2026'!$A$47:$AW$1626,"交*") -> 0 | F30: =COUNTIF('2026'!$M$147:$M$255,"*"&$C30&"*") -> 0 | G30: =COUNTIF('2026'!$M$261:$M$305,"*"&$C30&"*") -> 0 | K30: =COUNTIF('2026'!$M$359:$M$399,"*"&C30&"*") -> 0 | L30: =COUNTIF('2026'!$M$405:$M$421,"*"&$C30&"*") -> 0 | M30: =COUNTIF('2026'!$M$427:$M$463,"*"&C30&"*") -> 0 | N30: =COUNTIF('2026'!$M$469:$M$483,"*"&C30&"*") -> 0 | O30: =COUNTIF('2026'!$M$489:$M$508,"*"&C30&"*") -> 0 | P30: =COUNTIF('2026'!$M$514:$M$566,"*"&C30&"*") -> 0 | Q30: =COUNTIF('2026'!$M$583:$M$625,"*"&C30&"*") -> 0 | R30: =COUNTIF('2026'!$M$634:$M$648,"*"&C30&"*") -> 0 | S30: =COUNTIF('2026'!$M$654:$M$724,"*"&C30&"*") -> 0 | T30: =COUNTIF('2026'!$M$730:$M$905,"*"&C30&"*") -> 0 | U30: =COUNTIF('2026'!$M$911:$M$958,"*"&C30&"*") -> 0 | V30: =COUNTIF('2026'!$M$964:$M$991,"*"&C30&"*") -> 0 | W30: =COUNTIF('2026'!$M$997:$M$1089,"*"&C30&"*") -> 0 | X30: =COUNTIF('2026'!$M$1095:$M$1136,"*"&C30&"*") -> 0 | Y30: =COUNTIF('2026'!$M$1142:$M$1233,"*"&C30&"*") -> 30 | Z30: =COUNTIF('2026'!$M$1239:$M$1296,"*"&C30&"*") -> 0 | AA30: =COUNTIF('2026'!$M$1304:$M$1366,"*"&C30&"*") -> 0 | AB30: =COUNTIF('2026'!$M$1372:$M$1449,"*"&C30&"*") -> 0 | AC30: =COUNTIF('2026'!$M$1462:$M$1463,"*"&C30&"*") -> 0 | AD30: =COUNTIF('2026'!$M$1480:$M$1593,"*"&C30&"*") -> 0 | AE30: =SUM(F30:AD30) -> 30 | AF30: =COUNTIF('2026'!$M$144:$M$1626,"*"&C30&"*") -> 30 | AG30: =AF30/AJ30 -> 1 | AH30: 22 | AI30: 8 | AJ30: 30
A31: 29 | B31: 株式会社ドリーム警備 | C31: =SUBSTITUTE(SUBSTITUTE(SUBSTITUTE(B31,"株式会社",""),"有限会社",""),"合同会社","") -> ドリーム警備 | E31: =COUNTIFS('2026'!$A$47:$AW$1626,"*"&C31&"*",'2026'!$A$47:$AW$1626,"交*") -> 0 | F31: =COUNTIF('2026'!$M$147:$M$255,"*"&$C31&"*") -> 0 | G31: =COUNTIF('2026'!$M$261:$M$305,"*"&$C31&"*") -> 0 | K31: =COUNTIF('2026'!$M$359:$M$399,"*"&C31&"*") -> 0 | L31: =COUNTIF('2026'!$M$405:$M$421,"*"&$C31&"*") -> 0 | M31: =COUNTIF('2026'!$M$427:$M$463,"*"&C31&"*") -> 0 | N31: =COUNTIF('2026'!$M$469:$M$483,"*"&C31&"*") -> 0 | O31: =COUNTIF('2026'!$M$489:$M$508,"*"&C31&"*") -> 0 | P31: =COUNTIF('2026'!$M$514:$M$566,"*"&C31&"*") -> 0 | Q31: =COUNTIF('2026'!$M$583:$M$625,"*"&C31&"*") -> 0 | R31: =COUNTIF('2026'!$M$634:$M$648,"*"&C31&"*") -> 0 | S31: =COUNTIF('2026'!$M$654:$M$724,"*"&C31&"*") -> 0 | T31: =COUNTIF('2026'!$M$730:$M$905,"*"&C31&"*") -> 0 | U31: =COUNTIF('2026'!$M$911:$M$958,"*"&C31&"*") -> 0 | V31: =COUNTIF('2026'!$M$964:$M$991,"*"&C31&"*") -> 0 | W31: =COUNTIF('2026'!$M$997:$M$1089,"*"&C31&"*") -> 9 | X31: =COUNTIF('2026'!$M$1095:$M$1136,"*"&C31&"*") -> 0 | Y31: =COUNTIF('2026'!$M$1142:$M$1233,"*"&C31&"*") -> 0 | Z31: =COUNTIF('2026'!$M$1239:$M$1296,"*"&C31&"*") -> 0 | AA31: =COUNTIF('2026'!$M$1304:$M$1366,"*"&C31&"*") -> 0 | AB31: =COUNTIF('2026'!$M$1372:$M$1449,"*"&C31&"*") -> 0 | AC31: =COUNTIF('2026'!$M$1462:$M$1463,"*"&C31&"*") -> 0 | AD31: =COUNTIF('2026'!$M$1480:$M$1593,"*"&C31&"*") -> 0 | AE31: =SUM(F31:AD31) -> 9 | AF31: =COUNTIF('2026'!$M$144:$M$1626,"*"&C31&"*") -> 9 | AG31: =AF31/AJ31 -> 0.75 | AH31: 11 | AI31: 1 | AJ31: 12
A32: 30 | B32: 株式会社ジャパンクリエイトサービス | C32: =SUBSTITUTE(SUBSTITUTE(SUBSTITUTE(B32,"株式会社",""),"有限会社",""),"合同会社","") -> ジャパンクリエイトサービス | E32: =COUNTIFS('2026'!$A$47:$AW$1626,"*"&C32&"*",'2026'!$A$47:$AW$1626,"交*") -> 0 | F32: =COUNTIF('2026'!$M$147:$M$255,"*"&$C32&"*") -> 0 | G32: =COUNTIF('2026'!$M$261:$M$305,"*"&$C32&"*") -> 0 | K32: =COUNTIF('2026'!$M$359:$M$399,"*"&C32&"*") -> 0 | L32: =COUNTIF('2026'!$M$405:$M$421,"*"&$C32&"*") -> 0 | M32: =COUNTIF('2026'!$M$427:$M$463,"*"&C32&"*") -> 0 | N32: =COUNTIF('2026'!$M$469:$M$483,"*"&C32&"*") -> 0 | O32: =COUNTIF('2026'!$M$489:$M$508,"*"&C32&"*") -> 0 | P32: =COUNTIF('2026'!$M$514:$M$566,"*"&C32&"*") -> 0 | Q32: =COUNTIF('2026'!$M$583:$M$625,"*"&C32&"*") -> 0 | R32: =COUNTIF('2026'!$M$634:$M$648,"*"&C32&"*") -> 0 | S32: =COUNTIF('2026'!$M$654:$M$724,"*"&C32&"*") -> 0 | T32: =COUNTIF('2026'!$M$730:$M$905,"*"&C32&"*") -> 0 | U32: =COUNTIF('2026'!$M$911:$M$958,"*"&C32&"*") -> 0 | V32: =COUNTIF('2026'!$M$964:$M$991,"*"&C32&"*") -> 0 | W32: =COUNTIF('2026'!$M$997:$M$1089,"*"&C32&"*") -> 5 | X32: =COUNTIF('2026'!$M$1095:$M$1136,"*"&C32&"*") -> 0 | Y32: =COUNTIF('2026'!$M$1142:$M$1233,"*"&C32&"*") -> 0 | Z32: =COUNTIF('2026'!$M$1239:$M$1296,"*"&C32&"*") -> 0 | AA32: =COUNTIF('2026'!$M$1304:$M$1366,"*"&C32&"*") -> 0 | AB32: =COUNTIF('2026'!$M$1372:$M$1449,"*"&C32&"*") -> 0 | AC32: =COUNTIF('2026'!$M$1462:$M$1463,"*"&C32&"*") -> 0 | AD32: =COUNTIF('2026'!$M$1480:$M$1593,"*"&C32&"*") -> 0 | AE32: =SUM(F32:AD32) -> 5 | AF32: =COUNTIF('2026'!$M$144:$M$1626,"*"&C32&"*") -> 5 | AG32: =AF32/AJ32 -> 0.5 | AH32: 9 | AI32: 1 | AJ32: 10
A33: 31 | B33: 株式会社セノン | C33: =SUBSTITUTE(SUBSTITUTE(SUBSTITUTE(B33,"株式会社",""),"有限会社",""),"合同会社","") -> セノン | E33: =COUNTIFS('2026'!$A$47:$AW$1626,"*"&C33&"*",'2026'!$A$47:$AW$1626,"交*") -> 0 | F33: =COUNTIF('2026'!$M$147:$M$255,"*"&$C33&"*") -> 0 | G33: =COUNTIF('2026'!$M$261:$M$305,"*"&$C33&"*") -> 0 | K33: =COUNTIF('2026'!$M$359:$M$399,"*"&C33&"*") -> 0 | L33: =COUNTIF('2026'!$M$405:$M$421,"*"&$C33&"*") -> 0 | M33: =COUNTIF('2026'!$M$427:$M$463,"*"&C33&"*") -> 0 | N33: =COUNTIF('2026'!$M$469:$M$483,"*"&C33&"*") -> 0 | O33: =COUNTIF('2026'!$M$489:$M$508,"*"&C33&"*") -> 0 | P33: =COUNTIF('2026'!$M$514:$M$566,"*"&C33&"*") -> 0 | Q33: =COUNTIF('2026'!$M$583:$M$625,"*"&C33&"*") -> 0 | R33: =COUNTIF('2026'!$M$634:$M$648,"*"&C33&"*") -> 0 | S33: =COUNTIF('2026'!$M$654:$M$724,"*"&C33&"*") -> 0 | T33: =COUNTIF('2026'!$M$730:$M$905,"*"&C33&"*") -> 0 | U33: =COUNTIF('2026'!$M$911:$M$958,"*"&C33&"*") -> 40 | V33: =COUNTIF('2026'!$M$964:$M$991,"*"&C33&"*") -> 0 | W33: =COUNTIF('2026'!$M$997:$M$1089,"*"&C33&"*") -> 0 | X33: =COUNTIF('2026'!$M$1095:$M$1136,"*"&C33&"*") -> 0 | Y33: =COUNTIF('2026'!$M$1142:$M$1233,"*"&C33&"*") -> 0 | Z33: =COUNTIF('2026'!$M$1239:$M$1296,"*"&C33&"*") -> 0 | AA33: =COUNTIF('2026'!$M$1304:$M$1366,"*"&C33&"*") -> 0 | AB33: =COUNTIF('2026'!$M$1372:$M$1449,"*"&C33&"*") -> 0 | AC33: =COUNTIF('2026'!$M$1462:$M$1463,"*"&C33&"*") -> 0 | AD33: =COUNTIF('2026'!$M$1480:$M$1593,"*"&C33&"*") -> 0 | AE33: =SUM(F33:AD33) -> 40 | AF33: =COUNTIF('2026'!$M$144:$M$1626,"*"&C33&"*") -> 40 | AG33: =AF33/AJ33 -> 0.93023256 | AH33: 43 | AI33: 0 | AJ33: 43
A34: 32 | B34: 関西パトロール株式会社 | C34: =SUBSTITUTE(SUBSTITUTE(SUBSTITUTE(B34,"株式会社",""),"有限会社",""),"合同会社","") -> 関西パトロール | E34: =COUNTIFS('2026'!$A$47:$AW$1626,"*"&C34&"*",'2026'!$A$47:$AW$1626,"交*") -> 0 | F34: =COUNTIF('2026'!$M$147:$M$255,"*"&$C34&"*") -> 58 | G34: =COUNTIF('2026'!$M$261:$M$305,"*"&$C34&"*") -> 39 | K34: =COUNTIF('2026'!$M$359:$M$399,"*"&C34&"*") -> 0 | L34: =COUNTIF('2026'!$M$405:$M$421,"*"&$C34&"*") -> 0 | M34: =COUNTIF('2026'!$M$427:$M$463,"*"&C34&"*") -> 0 | N34: =COUNTIF('2026'!$M$469:$M$483,"*"&C34&"*") -> 0 | O34: =COUNTIF('2026'!$M$489:$M$508,"*"&C34&"*") -> 0 | P34: =COUNTIF('2026'!$M$514:$M$566,"*"&C34&"*") -> 0 | Q34: =COUNTIF('2026'!$M$583:$M$625,"*"&C34&"*") -> 0 | R34: =COUNTIF('2026'!$M$634:$M$648,"*"&C34&"*") -> 0 | S34: =COUNTIF('2026'!$M$654:$M$724,"*"&C34&"*") -> 0 | T34: =COUNTIF('2026'!$M$730:$M$905,"*"&C34&"*") -> 0 | U34: =COUNTIF('2026'!$M$911:$M$958,"*"&C34&"*") -> 0 | V34: =COUNTIF('2026'!$M$964:$M$991,"*"&C34&"*") -> 0 | W34: =COUNTIF('2026'!$M$997:$M$1089,"*"&C34&"*") -> 0 | X34: =COUNTIF('2026'!$M$1095:$M$1136,"*"&C34&"*") -> 0 | Y34: =COUNTIF('2026'!$M$1142:$M$1233,"*"&C34&"*") -> 0 | Z34: =COUNTIF('2026'!$M$1239:$M$1296,"*"&C34&"*") -> 0 | AA34: =COUNTIF('2026'!$M$1304:$M$1366,"*"&C34&"*") -> 0 | AB34: =COUNTIF('2026'!$M$1372:$M$1449,"*"&C34&"*") -> 0 | AC34: =COUNTIF('2026'!$M$1462:$M$1463,"*"&C34&"*") -> 0 | AD34: =COUNTIF('2026'!$M$1480:$M$1593,"*"&C34&"*") -> 0 | AE34: =SUM(F34:AD34) -> 97 | AF34: =COUNTIF('2026'!$M$144:$M$1626,"*"&C34&"*") -> 97 | AG34: =AF34/AJ34 -> 0.98979592 | AH34: 86 | AI34: 12 | AJ34: 98
A35: 33 | B35: シンテイ警備株式会社 | C35: =SUBSTITUTE(SUBSTITUTE(SUBSTITUTE(B35,"株式会社",""),"有限会社",""),"合同会社","") -> シンテイ警備 | E35: =COUNTIFS('2026'!$A$47:$AW$1626,"*"&C35&"*",'2026'!$A$47:$AW$1626,"交*") -> 0 | F35: =COUNTIF('2026'!$M$147:$M$255,"*"&$C35&"*") -> 0 | G35: =COUNTIF('2026'!$M$261:$M$305,"*"&$C35&"*") -> 0 | K35: =COUNTIF('2026'!$M$359:$M$399,"*"&C35&"*") -> 0 | L35: =COUNTIF('2026'!$M$405:$M$421,"*"&$C35&"*") -> 0 | M35: =COUNTIF('2026'!$M$427:$M$463,"*"&C35&"*") -> 0 | N35: =COUNTIF('2026'!$M$469:$M$483,"*"&C35&"*") -> 0 | O35: =COUNTIF('2026'!$M$489:$M$508,"*"&C35&"*") -> 0 | P35: =COUNTIF('2026'!$M$514:$M$566,"*"&C35&"*") -> 0 | Q35: =COUNTIF('2026'!$M$583:$M$625,"*"&C35&"*") -> 0 | R35: =COUNTIF('2026'!$M$634:$M$648,"*"&C35&"*") -> 0 | S35: =COUNTIF('2026'!$M$654:$M$724,"*"&C35&"*") -> 0 | T35: =COUNTIF('2026'!$M$730:$M$905,"*"&C35&"*") -> 0 | U35: =COUNTIF('2026'!$M$911:$M$958,"*"&C35&"*") -> 0 | V35: =COUNTIF('2026'!$M$964:$M$991,"*"&C35&"*") -> 7 | W35: =COUNTIF('2026'!$M$997:$M$1089,"*"&C35&"*") -> 0 | X35: =COUNTIF('2026'!$M$1095:$M$1136,"*"&C35&"*") -> 0 | Y35: =COUNTIF('2026'!$M$1142:$M$1233,"*"&C35&"*") -> 0 | Z35: =COUNTIF('2026'!$M$1239:$M$1296,"*"&C35&"*") -> 13 | AA35: =COUNTIF('2026'!$M$1304:$M$1366,"*"&C35&"*") -> 0 | AB35: =COUNTIF('2026'!$M$1372:$M$1449,"*"&C35&"*") -> 0 | AC35: =COUNTIF('2026'!$M$1462:$M$1463,"*"&C35&"*") -> 0 | AD35: =COUNTIF('2026'!$M$1480:$M$1593,"*"&C35&"*") -> 0 | AE35: =SUM(F35:AD35) -> 20 | AF35: =COUNTIF('2026'!$M$144:$M$1626,"*"&C35&"*") -> 20 | AG35: =AF35/AJ35 -> 0.66666667 | AH35: 25 | AI35: 5 | AJ35: 30
A36: 34 | B36: 株式会社コトナ | C36: =SUBSTITUTE(SUBSTITUTE(SUBSTITUTE(B36,"株式会社",""),"有限会社",""),"合同会社","") -> コトナ | E36: =COUNTIFS('2026'!$A$47:$AW$1626,"*"&C36&"*",'2026'!$A$47:$AW$1626,"交*") -> 0 | F36: =COUNTIF('2026'!$M$147:$M$255,"*"&$C36&"*") -> 8 | G36: =COUNTIF('2026'!$M$261:$M$305,"*"&$C36&"*") -> 0 | K36: =COUNTIF('2026'!$M$359:$M$399,"*"&C36&"*") -> 17 | L36: =COUNTIF('2026'!$M$405:$M$421,"*"&$C36&"*") -> 0 | M36: =COUNTIF('2026'!$M$427:$M$463,"*"&C36&"*") -> 0 | N36: =COUNTIF('2026'!$M$469:$M$483,"*"&C36&"*") -> 15 | O36: =COUNTIF('2026'!$M$489:$M$508,"*"&C36&"*") -> 0 | P36: =COUNTIF('2026'!$M$514:$M$566,"*"&C36&"*") -> 0 | Q36: =COUNTIF('2026'!$M$583:$M$625,"*"&C36&"*") -> 35 | R36: =COUNTIF('2026'!$M$634:$M$648,"*"&C36&"*") -> 0 | S36: =COUNTIF('2026'!$M$654:$M$724,"*"&C36&"*") -> 6 | T36: =COUNTIF('2026'!$M$730:$M$905,"*"&C36&"*") -> 132 | U36: =COUNTIF('2026'!$M$911:$M$958,"*"&C36&"*") -> 3 | V36: =COUNTIF('2026'!$M$964:$M$991,"*"&C36&"*") -> 15 | W36: =COUNTIF('2026'!$M$997:$M$1089,"*"&C36&"*") -> 0 | X36: =COUNTIF('2026'!$M$1095:$M$1136,"*"&C36&"*") -> 22 | Y36: =COUNTIF('2026'!$M$1142:$M$1233,"*"&C36&"*") -> 0 | Z36: =COUNTIF('2026'!$M$1239:$M$1296,"*"&C36&"*") -> 0 | AA36: =COUNTIF('2026'!$M$1304:$M$1366,"*"&C36&"*") -> 0 | AB36: =COUNTIF('2026'!$M$1372:$M$1449,"*"&C36&"*") -> 0 | AC36: =COUNTIF('2026'!$M$1462:$M$1463,"*"&C36&"*") -> 0 | AD36: =COUNTIF('2026'!$M$1480:$M$1593,"*"&C36&"*") -> 0 | AE36: =SUM(F36:AD36) -> 253 | AF36: =COUNTIF('2026'!$M$144:$M$1626,"*"&C36&"*") -> 253 | AG36: =AF36/AJ36 -> #DIV/0! | AH36: 0 | AI36: 0 | AJ36: 0
