Workbook

Sheet １～８
A1: 44866 | V1: 1日～8日稼働合計 | AA1: =H10+H18+H26+H34+W10+W18+W26+W34 -> 70 | AD1: 名
B2: 業者 | E2: 行先 | H2: 人数 | J2: 隊員 | P2: 日 | Q2: 業者 | T2: 行先 | W2: 人数 | Y2: 隊員
A3: 1日（火） | B3: 前田建設 | E3: 重国 | H3: 3 | I3: 名 | J3: 岡本善信 | L3: 田中英樹 | N3: 油谷州昭 | P3: 5日（土） | Q3: 山村設備 | T3: 北今宿 | W3: 3 | X3: 名 | Y3: 友久芳彦 | AA3: 池内信夫 | AC3: 田中英樹
B4: 山村設備 | E4: 東山 | H4: 中止 | I4: 名 | J4: 友久芳彦 | L4: 池内信夫 | Q4: 扶蘇興行 | T4: 大江島 | W4: 3 | X4: 名 | Y4: 前田年延 | AA4: 畑中幸雄 | AC4: 岡本善信
B5: 日向土木 | E5: 妻鹿 | H5: 中止 | I5: 名 | J5: 澤田 | Q5: 日伸 | T5: 山崎 | W5: 2 | X5: 名 | Y5: 大崎宏稀 | AA5: 山本善樹
B6: 管清工業 | E6: 播磨町 | H6: 2 | I6: 名 | J6: 大崎宏稀 | L6: 杜山玲子 | Q6: 岡崎組 | T6: 姫路 | W6: 2 | X6: 名 | Y6: 油谷州昭 | AA6: 霞末英一
B7: 扶蘇興行 | E7: 大江島 | H7: 中止 | I7: 名 | J7: 前田年延 | L7: 畑中幸雄 | N7: 霞末英一 | X7: 名
I8: 名 | X8: 名
I9: 名 | X9: 名
H10: =SUM(H3:H9) -> 5 | I10: 名 | W10: =SUM(W3:W9) -> 10 | X10: 名
A11: 2日（水） | B11: 日向土木 | E11: 妻鹿 | H11: 1 | I11: 名 | J11: 香山満 | P11: 6日（日） | Q11: 神姫警備 | T11: 高砂 | W11: 4 | X11: 名 | Y11: 大崎和哉 | AA11: 杜山玲子 | AC11: 岡本善信 田中英樹
B12: 前田建設 | E12: 重国 | H12: 1 | I12: 名 | J12: 油谷州昭 | Q12: バンガード | T12: 見野 | W12: 2 | X12: 名 | Y12: 香山満 | AA12: 前田年延
B13: 管清工業 | E13: 播磨町 | H13: 2 | I13: 名 | J13: 大崎宏稀 | L13: 杜山玲子 | X13: 名
B14: 山村設備 | E14: 東山 | H14: 2 | I14: 名 | J14: 友久芳彦 | L14: 池内信夫 | X14: 名
B15: 住兼 | E15: 船津 | H15: 1 | I15: 名 | J15: 山本茂樹 | X15: 名
I16: 名 | X16: 名
I17: 名 | X17: 名
H18: =SUM(H11:H17) -> 7 | I18: 名 | W18: =SUM(W11:W17) -> 6 | X18: 名
A19: 3日(木） | B19: 神姫警備 | E19: たつの | H19: 4 | I19: 名 | J19: 油谷州昭 | L19: 霞末英一 | N19: 岡本善信 田中英樹 | P19: 7日（月） | Q19: 扶蘇興行 | T19: 大江島 | W19: 3 | X19: 名 | Y19: 前田年延 | AA19: 畑中幸雄 | AC19: 岡本善信
B20: 山村設備 | E20: 北今宿 | H20: 3 | I20: 名 | J20: 友久芳彦 | L20: 池内信夫 | Q20: 日向土木 | T20: 妻鹿 | W20: 1 | X20: 名 | Y20: 澤田
I21: 名 | Q21: 山村設備 | T21: 北今宿 | W21: 3 | X21: 名 | Y21: 友久芳彦 | AA21: 池内信夫 | AC21: 田中英樹
I22: 名 | Q22: 管清工業 | T22: 播磨町 | W22: 2 | X22: 名 | Y22: 大崎宏稀 | AA22: 杜山玲子
I23: 名 | Q23: 森本建設 | T23: 加西 | W23: 1 | X23: 名 | Y23: 山本茂樹
I24: 名 | X24: 名
I25: 名 | X25: 名
H26: =SUM(H19:H25) -> 7 | I26: 名 | W26: =SUM(W19:W25) -> 10 | X26: 名
A27: 4日（金） | B27: 岡崎 | E27: 山崎 | H27: 2 | I27: 名 | J27: 油谷州昭 | L27: 岡本善信 | P27: 8日（火） | Q27: 山村設備 | T27: 北今宿 | W27: 3 | X27: 名 | Y27: 友久芳彦 | AA27: 池内信夫 | AC27: 田中英樹
B28: 前田建設 | E28: 重国 | H28: 2 | I28: 名 | J28: 香山満 | L28: 田中英樹 | Q28: 扶蘇興行 | T28: 大江島 | W28: 3 | X28: 名 | Y28: 前田年延 | AA28: 畑中幸雄 | AC28: 岡本善信
B29: 山村設備 | E29: 中地 | H29: 2 | I29: 名 | J29: 友久芳彦 | L29: 池内信夫 | Q29: 管清工業 | T29: 播磨町 | W29: 2 | X29: 名 | Y29: 大崎宏稀 | AA29: 杜山玲子
B30: 日向土木 | E30: 妻鹿 | H30: 1 | I30: 名 | J30: 澤田 | Q30: 日向土木 | T30: 妻鹿 | W30: 1 | X30: 名 | Y30: 澤田
B31: 扶蘇興行 | E31: 大江島 | H31: 3 | I31: 名 | J31: 前田年延 | L31: 畑中幸雄 | N31: 霞末英一 | Q31: 森本建設 | T31: 加西 | W31: 1 | X31: 名 | Y31: 山本茂樹
B32: 住兼 | E32: 船津 | H32: 1 | I32: 名 | J32: 山本茂樹 | Q32: 岡崎組 | T32: 姫路 | W32: 2 | X32: 名 | Y32: 油谷州昭 | AA32: 霞末英一
B33: 管清工業 | E33: 播磨町 | H33: 2 | I33: 名 | J33: 大崎宏稀 | L33: 杜山玲子 | X33: 名
H34: =SUM(H27:H33) -> 13 | I34: 名 | W34: =SUM(W27:W33) -> 12 | X34: 名

Sheet 9～16
A1: ='１～８'!A1:D1 -> 44866 | V1: 9日～16日稼働合計 | AA1: =H10+H18+H27+H35+W10+W18+W27+W35 -> 86 | AD1: 名
A2: 日 | B2: 業者 | E2: 行先 | H2: 人数 | J2: 隊員 | P2: 日 | Q2: 業者 | T2: 行先 | W2: 人数 | Y2: 隊員
A3: ９日（水） | B3: 山村設備 | E3: 北今宿 | H3: 3 | I3: 名 | J3: 友久芳彦 | L3: 池内信夫 | N3: 油谷州昭 | P3: 13日（日） | Q3: 神姫警備 | T3: 加古川 | W3: 3 | X3: 名 | Y3: 大崎和哉 | AA3: 香山満 | AC3: 伊藤優稀
B4: 橋本建設 | E4: 高砂 | H4: 2 | I4: 名 | J4: 香山満 | L4: 岡本善信 | N4: 鈴木 （研修） | X4: 名
B5: 日向土木 | E5: 妻鹿 | H5: 1 | I5: 名 | J5: 澤田 | X5: 名
B6: 管清工業 | E6: 播磨町 | H6: 2 | I6: 名 | J6: 大崎宏稀 | L6: 杜山玲子 | X6: 名
B7: 扶蘇興行 | E7: 大江島 | H7: 3 | I7: 名 | J7: 前田年延 | L7: 畑中幸雄 | N7: 霞末英一 | X7: 名
B8: 森本建設 | E8: 加西 | H8: 1 | I8: 名 | J8: 山本茂樹 | X8: 名
I9: 名 | X9: 名
H10: =SUM(H3:H9) -> 12 | I10: 名 | W10: =SUM(W3:W9) -> 3 | X10: 名
A11: 10日（木） | B11: 前田建設 | E11: 重国 | H11: 2 | I11: 名 | J11: 大崎和哉 | L11: 山本善樹 | P11: 14日（月） | Q11: 山村設備 | T11: 北今宿 | W11: 3 | X11: 名 | Y11: 友久芳彦 | AA11: 池内信夫 | AC11: 岡本善信
B12: 山村設備 | E12: 北今宿 | H12: 3 | I12: 名 | J12: 友久芳彦 | L12: 池内信夫 | N12: 田中英樹 | Q12: 扶蘇興行 | T12: 大江島 | W12: 3 | X12: 名 | Y12: 前田年延 | AA12: 畑中幸雄 | AC12: 田中英樹
B13: 扶蘇興行 | E13: 大江島 | H13: 3 | I13: 名 | J13: 前田年延 | L13: 畑中幸雄 | N13: 霞末英一 | Q13: 管清工業 | T13: 高砂 | W13: 2 | X13: 名 | Y13: 油谷州昭 | AA13: 霞末英一
B14: 管清工業 | E14: 播磨町 | H14: 2 | I14: 名 | J14: 大崎宏稀 | L14: 油谷州昭 | Q14: 日向土木 | T14: 妻鹿 | W14: 1 | X14: 名 | Y14: 澤田
B15: モリケン | E15: 加西 | H15: 1 | I15: 名 | J15: 山本茂樹 | Q15: 大雅建設 | T15: 別所 | W15: 2 | X15: 名 | Y15: 山本善樹 | AA15: 鈴木隆夫
B16: 橋本建設 | E16: 高砂 | H16: 2 | I16: 名 | J16: 香山満 | L16: 岡本善信 | N16: 鈴木 （研修） | Q16: モリケン | T16: 加西 | W16: 1 | X16: 名 | Y16: 山本茂樹
I17: 名 | X17: 名
H18: =SUM(H11:H17) -> 13 | I18: 名 | W18: =SUM(W11:W17) -> 12 | X18: 名
A19: １１日（金） | B19: 扶蘇興行 | E19: 大江島 | H19: 3 | I19: 名 | J19: 前田年延 | L19: 畑中幸雄 | N19: 霞末英一 | P19: 15日（火） | Q19: 山村設備 | T19: 北今宿 | W19: 3 | X19: 名 | Y19: 友久芳彦 | AA19: 池内信夫 | AC19: 岡本善信
B20: 管清工業 | E20: 播磨町 | H20: 2 | I20: 名 | J20: 大崎宏稀 | L20: 油谷州昭 | Q20: 管清工業 | T20: 高砂 | W20: 2 | X20: 名 | Y20: 油谷州昭 | AA20: 霞末英一
B21: モリケン | E21: 加西 | H21: 1 | I21: 名 | J21: 山本茂樹 | Q21: 日向土木 | T21: 妻鹿 | W21: 1 | X21: 名 | Y21: 澤田
B22: 橋本建設 | E22: 高砂 | H22: 2 | I22: 名 | J22: 香山満 | L22: 岡本善信 | N22: 鈴木 （研修） | Q22: 大雅建設 | T22: 別所 | W22: 2 | X22: 名 | Y22: 山本善樹 | AA22: 鈴木隆夫
B23: 山村設備 | E23: 北今宿 | H23: 3 | I23: 名 | J23: 友久芳彦 | L23: 池内信夫 | N23: 田中英樹 | Q23: 大洋 | T23: 吉川 | W23: 1 | X23: 名 | Y23: 大崎和哉
I24: 名 | Q24: 日伸 | T24: 宍粟 | W24: 1 | X24: 名 | Y24: 大崎宏稀
I25: 名 | Q25: 陸設備 | T25: 手柄 | W25: 2 | X25: 名 | Y25: 杜山玲子 | AA25: 香山満
I26: 名 | Q26: モリケン | T26: 加西 | W26: 1 | X26: 名 | Y26: 山本茂樹
H27: =SUM(H19:H26) -> 11 | I27: 名 | W27: =SUM(W19:W26) -> 13 | X27: 名
A28: 12日（土） | B28: 山村設備 | E28: 北今宿 | H28: 3 | I28: 名 | J28: 友久芳彦 | L28: 池内信夫 | N28: 田中英樹 | P28: 16日（水） | Q28: 山村設備 | T28: 北今宿 | W28: 4 | X28: 名 | Y28: 大崎和哉 | AA28: 友久芳彦 | AC28: 池内信夫 岡本善信
B29: モリケン | E29: 加西 | H29: 1 | I29: 名 | J29: 山本茂樹 | Q29: 扶蘇興行 | T29: 大江島 | W29: 3 | X29: 名 | Y29: 前田年延 | AA29: 畑中幸雄 | AC29: 田中英樹
B30: 扶蘇興行 | E30: 大江島 | H30: 3 | I30: 名 | J30: 前田年延 | L30: 畑中幸雄 | N30: 霞末英一 | Q30: 日伸 | T30: 宍粟 | W30: 2 | X30: 名 | Y30: 大崎宏稀 | AA30: 山本善樹
I31: 名 | Q31: モリケン | T31: 加西 | W31: 1 | X31: 名 | Y31: 山本茂樹
I32: 名 | Q32: 陸設備 | T32: 手柄 | W32: 1 | X32: 名 | Y32: 杜山玲子
I33: 名 | Q33: 大雅建設 | T33: 別所 | W33: 2 | X33: 名 | Y33: 香山満 | AA33: 鈴木隆夫
I34: 名 | Q34: 管清工業 | T34: 播磨町 | W34: 2 | X34: 名 | Y34: 油谷州昭 | AA34: 霞末英一
H35: =SUM(H28:H34) -> 7 | I35: 名 | W35: =SUM(W28:W34) -> 15 | X35: 名

Sheet 17～24
A1: ='9～16'!A1:D1 -> 44866 | V1: 17日～24日稼働合計 | AA1: =H10+H19+H27+H35+W10+W19+W27+W35 -> 64 | AD1: 名
A2: 日 | B2: 業者 | E2: 行先 | H2: 人数 | J2: 隊員 | P2: 日 | Q2: 業者 | T2: 行先 | W2: 人数 | Y2: 隊員
A3: 1７日（木） | B3: 山村設備 | E3: 白浜 | H3: 3 | I3: 名 | J3: 岡本善信 | L3: 大崎和哉 | N3: 杜山玲子 | P3: ２１日（月） | Q3: 山村設備 | T3: 北今宿 | W3: 3 | X3: 名 | Y3: 友久芳彦 | AA3: 池内信夫 | AC3: 岡本善信
B4: 扶蘇興行 | E4: 大江島 | H4: 3 | I4: 名 | J4: 前田年延 | L4: 畑中幸雄 | N4: 田中英樹 | Q4: モリケン | T4: 加西 | W4: 1 | X4: 名 | Y4: 山本茂樹
B5: 日伸 | E5: 宍粟 | H5: 2 | I5: 名 | J5: 大崎宏稀 | L5: 山本善樹 | Q5: 大雅建設 | T5: 別所 | W5: 2 | X5: 名 | Y5: 山本善樹 | AA5: 田中英樹
B6: モリケン | E6: 加西 | H6: 1 | I6: 名 | J6: 山本茂樹 | Q6: 扶蘇興行 | T6: 大江島 | W6: 2 | X6: 名 | Y6: 前田年延 | AA6: 畑中幸雄 | AC6: 霞末英一
B7: 日向土木 | E7: 妻鹿 | H7: 1 | I7: 名 | J7: 澤田 | Q7: 橋本建設 | T7: 高砂 | W7: 2 | X7: 名 | Y7: 香山満 | AA7: 鈴木隆夫
B8: 管清工業 | E8: 播磨町 | H8: 2 | I8: 名 | J8: 油谷州昭 | L8: 霞末英一 | Q8: 日向土木 | T8: 妻鹿 | W8: 1 | X8: 名 | Y8: 澤田
B9: 秋元建設 | E9: 広畑 | H9: 1 | I9: 名 | J9: 友久芳彦 | X9: 名
H10: =SUM(H3:H9) -> 13 | I10: 名 | W10: =SUM(W3:W9) -> 11 | X10: 名
A11: 18日（金） | B11: 秋元建設 | E11: 広畑 | H11: 1 | I11: 名 | J11: 友久芳彦 | P11: 22日（火） | Q11: 山村設備 | T11: 北今宿 | W11: 3 | X11: 名 | Y11: 友久芳彦 | AA11: 池内信夫 | AC11: 岡本善信
B12: 管清工業 | E12: 播磨町 | H12: 2 | I12: 名 | J12: 油谷州昭 | L12: 霞末英一 | Q12: 大雅建設 | T12: 別所 | W12: 2 | X12: 名 | Y12: 田中英樹 | AA12: 山本善樹
B13: 大雅建設 | E13: 別所 | H13: 2 | I13: 名 | J13: 香山満 | L13: 鈴木隆夫 | Q13: モリケン | T13: 加西 | W13: 1 | X13: 名 | Y13: 山本茂樹
B14: 日向土木 | E14: 妻鹿 | H14: 1 | I14: 名 | J14: 澤田 | Q14: 扶蘇興行 | T14: 大江島 | W14: 3 | X14: 名 | Y14: 前田年延 | AA14: 畑中幸雄 | AC14: 霞末英一
B15: 日伸 | E15: たつの | H15: 2 | I15: 名 | J15: 大崎宏稀 | L15: 前田年延 | Q15: 日向土木 | T15: 妻鹿 | W15: 1 | X15: 名 | Y15: 澤田
B16: 大洋 | E16: 三木 | H16: 1 | I16: 名 | J16: 山本善樹 | Q16: 前田建設 | T16: 豊富 | W16: 2 | X16: 名 | Y16: 油谷州昭 | AA16: 大崎和哉
B17: モリケン | E17: 加西 | H17: 1 | I17: 名 | J17: 山本茂樹 | Q17: 大洋 | T17: 三木 | W17: 2 | X17: 名 | Y17: 大崎宏稀 | AA17: 山名保夫
B18: 山村設備 | E18: 白浜 | H18: 2 | I18: 名 | J18: 岡本善信 | L18: 田中英樹 | Q18: 橋本建設 | T18: 高砂 | W18: 2 | X18: 名 | Y18: 香山満 | AA18: 杜山玲子
H19: =SUM(H11:H18) -> 12 | I19: 名 | W19: =SUM(W11:W18) -> 16 | X19: 名
A20: 19日（土） | B20: 住兼 | E20: 余部 | H20: 2 | I20: 名 | J20: 前田年延 | L20: 畑中幸雄 | P20: ２３日（水） | X20: 名
B21: モリケン | E21: 加西 | H21: 1 | I21: 名 | J21: 山本茂樹 | X21: 名
I22: 名 | X22: 名
I23: 名 | X23: 名
I24: 名 | X24: 名
I25: 名 | X25: 名
I26: 名 | X26: 名
H27: =SUM(H20:H26) -> 3 | I27: 名 | W27: =SUM(W20:W26) -> 0 | X27: 名
A28: 20日（日） | I28: 名 | P28: 24日（木） | Q28: 大雅建設 | T28: 別所 | W28: 2 | X28: 名 | Y28: 山本善樹 | AA28: 田中英樹
I29: 名 | Q29: 日向土木 | T29: 妻鹿 | W29: 1 | X29: 名 | Y29: 澤田
I30: 名 | Q30: 管清工業 | T30: 播磨町 | W30: 2 | X30: 名 | Y30: 油谷州昭 | AA30: 岡本善信
I31: 名 | Q31: 橋本建設 | T31: 高砂 | W31: 2 | X31: 名 | Y31: 香山満 | AA31: 鈴木隆夫
I32: 名 | Q32: モリケン | T32: 加西 | W32: 1 | X32: 名 | Y32: 山本茂樹
I33: 名 | Q33: 大洋 | T33: 姫路 | W33: 1 | X33: 名 | Y33: 山名保夫
I34: 名 | X34: 名
H35: =SUM(H28:H34) -> 0 | I35: 名 | W35: =SUM(W28:W34) -> 9 | X35: 名

Sheet 25～31
A1: ='17～24'!A1:D1 -> 44866 | V1: 25日～30日稼働合計 | AA1: =H12+H23+H31+H41+W12+W23+W31+W41 -> 71 | AD1: 名
A2: 日 | B2: 業者 | E2: 行先 | H2: 人数 | J2: 隊員 | P2: 日 | Q2: 業者 | T2: 行先 | W2: 人数 | Y2: 隊員
A3: 25日（金） | B3: 橋本建設 | E3: 高砂 | H3: 2 | I3: 名 | J3: 香山満 | L3: 鈴木隆夫 | P3: 29日（火） | Q3: 橋本建設 | T3: 高砂 | W3: 1 | X3: 名 | Y3: 香山満
B4: 扶蘇工業 | E4: 大江島 | H4: 3 | I4: 名 | J4: 前田年延 | L4: 畑中幸雄 | N4: 田中英樹 | Q4: 扶蘇興行 | T4: 大江島 | W4: 中止 | Y4: 前田年延 | AA4: 畑中幸雄 | AC4: 霞末英一
B5: 山村設備 | E5: 北今宿 | H5: 3 | I5: 名 | J5: 友久芳彦 | L5: 池内信夫 | N5: 岡本善信 | Q5: 山村設備 | T5: 北今宿 | W5: 中止 | X5: 名 | Y5: 岡本善信
B6: 住兼 | E6: 姫路 | H6: 2 | I6: 名 | J6: 杜山玲子 | L6: 大崎宏稀 | Q6: 管清工業 | T6: 播磨町 | W6: 2 | X6: 名 | Y6: 大崎和哉 | AA6: 油谷州昭
B7: モリケン | E7: 加西 | H7: 1 | I7: 名 | J7: 山本茂樹 | Q7: 住兼 | T7: 姫路 | W7: 中止 | Y7: 大崎宏稀 | AA7: 杜山玲子
B8: 大雅建設 | E8: 別所 | H8: 2 | I8: 名 | J8: 山本善樹 | L8: 鴻斉かおり | Q8: モリケン | T8: 加西 | W8: 1 | X8: 名 | Y8: 山本茂樹
B9: 大洋 | E9: 三木 | H9: 1 | I9: 名 | J9: 大崎和哉 | L9: 山名保夫 | Q9: 大洋 | T9: 三木 | W9: 中止 | X9: 名 | Y9: 山本善樹
B10: 管清工業 | E10: 播磨町 | H10: 1 | I10: 名 | J10: 油谷州昭 | Q10: 日向土木 | T10: 妻鹿 | W10: 1 | X10: 名 | Y10: 澤田
B11: 日向土木 | E11: 妻鹿 | H11: 1 | I11: 名 | J11: 澤田 | Q11: 前田建設 | T11: 姫路 | W11: 2 | X11: 名 | Y11: 友久芳彦 | AA11: 池内信夫
H12: =SUM(H3:H11) -> 16 | I12: 名 | W12: =SUM(W3:W11) -> 7 | X12: 名
A13: 26日（土） | B13: 扶蘇工業 | E13: 大江島 | H13: 3 | I13: 名 | J13: 前田年延 | L13: 畑中幸雄 | N13: 田中英樹 | P13: 30日（水） | Q13: 管清工業 | T13: 播磨町 | W13: 2 | X13: 名 | Y13: 大崎和哉 | AA13: 油谷州昭
B14: 山村設備 | E14: 北今宿 | H14: 3 | I14: 名 | J14: 友久芳彦 | L14: 池内信夫 | N14: 岡本善信 | Q14: 秋元建設 | T14: 広畑 | W14: 1 | X14: 名 | Y14: 霞末英一
B15: 住兼 | E15: 姫路 | H15: 2 | I15: 名 | J15: 大崎宏稀 | L15: 杜山玲子 | Q15: 前田建設 | T15: 飾東 | W15: 2 | X15: 名 | Y15: 友久芳彦 | AA15: 池内信夫
B16: モリケン | E16: 加西 | H16: 1 | I16: 名 | J16: 山本茂樹 | Q16: 扶蘇興行 | T16: 大江島 | W16: 3 | X16: 名 | Y16: 前田年延 | AA16: 橋本建設 | AC16: 田中英樹
B17: 大洋 | E17: 三木 | H17: 2 | I17: 名 | J17: 山本善樹 | L17: 大崎和哉 | Q17: モリケン | T17: 加西 | W17: 1 | X17: 名 | Y17: 山本善樹
B18: 橋本建設 | E18: 高砂 | H18: 2 | I18: 名 | J18: 香山満 | L18: 鈴木隆夫 | Q18: 大雅建設 | T18: 別所 | W18: 1 | X18: 名 | Y18: 鴻斉かおり
B19: 日向土木 | E19: 妻鹿 | H19: 1 | I19: 名 | J19: 澤田 | Q19: 橋本建設 | T19: 高砂 | W19: 2 | X19: 名 | Y19: 香山満 | AA19: 鈴木隆夫
I20: 名 | Q20: 住兼 | T20: 姫路 | W20: 2 | X20: 名 | Y20: 大崎宏稀 | AA20: 杜山玲子
I21: 名 | Q21: 山村設備 | T21: 北今宿 | W21: 1 | X21: 名 | Y21: 岡本善信
I22: 名 | Q22: 日向土木 | T22: 妻鹿 | W22: 1 | X22: 名 | Y22: 澤田
H23: =SUM(H13:H22) -> 14 | I23: 名 | W23: =SUM(W13:W22) -> 16 | X23: 名
A24: 27日（日） | B24: 神姫警備 | E24: たつの | H24: 2 | I24: 名 | J24: 香山満 | L24: 大崎和哉 | X24: 名
I25: 名 | X25: 名
I26: 名 | X26: 名
I27: 名 | X27: 名
I28: 名 | X28: 名
I29: 名 | X29: 名
I30: 名 | X30: 名
H31: =SUM(H24:H30) -> 2 | I31: 名 | W31: =SUM(W24:W30) -> 0 | X31: 名
A32: 28日（月） | B32: 前田建設 | E32: 飾東 | H32: 2 | I32: 名 | J32: 友久芳彦 | L32: 池内信夫
B33: 住兼 | E33: 姫路 | H33: 2 | I33: 名 | J33: 大崎宏稀 | L33: 杜山玲子 | N33: 山名保夫
B34: 橋本建設 | E34: 高砂 | H34: 2 | I34: 名 | J34: 香山満 | L34: 鈴木隆夫
B35: 日向土木 | E35: 妻鹿 | H35: 2 | I35: 名 | J35: 澤田 | L35: 大崎和哉 | Q35: 1日～8日稼働合計 | W35: ='１～８'!H10+'１～８'!W10+'１～８'!H18+'１～８'!W18+'１～８'!H26+'１～８'!W26+'１～８'!H34+'１～８'!W34 -> 70 | Z35: 名
B36: 管清工業 | E36: 播磨町 | H36: 2 | I36: 名 | J36: 油谷州昭 | L36: 霞末英一 | Q36: 9日～16日稼働合計 | W36: ='9～16'!H10+'9～16'!W10+'9～16'!H18+'9～16'!W18+'9～16'!H27+'9～16'!W27+'9～16'!H35+'9～16'!W35 -> 86 | Z36: 名
B37: 山村設備 | E37: 北今宿 | H37: 1 | I37: 名 | J37: 岡本善信 | Q37: 17日～24日稼働合計 | W37: ='17～24'!H10+'17～24'!W10+'17～24'!H19+'17～24'!W19+'17～24'!H27+'17～24'!W27+'17～24'!H35+'17～24'!W35 -> 64 | Z37: 名
B38: モリケン | E38: 加西 | H38: 1 | I38: 名 | J38: 山本茂樹 | Q38: 25日～31日稼働合計 | W38: =H12+H23+H31+H41+W12+W23+W31 -> 71 | Z38: 名
B39: 大雅建設 | E39: 別所 | H39: 1 | I39: 名 | J39: 山本善樹 | T39: 総稼働 | W39: =SUM(W35:W38) -> 291 | Z39: 名
B40: 扶蘇工業 | E40: 大江島 | H40: 3 | I40: 名 | J40: 前田年延 | L40: 畑中幸雄 | N40: 田中英樹 | T40: 1日平均数 | W40: =W39/30 -> 9.7 | Z40: 名
...

Sheet Sheet5
B11: 44986

Sheet ワンコール
A1: ３月 | B1: 香山満 | D1: 前田年延 | F1: 友久芳彦 | H1: 岡本善信 | J1: 杜山玲子 | L1: 畑中幸雄 | N1: 霞末英一 | P1: 池内信夫 | R1: 山本兄 | T1: 山本弟 | V1: 田中英樹 | X1: 高木秀勝 | Z1: 宏稀 | AB1: 和哉
A2: 1日
A3: 2日
A4: 3日
A5: 4日
A6: 5日
A7: 6日
A8: 7日
A9: 8日
A10: 9日
A11: 10日
A12: 11日
A13: 12日
... A32: 31日
